BEGIN:VCALENDAR
VERSION:2.0
PRODID:-//Manege Zwolle - ECPv6.15.20//NONSGML v1.0//EN
CALSCALE:GREGORIAN
METHOD:PUBLISH
X-ORIGINAL-URL:https://www.manegezwolle.nl
X-WR-CALDESC:Evenementen voor Manege Zwolle
REFRESH-INTERVAL;VALUE=DURATION:PT1H
X-Robots-Tag:noindex
X-PUBLISHED-TTL:PT1H
BEGIN:VTIMEZONE
TZID:UTC
BEGIN:STANDARD
TZOFFSETFROM:+0000
TZOFFSETTO:+0000
TZNAME:UTC
DTSTART:20250101T000000
END:STANDARD
END:VTIMEZONE
BEGIN:VEVENT
DTSTART;TZID=UTC:20260110T170000
DTEND;TZID=UTC:20260111T210000
DTSTAMP:20260422T044319
CREATED:20251026T111724Z
LAST-MODIFIED:20251026T114137Z
UID:3551-1768064400-1768165200@www.manegezwolle.nl
SUMMARY:KNHS Dressuurwedstrijd
DESCRIPTION:KNHS Dressuurwedstrijd\nZaterdagavond paarden\nZondag paarden en pony’s\nKijk op www.startlijsten.nl en mijnKNHS voor meer informatie en opgeven
URL:https://www.manegezwolle.nl/event/knhs-dressuurwedstrijd-4/
END:VEVENT
BEGIN:VEVENT
DTSTART;TZID=UTC:20260118T100000
DTEND;TZID=UTC:20260118T170000
DTSTAMP:20260422T044319
CREATED:20251026T114919Z
LAST-MODIFIED:20251026T114919Z
UID:3566-1768730400-1768755600@www.manegezwolle.nl
SUMMARY:F proevendag
DESCRIPTION:F proeven dag voor alle niveau.\nOpgeven kan via het inschrijfformulier op de website.
URL:https://www.manegezwolle.nl/event/f-proevendag/
END:VEVENT
BEGIN:VEVENT
DTSTART;TZID=UTC:20260124T170000
DTEND;TZID=UTC:20260125T210000
DTSTAMP:20260422T044319
CREATED:20251026T114231Z
LAST-MODIFIED:20251026T114231Z
UID:3553-1769274000-1769374800@www.manegezwolle.nl
SUMMARY:KNHS Dressuurwedstrijd
DESCRIPTION:KNHS Dressuurwedstrijd\nZaterdagavond paarden\nZondag paarden en pony’s\nKijk op www.startlijsten.nl en mijnKNHS voor meer informatie en opgeven
URL:https://www.manegezwolle.nl/event/knhs-dressuurwedstrijd-5/
END:VEVENT
END:VCALENDAR