BEGIN:VCALENDAR
VERSION:2.0
PRODID:-//Manege Zwolle - ECPv6.15.20//NONSGML v1.0//EN
CALSCALE:GREGORIAN
METHOD:PUBLISH
X-WR-CALNAME:Manege Zwolle
X-ORIGINAL-URL:https://www.manegezwolle.nl
X-WR-CALDESC:Evenementen voor Manege Zwolle
REFRESH-INTERVAL;VALUE=DURATION:PT1H
X-Robots-Tag:noindex
X-PUBLISHED-TTL:PT1H
BEGIN:VTIMEZONE
TZID:UTC
BEGIN:STANDARD
TZOFFSETFROM:+0000
TZOFFSETTO:+0000
TZNAME:UTC
DTSTART:20240101T000000
END:STANDARD
END:VTIMEZONE
BEGIN:VEVENT
DTSTART;TZID=UTC:20251101T170000
DTEND;TZID=UTC:20251102T200000
DTSTAMP:20260422T081143
CREATED:20251026T111334Z
LAST-MODIFIED:20251026T111334Z
UID:3545-1762016400-1762113600@www.manegezwolle.nl
SUMMARY:KNHS Dressuurwedstrijd
DESCRIPTION:KNHS Dressuurwedstrijd\nZaterdagavond paarden\nZondag paarden en pony’s\nKijk op www.startlijsten.nl en mijnKNHS voor meer informatie en opgeven
URL:https://www.manegezwolle.nl/event/knhs-dressuurwedstrijd/
END:VEVENT
BEGIN:VEVENT
DTSTART;TZID=UTC:20251109T100000
DTEND;TZID=UTC:20251109T170000
DTSTAMP:20260422T081143
CREATED:20251026T114849Z
LAST-MODIFIED:20251026T114855Z
UID:3563-1762682400-1762707600@www.manegezwolle.nl
SUMMARY:F proeven dag
DESCRIPTION:F proeven dag voor alle niveau.\nOpgeven kan via het inschrijfformulier op de website.
URL:https://www.manegezwolle.nl/event/f-proeven-dag-9/
END:VEVENT
BEGIN:VEVENT
DTSTART;TZID=UTC:20251115T170000
DTEND;TZID=UTC:20251116T210000
DTSTAMP:20260422T081143
CREATED:20251026T111552Z
LAST-MODIFIED:20251026T111603Z
UID:3547-1763226000-1763326800@www.manegezwolle.nl
SUMMARY:KNHS Dressuurwedstrijd
DESCRIPTION:KNHS Dressuurwedstrijd\nZaterdagavond paarden\nZondag paarden en pony’s\nKijk op www.startlijsten.nl en mijnKNHS voor meer informatie en opgeven
URL:https://www.manegezwolle.nl/event/knhs-dressuurwedstrijd-2/
END:VEVENT
BEGIN:VEVENT
DTSTART;VALUE=DATE:20251123
DTEND;VALUE=DATE:20251124
DTSTAMP:20260422T081143
CREATED:20251026T163726Z
LAST-MODIFIED:20251026T164056Z
UID:3598-1763856000-1763942399@www.manegezwolle.nl
SUMMARY:Regiofinale NK Manegeruiters
DESCRIPTION:Regiofinale van het NK Manegeruiters \nKlik hier voor meer info: KNHS NK Manegeruiters
URL:https://www.manegezwolle.nl/event/regiofinale-nk-manegeruiters/
END:VEVENT
BEGIN:VEVENT
DTSTART;TZID=UTC:20251130T100000
DTEND;TZID=UTC:20251130T170000
DTSTAMP:20260422T081143
CREATED:20251026T140725Z
LAST-MODIFIED:20251026T141410Z
UID:3585-1764496800-1764522000@www.manegezwolle.nl
SUMMARY:Fotoshoot
DESCRIPTION:Fotoshoot voor jou en je manegetopper!\nFlash fotografie komt langs om jou vast te leggen samen met jouw kanjer.\nopgeven via: info@flash-fotografie.nl \nLet op! VOL=VOL
URL:https://www.manegezwolle.nl/event/fotoshoot/
END:VEVENT
END:VCALENDAR