BEGIN:VCALENDAR
VERSION:2.0
PRODID:-//Manege Zwolle - ECPv6.15.20//NONSGML v1.0//EN
CALSCALE:GREGORIAN
METHOD:PUBLISH
X-WR-CALNAME:Manege Zwolle
X-ORIGINAL-URL:https://www.manegezwolle.nl
X-WR-CALDESC:Evenementen voor Manege Zwolle
REFRESH-INTERVAL;VALUE=DURATION:PT1H
X-Robots-Tag:noindex
X-PUBLISHED-TTL:PT1H
BEGIN:VTIMEZONE
TZID:UTC
BEGIN:STANDARD
TZOFFSETFROM:+0000
TZOFFSETTO:+0000
TZNAME:UTC
DTSTART:20150101T000000
END:STANDARD
END:VTIMEZONE
BEGIN:VEVENT
DTSTART;VALUE=DATE:20160723
DTEND;VALUE=DATE:20160724
DTSTAMP:20260423T194420
CREATED:20160319T123927Z
LAST-MODIFIED:20160319T123927Z
UID:386-1469232000-1469318399@www.manegezwolle.nl
SUMMARY:KNHS SUB TOP Dressuur
DESCRIPTION:
URL:https://www.manegezwolle.nl/event/knhs-sub-top-dressuur/
LOCATION:Outdoor\, Haersterveerweg 1A\, Zwolle\, 8034PJ\, Nederland
END:VEVENT
BEGIN:VEVENT
DTSTART;VALUE=DATE:20160723
DTEND;VALUE=DATE:20160724
DTSTAMP:20260423T194420
CREATED:20160128T200538Z
LAST-MODIFIED:20160128T200538Z
UID:213-1469232000-1469318399@www.manegezwolle.nl
SUMMARY:Dressuurwedstrijd subtop
DESCRIPTION:
URL:https://www.manegezwolle.nl/event/dressuurwedstrijd-subtop/
END:VEVENT
BEGIN:VEVENT
DTSTART;TZID=UTC:20160716T080000
DTEND;TZID=UTC:20160717T170000
DTSTAMP:20260423T194420
CREATED:20160319T123842Z
LAST-MODIFIED:20160319T123842Z
UID:385-1468656000-1468774800@www.manegezwolle.nl
SUMMARY:Dressuur wedstrijd RV de Haerst
DESCRIPTION:opgeven via mijn KNHS
URL:https://www.manegezwolle.nl/event/dressuur-wedstrijd-rv-de-haerst-3/
LOCATION:Outdoor\, Haersterveerweg 1A\, Zwolle\, 8034PJ\, Nederland
END:VEVENT
BEGIN:VEVENT
DTSTART;TZID=UTC:20160713T173000
DTEND;TZID=UTC:20160713T230000
DTSTAMP:20260423T194420
CREATED:20160319T120017Z
LAST-MODIFIED:20160319T120017Z
UID:377-1468431000-1468450800@www.manegezwolle.nl
SUMMARY:OEFENPARCOURS
DESCRIPTION:OPGEVEN: landstede@manegezwolle.nl
URL:https://www.manegezwolle.nl/event/oefenparcours-5/
LOCATION:Outdoor\, Haersterveerweg 1A\, Zwolle\, 8034PJ\, Nederland
END:VEVENT
BEGIN:VEVENT
DTSTART;VALUE=DATE:20160710
DTEND;VALUE=DATE:20160711
DTSTAMP:20260423T194420
CREATED:20160704T195317Z
LAST-MODIFIED:20160704T195317Z
UID:421-1468108800-1468195199@www.manegezwolle.nl
SUMMARY:F1 Proeven dag
DESCRIPTION:Leuke Gezellige leerzame proeven dag F1
URL:https://www.manegezwolle.nl/event/f1-proeven-dag/
LOCATION:Indoor\, Haersterveerweg 1A\, Zwolle\, 8034PJ\, Nederland
END:VEVENT
BEGIN:VEVENT
DTSTART;VALUE=DATE:20160702
DTEND;VALUE=DATE:20160703
DTSTAMP:20260423T194420
CREATED:20160319T123600Z
LAST-MODIFIED:20160319T123600Z
UID:384-1467417600-1467503999@www.manegezwolle.nl
SUMMARY:Spring Wedstrijd PSV Noord Veluwe
DESCRIPTION:Opgeven via Mijn KNHS
URL:https://www.manegezwolle.nl/event/spring-wedstrijd-psv-noord-veluwe-2/
LOCATION:Outdoor\, Haersterveerweg 1A\, Zwolle\, 8034PJ\, Nederland
END:VEVENT
BEGIN:VEVENT
DTSTART;TZID=UTC:20160625T080000
DTEND;TZID=UTC:20160626T170000
DTSTAMP:20260423T194420
CREATED:20160319T123426Z
LAST-MODIFIED:20160319T123426Z
UID:383-1466841600-1466960400@www.manegezwolle.nl
SUMMARY:Dressuur Wedstrijd RV de Haerst Paard en Pony's
DESCRIPTION:Opgeven via mijn KNHS
URL:https://www.manegezwolle.nl/event/dressuur-wedstrijd-rv-de-haerst-paard-en-ponys/
LOCATION:Outdoor\, Haersterveerweg 1A\, Zwolle\, 8034PJ\, Nederland
END:VEVENT
BEGIN:VEVENT
DTSTART;TZID=UTC:20160619T090000
DTEND;TZID=UTC:20160619T180000
DTSTAMP:20260423T194420
CREATED:20160526T082016Z
LAST-MODIFIED:20160526T082016Z
UID:406-1466326800-1466359200@www.manegezwolle.nl
SUMMARY:Zitcompetitie 2016
DESCRIPTION:
URL:https://www.manegezwolle.nl/event/zitcompetitie-2016/
LOCATION:Indoor\, Haersterveerweg 1A\, Zwolle\, 8034PJ\, Nederland
CATEGORIES:FNRS
END:VEVENT
BEGIN:VEVENT
DTSTART;VALUE=DATE:20160618
DTEND;VALUE=DATE:20160619
DTSTAMP:20260423T194420
CREATED:20160319T122952Z
LAST-MODIFIED:20160319T122952Z
UID:382-1466208000-1466294399@www.manegezwolle.nl
SUMMARY:Spring Wedstrijd PSV Noord Veluwe
DESCRIPTION:Opgeven via mijn KNHS
URL:https://www.manegezwolle.nl/event/spring-wedstrijd-psv-noord-veluwe/
LOCATION:Outdoor\, Haersterveerweg 1A\, Zwolle\, 8034PJ\, Nederland
END:VEVENT
BEGIN:VEVENT
DTSTART;TZID=UTC:20160615T080000
DTEND;TZID=UTC:20160615T170000
DTSTAMP:20260423T194420
CREATED:20160319T115720Z
LAST-MODIFIED:20160319T115720Z
UID:376-1465977600-1466010000@www.manegezwolle.nl
SUMMARY:OEFENPARCOURS
DESCRIPTION:OPGEVEN: landstede@manegezwolle.nl
URL:https://www.manegezwolle.nl/event/oefenparcours-4/
LOCATION:Outdoor\, Haersterveerweg 1A\, Zwolle\, 8034PJ\, Nederland
END:VEVENT
BEGIN:VEVENT
DTSTART;TZID=UTC:20160518T173000
DTEND;TZID=UTC:20160518T230000
DTSTAMP:20260423T194420
CREATED:20160319T115558Z
LAST-MODIFIED:20160319T115558Z
UID:375-1463592600-1463612400@www.manegezwolle.nl
SUMMARY:OEFENPARCOURS
DESCRIPTION:OPGEVEN: landstede@manegezwolle.nl
URL:https://www.manegezwolle.nl/event/oefenparcours-3/
LOCATION:Outdoor\, Haersterveerweg 1A\, Zwolle\, 8034PJ\, Nederland
END:VEVENT
BEGIN:VEVENT
DTSTART;TZID=UTC:20160514T080000
DTEND;TZID=UTC:20160515T170000
DTSTAMP:20260423T194420
CREATED:20160128T200204Z
LAST-MODIFIED:20160128T200204Z
UID:211-1463212800-1463331600@www.manegezwolle.nl
SUMMARY:Dressuurwedstrijd RV de Haerst
DESCRIPTION:
URL:https://www.manegezwolle.nl/event/dressuurwedstrijd-rv-de-haerst/
LOCATION:Outdoor\, Haersterveerweg 1A\, Zwolle\, 8034PJ\, Nederland
END:VEVENT
BEGIN:VEVENT
DTSTART;VALUE=DATE:20160514
DTEND;VALUE=DATE:20160516
DTSTAMP:20260423T194420
CREATED:20160319T121105Z
LAST-MODIFIED:20160319T121105Z
UID:380-1463184000-1463356799@www.manegezwolle.nl
SUMMARY:Dressuur wedstrijd RV de Haerst
DESCRIPTION:Opgeven via mijn KNHS
URL:https://www.manegezwolle.nl/event/dressuur-wedstrijd-rv-de-haerst-2/
LOCATION:Outdoor\, Haersterveerweg 1A\, Zwolle\, 8034PJ\, Nederland
END:VEVENT
BEGIN:VEVENT
DTSTART;TZID=UTC:20160430T080000
DTEND;TZID=UTC:20160430T170000
DTSTAMP:20260423T194420
CREATED:20160128T200121Z
LAST-MODIFIED:20160128T200121Z
UID:210-1462003200-1462035600@www.manegezwolle.nl
SUMMARY:Springwedstrijd RV de Haerst
DESCRIPTION:
URL:https://www.manegezwolle.nl/event/springwedstrijd-rv-de-haerst/
LOCATION:Outdoor\, Haersterveerweg 1A\, Zwolle\, 8034PJ\, Nederland
END:VEVENT
BEGIN:VEVENT
DTSTART;VALUE=DATE:20160423
DTEND;VALUE=DATE:20160424
DTSTAMP:20260423T194420
CREATED:20160319T120202Z
LAST-MODIFIED:20160319T120202Z
UID:378-1461369600-1461455999@www.manegezwolle.nl
SUMMARY:Hengsten keuring I.H.W.
DESCRIPTION:International Heavy warmblood. Hengsten keuring
URL:https://www.manegezwolle.nl/event/hengsten-keuring-i-h-w/
END:VEVENT
BEGIN:VEVENT
DTSTART;TZID=UTC:20160422T120000
DTEND;TZID=UTC:20160422T180000
DTSTAMP:20260423T194420
CREATED:20160128T200001Z
LAST-MODIFIED:20160128T200001Z
UID:208-1461326400-1461348000@www.manegezwolle.nl
SUMMARY:Landstede Concours
DESCRIPTION:Het Landstede Concours wordt georganiseerd van Landstede. Het is een officiële KNHS-wedstrijd.
URL:https://www.manegezwolle.nl/event/landstede-concours/
LOCATION:Outdoor\, Haersterveerweg 1A\, Zwolle\, 8034PJ\, Nederland
END:VEVENT
BEGIN:VEVENT
DTSTART;TZID=UTC:20160420T173000
DTEND;TZID=UTC:20160420T230000
DTSTAMP:20260423T194420
CREATED:20160319T115433Z
LAST-MODIFIED:20160319T115433Z
UID:374-1461173400-1461193200@www.manegezwolle.nl
SUMMARY:OEFENPARCOURS
DESCRIPTION:
URL:https://www.manegezwolle.nl/event/oefenparcours-2/
LOCATION:Outdoor\, Haersterveerweg 1A\, Zwolle\, 8034PJ\, Nederland
END:VEVENT
BEGIN:VEVENT
DTSTART;TZID=UTC:20160416T080000
DTEND;TZID=UTC:20160417T170000
DTSTAMP:20260423T194420
CREATED:20160319T120643Z
LAST-MODIFIED:20160319T130143Z
UID:379-1460793600-1460912400@www.manegezwolle.nl
SUMMARY:Dressuur wedstrijd RV de Haerst Paarden en Pony's
DESCRIPTION:Opgeven via Mijn KNHS
URL:https://www.manegezwolle.nl/event/dressuur-wedstrijd-rv-de-haerst/
LOCATION:Outdoor\, Haersterveerweg 1A\, Zwolle\, 8034PJ\, Nederland
END:VEVENT
BEGIN:VEVENT
DTSTART;TZID=UTC:20160330T173000
DTEND;TZID=UTC:20160330T230000
DTSTAMP:20260423T194420
CREATED:20160319T115246Z
LAST-MODIFIED:20160319T115246Z
UID:373-1459359000-1459378800@www.manegezwolle.nl
SUMMARY:OEFENPARCOURS
DESCRIPTION:Opgeven: landstede@manegezwolle.nl
URL:https://www.manegezwolle.nl/event/oefenparcours/
END:VEVENT
END:VCALENDAR