BEGIN:VCALENDAR
VERSION:2.0
PRODID:-//Manege Zwolle - ECPv6.15.20//NONSGML v1.0//EN
CALSCALE:GREGORIAN
METHOD:PUBLISH
X-WR-CALNAME:Manege Zwolle
X-ORIGINAL-URL:https://www.manegezwolle.nl
X-WR-CALDESC:Evenementen voor Manege Zwolle
REFRESH-INTERVAL;VALUE=DURATION:PT1H
X-Robots-Tag:noindex
X-PUBLISHED-TTL:PT1H
BEGIN:VTIMEZONE
TZID:UTC
BEGIN:STANDARD
TZOFFSETFROM:+0000
TZOFFSETTO:+0000
TZNAME:UTC
DTSTART:20150101T000000
END:STANDARD
END:VTIMEZONE
BEGIN:VEVENT
DTSTART;VALUE=DATE:20161218
DTEND;VALUE=DATE:20161219
DTSTAMP:20260423T163610
CREATED:20161008T085837Z
LAST-MODIFIED:20161011T185613Z
UID:517-1482019200-1482105599@www.manegezwolle.nl
SUMMARY:Individuele F proeven Wedstrijddag
DESCRIPTION:
URL:https://www.manegezwolle.nl/event/f-proeven-dag-2/
CATEGORIES:FNRS
END:VEVENT
BEGIN:VEVENT
DTSTART;VALUE=DATE:20161211
DTEND;VALUE=DATE:20161212
DTSTAMP:20260423T163610
CREATED:20161008T085321Z
LAST-MODIFIED:20161011T185745Z
UID:513-1481414400-1481500799@www.manegezwolle.nl
SUMMARY:Vaardigheid 1( ma 1600\, ma 1800\, vr 1800\, za 1300
DESCRIPTION:
URL:https://www.manegezwolle.nl/event/vaardigheid-1/
CATEGORIES:FNRS
END:VEVENT
BEGIN:VEVENT
DTSTART;TZID=UTC:20161210T170000
DTEND;TZID=UTC:20161210T210000
DTSTAMP:20260423T163610
CREATED:20161008T085231Z
LAST-MODIFIED:20161011T185820Z
UID:512-1481389200-1481403600@www.manegezwolle.nl
SUMMARY:F3 t/m F8 proevendag ( vr 1600\, vr 1700 )
DESCRIPTION:
URL:https://www.manegezwolle.nl/event/f3-tm-f8-proevendag/
CATEGORIES:FNRS
END:VEVENT
BEGIN:VEVENT
DTSTART;VALUE=DATE:20161127
DTEND;VALUE=DATE:20161128
DTSTAMP:20260423T163610
CREATED:20161008T085745Z
LAST-MODIFIED:20161011T185846Z
UID:516-1480204800-1480291199@www.manegezwolle.nl
SUMMARY:Individuele F proeven Wedstrijddag
DESCRIPTION:
URL:https://www.manegezwolle.nl/event/f-proeven-dag/
CATEGORIES:FNRS
END:VEVENT
BEGIN:VEVENT
DTSTART;TZID=UTC:20161126T170000
DTEND;TZID=UTC:20161126T210000
DTSTAMP:20260423T163610
CREATED:20161008T085636Z
LAST-MODIFIED:20161011T185932Z
UID:515-1480179600-1480194000@www.manegezwolle.nl
SUMMARY:Pas de Deux ( ma 1700\, za 1100\, wo 1700\, di 1600\, di 1900 )
DESCRIPTION:
URL:https://www.manegezwolle.nl/event/pas-de-deux/
CATEGORIES:FNRS
END:VEVENT
BEGIN:VEVENT
DTSTART;TZID=UTC:20161126T130000
DTEND;TZID=UTC:20161126T160000
DTSTAMP:20260423T163610
CREATED:20161114T202320Z
LAST-MODIFIED:20161114T202320Z
UID:559-1480165200-1480176000@www.manegezwolle.nl
SUMMARY:Bestuursvergadering IHW stamboek
DESCRIPTION:
URL:https://www.manegezwolle.nl/event/bestuursvergadering-ihw-stamboek/
END:VEVENT
BEGIN:VEVENT
DTSTART;TZID=UTC:20161120T080000
DTEND;TZID=UTC:20161120T170000
DTSTAMP:20260423T163610
CREATED:20161114T201753Z
LAST-MODIFIED:20161114T201753Z
UID:556-1479628800-1479661200@www.manegezwolle.nl
SUMMARY:KNHS dressuurwedstrijd georganiseerd door vereniging "De Haerst"
DESCRIPTION:
URL:https://www.manegezwolle.nl/event/knhs-dressuurwedstrijd-georganiseerd-door-vereniging-de-haerst/
CATEGORIES:KNHS
END:VEVENT
BEGIN:VEVENT
DTSTART;TZID=UTC:20161119T180000
DTEND;TZID=UTC:20161119T220000
DTSTAMP:20260423T163610
CREATED:20161114T201929Z
LAST-MODIFIED:20161114T201929Z
UID:557-1479578400-1479592800@www.manegezwolle.nl
SUMMARY:Oefen Dressuuravond georganiseerd door "Manege Zwolle"
DESCRIPTION:
URL:https://www.manegezwolle.nl/event/oefen-dressuuravond-georganiseerd-door-manege-zwolle/
END:VEVENT
BEGIN:VEVENT
DTSTART;TZID=UTC:20161119T090000
DTEND;TZID=UTC:20161119T170000
DTSTAMP:20260423T163610
CREATED:20161114T202220Z
LAST-MODIFIED:20161114T202220Z
UID:558-1479546000-1479574800@www.manegezwolle.nl
SUMMARY:Sportdag KNHS opleidingen voor Basis Instructeur Opleidingen
DESCRIPTION:
URL:https://www.manegezwolle.nl/event/sportdag-knhs-opleidingen-voor-basis-instructeur-opleidingen/
END:VEVENT
BEGIN:VEVENT
DTSTART;VALUE=DATE:20161113
DTEND;VALUE=DATE:20161114
DTSTAMP:20260423T163610
CREATED:20161008T084951Z
LAST-MODIFIED:20161011T190105Z
UID:510-1478995200-1479081599@www.manegezwolle.nl
SUMMARY:F0\, en F1 Proevendag ( wo 1530\, ma 1600\, za 930\, vr 1630 )
DESCRIPTION:Opgaven kan via onze website.
URL:https://www.manegezwolle.nl/event/f0-en-f1-proevendag/
CATEGORIES:FNRS
END:VEVENT
BEGIN:VEVENT
DTSTART;TZID=UTC:20161112T170000
DTEND;TZID=UTC:20161112T190000
DTSTAMP:20260423T163610
CREATED:20161008T085105Z
LAST-MODIFIED:20161011T190201Z
UID:511-1478970000-1478977200@www.manegezwolle.nl
SUMMARY:F2 Proevendag ( za 1000\, di 1800\, wo 2000\, vr 1500\, za 1400\, do 1600 )
DESCRIPTION:Opgeven kan via onze website. www.manegezwolle.nl
URL:https://www.manegezwolle.nl/event/f2-proevendag/
CATEGORIES:FNRS
END:VEVENT
BEGIN:VEVENT
DTSTART;VALUE=DATE:20161106
DTEND;VALUE=DATE:20161107
DTSTAMP:20260423T163610
CREATED:20161008T085503Z
LAST-MODIFIED:20161011T190402Z
UID:514-1478390400-1478476799@www.manegezwolle.nl
SUMMARY:Voltige V1 -V3 (wo 1900\, vr 1700 ) en Western  W1- W4 ( ma 1900\, ma 2000\, di 2000\, do 1700 )
DESCRIPTION:
URL:https://www.manegezwolle.nl/event/voltige-v1-v3-en-western-w1-w4/
CATEGORIES:FNRS
END:VEVENT
BEGIN:VEVENT
DTSTART;VALUE=DATE:20161030
DTEND;VALUE=DATE:20161031
DTSTAMP:20260423T163610
CREATED:20161008T084708Z
LAST-MODIFIED:20161025T111124Z
UID:509-1477785600-1477871999@www.manegezwolle.nl
SUMMARY:Individuele F Proeven Wedstrijddag Inschrijving gesloten
DESCRIPTION:F proeven. Vanaf F3
URL:https://www.manegezwolle.nl/event/f-proeven/
LOCATION:Indoor\, Haersterveerweg 1A\, Zwolle\, 8034PJ\, Nederland
CATEGORIES:FNRS
END:VEVENT
BEGIN:VEVENT
DTSTART;TZID=UTC:20161011T080000
DTEND;TZID=UTC:20161011T170000
DTSTAMP:20260423T163610
CREATED:20161023T190547Z
LAST-MODIFIED:20161011T190725Z
UID:525-1476172800-1476205200@www.manegezwolle.nl
SUMMARY:Dressuur wedstrijd RV de Haest Paarden en Pony's
DESCRIPTION:
URL:https://www.manegezwolle.nl/event/dressuur-wedstrijd-rv-de-haest-paarden-en-ponys-2/
CATEGORIES:KNHS
END:VEVENT
BEGIN:VEVENT
DTSTART;VALUE=DATE:20161001
DTEND;VALUE=DATE:20161003
DTSTAMP:20260423T163610
CREATED:20160128T200830Z
LAST-MODIFIED:20160128T200947Z
UID:214-1475280000-1475452799@www.manegezwolle.nl
SUMMARY:NK Western AAHCH & DAWRA
DESCRIPTION:American Appaloosa Horse Club Holland in samenwerking met Dutch Arabian Western Riding Association.
URL:https://www.manegezwolle.nl/event/nk-western-aahch-dawra/
LOCATION:Indoor\, Haersterveerweg 1A\, Zwolle\, 8034PJ\, Nederland
END:VEVENT
BEGIN:VEVENT
DTSTART;VALUE=DATE:20160924
DTEND;VALUE=DATE:20160926
DTSTAMP:20260423T163610
CREATED:20160319T130027Z
LAST-MODIFIED:20160319T130027Z
UID:391-1474675200-1474847999@www.manegezwolle.nl
SUMMARY:Dressuur wedstrijd RV de Haerst Paarden
DESCRIPTION:Opgeven via Mijn KNHS
URL:https://www.manegezwolle.nl/event/dressuur-wedstrijd-rv-de-haerst-paarden/
LOCATION:Outdoor\, Haersterveerweg 1A\, Zwolle\, 8034PJ\, Nederland
END:VEVENT
BEGIN:VEVENT
DTSTART;VALUE=DATE:20160918
DTEND;VALUE=DATE:20160919
DTSTAMP:20260423T163610
CREATED:20160911T154235Z
LAST-MODIFIED:20160911T154235Z
UID:451-1474156800-1474243199@www.manegezwolle.nl
SUMMARY:Opendag Manege Zwolle
DESCRIPTION:
URL:https://www.manegezwolle.nl/event/opendag-manege-zwolle/
END:VEVENT
BEGIN:VEVENT
DTSTART;VALUE=DATE:20160917
DTEND;VALUE=DATE:20160918
DTSTAMP:20260423T163610
CREATED:20160319T125837Z
LAST-MODIFIED:20160319T125837Z
UID:390-1474070400-1474156799@www.manegezwolle.nl
SUMMARY:Spring wedstrijd PSV Noord Veluwe
DESCRIPTION:Opgeven via mijn KNHS
URL:https://www.manegezwolle.nl/event/spring-wedstrijd-psv-noord-veluwe-3/
LOCATION:Outdoor\, Haersterveerweg 1A\, Zwolle\, 8034PJ\, Nederland
END:VEVENT
BEGIN:VEVENT
DTSTART;VALUE=DATE:20160827
DTEND;VALUE=DATE:20160828
DTSTAMP:20260423T163610
CREATED:20160319T125453Z
LAST-MODIFIED:20160319T125453Z
UID:389-1472256000-1472342399@www.manegezwolle.nl
SUMMARY:Springwedstrijd RV de Haerst Paarden
DESCRIPTION:Opgeven via mijn KNHS
URL:https://www.manegezwolle.nl/event/springwedstrijd-rv-de-haerst-paarden/
LOCATION:Outdoor\, Haersterveerweg 1A\, Zwolle\, 8034PJ\, Nederland
END:VEVENT
BEGIN:VEVENT
DTSTART;VALUE=DATE:20160806
DTEND;VALUE=DATE:20160808
DTSTAMP:20260423T163610
CREATED:20160319T124208Z
LAST-MODIFIED:20160319T124208Z
UID:387-1470441600-1470614399@www.manegezwolle.nl
SUMMARY:Dressuur wedstrijd RV de Haest Paarden en Pony's
DESCRIPTION:Opgeven via mijn KNHS
URL:https://www.manegezwolle.nl/event/dressuur-wedstrijd-rv-de-haest-paarden-en-ponys/
LOCATION:Outdoor\, Haersterveerweg 1A\, Zwolle\, 8034PJ\, Nederland
END:VEVENT
BEGIN:VEVENT
DTSTART;VALUE=DATE:20160723
DTEND;VALUE=DATE:20160724
DTSTAMP:20260423T163610
CREATED:20160319T123927Z
LAST-MODIFIED:20160319T123927Z
UID:386-1469232000-1469318399@www.manegezwolle.nl
SUMMARY:KNHS SUB TOP Dressuur
DESCRIPTION:
URL:https://www.manegezwolle.nl/event/knhs-sub-top-dressuur/
LOCATION:Outdoor\, Haersterveerweg 1A\, Zwolle\, 8034PJ\, Nederland
END:VEVENT
BEGIN:VEVENT
DTSTART;VALUE=DATE:20160723
DTEND;VALUE=DATE:20160724
DTSTAMP:20260423T163610
CREATED:20160128T200538Z
LAST-MODIFIED:20160128T200538Z
UID:213-1469232000-1469318399@www.manegezwolle.nl
SUMMARY:Dressuurwedstrijd subtop
DESCRIPTION:
URL:https://www.manegezwolle.nl/event/dressuurwedstrijd-subtop/
END:VEVENT
BEGIN:VEVENT
DTSTART;TZID=UTC:20160716T080000
DTEND;TZID=UTC:20160717T170000
DTSTAMP:20260423T163610
CREATED:20160319T123842Z
LAST-MODIFIED:20160319T123842Z
UID:385-1468656000-1468774800@www.manegezwolle.nl
SUMMARY:Dressuur wedstrijd RV de Haerst
DESCRIPTION:opgeven via mijn KNHS
URL:https://www.manegezwolle.nl/event/dressuur-wedstrijd-rv-de-haerst-3/
LOCATION:Outdoor\, Haersterveerweg 1A\, Zwolle\, 8034PJ\, Nederland
END:VEVENT
BEGIN:VEVENT
DTSTART;TZID=UTC:20160713T173000
DTEND;TZID=UTC:20160713T230000
DTSTAMP:20260423T163610
CREATED:20160319T120017Z
LAST-MODIFIED:20160319T120017Z
UID:377-1468431000-1468450800@www.manegezwolle.nl
SUMMARY:OEFENPARCOURS
DESCRIPTION:OPGEVEN: landstede@manegezwolle.nl
URL:https://www.manegezwolle.nl/event/oefenparcours-5/
LOCATION:Outdoor\, Haersterveerweg 1A\, Zwolle\, 8034PJ\, Nederland
END:VEVENT
BEGIN:VEVENT
DTSTART;VALUE=DATE:20160710
DTEND;VALUE=DATE:20160711
DTSTAMP:20260423T163610
CREATED:20160704T195317Z
LAST-MODIFIED:20160704T195317Z
UID:421-1468108800-1468195199@www.manegezwolle.nl
SUMMARY:F1 Proeven dag
DESCRIPTION:Leuke Gezellige leerzame proeven dag F1
URL:https://www.manegezwolle.nl/event/f1-proeven-dag/
LOCATION:Indoor\, Haersterveerweg 1A\, Zwolle\, 8034PJ\, Nederland
END:VEVENT
BEGIN:VEVENT
DTSTART;VALUE=DATE:20160702
DTEND;VALUE=DATE:20160703
DTSTAMP:20260423T163610
CREATED:20160319T123600Z
LAST-MODIFIED:20160319T123600Z
UID:384-1467417600-1467503999@www.manegezwolle.nl
SUMMARY:Spring Wedstrijd PSV Noord Veluwe
DESCRIPTION:Opgeven via Mijn KNHS
URL:https://www.manegezwolle.nl/event/spring-wedstrijd-psv-noord-veluwe-2/
LOCATION:Outdoor\, Haersterveerweg 1A\, Zwolle\, 8034PJ\, Nederland
END:VEVENT
BEGIN:VEVENT
DTSTART;TZID=UTC:20160625T080000
DTEND;TZID=UTC:20160626T170000
DTSTAMP:20260423T163610
CREATED:20160319T123426Z
LAST-MODIFIED:20160319T123426Z
UID:383-1466841600-1466960400@www.manegezwolle.nl
SUMMARY:Dressuur Wedstrijd RV de Haerst Paard en Pony's
DESCRIPTION:Opgeven via mijn KNHS
URL:https://www.manegezwolle.nl/event/dressuur-wedstrijd-rv-de-haerst-paard-en-ponys/
LOCATION:Outdoor\, Haersterveerweg 1A\, Zwolle\, 8034PJ\, Nederland
END:VEVENT
BEGIN:VEVENT
DTSTART;TZID=UTC:20160619T090000
DTEND;TZID=UTC:20160619T180000
DTSTAMP:20260423T163610
CREATED:20160526T082016Z
LAST-MODIFIED:20160526T082016Z
UID:406-1466326800-1466359200@www.manegezwolle.nl
SUMMARY:Zitcompetitie 2016
DESCRIPTION:
URL:https://www.manegezwolle.nl/event/zitcompetitie-2016/
LOCATION:Indoor\, Haersterveerweg 1A\, Zwolle\, 8034PJ\, Nederland
CATEGORIES:FNRS
END:VEVENT
BEGIN:VEVENT
DTSTART;VALUE=DATE:20160618
DTEND;VALUE=DATE:20160619
DTSTAMP:20260423T163610
CREATED:20160319T122952Z
LAST-MODIFIED:20160319T122952Z
UID:382-1466208000-1466294399@www.manegezwolle.nl
SUMMARY:Spring Wedstrijd PSV Noord Veluwe
DESCRIPTION:Opgeven via mijn KNHS
URL:https://www.manegezwolle.nl/event/spring-wedstrijd-psv-noord-veluwe/
LOCATION:Outdoor\, Haersterveerweg 1A\, Zwolle\, 8034PJ\, Nederland
END:VEVENT
BEGIN:VEVENT
DTSTART;TZID=UTC:20160615T080000
DTEND;TZID=UTC:20160615T170000
DTSTAMP:20260423T163610
CREATED:20160319T115720Z
LAST-MODIFIED:20160319T115720Z
UID:376-1465977600-1466010000@www.manegezwolle.nl
SUMMARY:OEFENPARCOURS
DESCRIPTION:OPGEVEN: landstede@manegezwolle.nl
URL:https://www.manegezwolle.nl/event/oefenparcours-4/
LOCATION:Outdoor\, Haersterveerweg 1A\, Zwolle\, 8034PJ\, Nederland
END:VEVENT
END:VCALENDAR