BEGIN:VCALENDAR
VERSION:2.0
PRODID:-//Manege Zwolle - ECPv6.15.20//NONSGML v1.0//EN
CALSCALE:GREGORIAN
METHOD:PUBLISH
X-WR-CALNAME:Manege Zwolle
X-ORIGINAL-URL:https://www.manegezwolle.nl
X-WR-CALDESC:Evenementen voor Manege Zwolle
REFRESH-INTERVAL;VALUE=DURATION:PT1H
X-Robots-Tag:noindex
X-PUBLISHED-TTL:PT1H
BEGIN:VTIMEZONE
TZID:UTC
BEGIN:STANDARD
TZOFFSETFROM:+0000
TZOFFSETTO:+0000
TZNAME:UTC
DTSTART:20150101T000000
END:STANDARD
END:VTIMEZONE
BEGIN:VEVENT
DTSTART;VALUE=DATE:20180502
DTEND;VALUE=DATE:20180503
DTSTAMP:20260423T130135
CREATED:20180420T081704Z
LAST-MODIFIED:20180420T081719Z
UID:872-1525219200-1525305599@www.manegezwolle.nl
SUMMARY:KNHS Spring Concours
DESCRIPTION:Overdag BB t/m ZZ voor paarden\nVanaf 18.00 uur BB t/m ZZ voor pony’s \nPrijzen zullen worden uitgereikt in producten. \nOpgeven kan door een mail te sturen naar: manegezwolle@hotmail.com
URL:https://www.manegezwolle.nl/event/knhs-spring-concours/
LOCATION:Outdoor\, Haersterveerweg 1A\, Zwolle\, 8034PJ\, Nederland
END:VEVENT
BEGIN:VEVENT
DTSTART;TZID=UTC:20180428T170000
DTEND;TZID=UTC:20180428T200000
DTSTAMP:20260423T130135
CREATED:20180420T082758Z
LAST-MODIFIED:20180426T103434Z
UID:881-1524934800-1524945600@www.manegezwolle.nl
SUMMARY:Voltige Wedstrijd
DESCRIPTION:Zaterdagavond 28 april zal de Voltige wedstrijd plaatsvinden voor de ruiters van Manege Zwolle. \nKlik hier voor de startlijst
URL:https://www.manegezwolle.nl/event/voltige-wedstrijd/
LOCATION:Indoor\, Haersterveerweg 1A\, Zwolle\, 8034PJ\, Nederland
END:VEVENT
BEGIN:VEVENT
DTSTART;VALUE=DATE:20180422
DTEND;VALUE=DATE:20180423
DTSTAMP:20260423T130135
CREATED:20180319T140010Z
LAST-MODIFIED:20180319T140010Z
UID:814-1524355200-1524441599@www.manegezwolle.nl
SUMMARY:Horse Boarding
DESCRIPTION:
URL:https://www.manegezwolle.nl/event/horse-boarding/
END:VEVENT
BEGIN:VEVENT
DTSTART;VALUE=DATE:20180415
DTEND;VALUE=DATE:20180416
DTSTAMP:20260423T130135
CREATED:20180319T135934Z
LAST-MODIFIED:20180319T135934Z
UID:812-1523750400-1523836799@www.manegezwolle.nl
SUMMARY:Beach Soccer Toernooi
DESCRIPTION:
URL:https://www.manegezwolle.nl/event/beach-soccer-toernooi/
END:VEVENT
BEGIN:VEVENT
DTSTART;VALUE=DATE:20180318
DTEND;VALUE=DATE:20180319
DTSTAMP:20260423T130135
CREATED:20170724T121030Z
LAST-MODIFIED:20180129T214707Z
UID:733-1521331200-1521417599@www.manegezwolle.nl
SUMMARY:Manege F proeven wedstrijd inschrijven kan als je het F2 diploma heb behaald
DESCRIPTION:
URL:https://www.manegezwolle.nl/event/f-proeven-dag-8/
END:VEVENT
BEGIN:VEVENT
DTSTART;VALUE=DATE:20180311
DTEND;VALUE=DATE:20180312
DTSTAMP:20260423T130135
CREATED:20170724T120943Z
LAST-MODIFIED:20180129T215018Z
UID:731-1520726400-1520812799@www.manegezwolle.nl
SUMMARY:F0-F1-F2 proeven dag voor alle F0-F1-F2 lessen. Inschrijven kan via de web site na overleg met instructrice
DESCRIPTION:
URL:https://www.manegezwolle.nl/event/f-proeven-dag-f0-f2-2/
END:VEVENT
BEGIN:VEVENT
DTSTART;TZID=UTC:20180224T100000
DTEND;TZID=UTC:20180224T170000
DTSTAMP:20260423T130135
CREATED:20180220T193021Z
LAST-MODIFIED:20180220T193021Z
UID:796-1519466400-1519491600@www.manegezwolle.nl
SUMMARY:Hengstenkeuring I.H.W.
DESCRIPTION:
URL:https://www.manegezwolle.nl/event/hengstenkeuring-i-h-w/
LOCATION:Indoor\, Haersterveerweg 1A\, Zwolle\, 8034PJ\, Nederland
END:VEVENT
BEGIN:VEVENT
DTSTART;VALUE=DATE:20180218
DTEND;VALUE=DATE:20180219
DTSTAMP:20260423T130135
CREATED:20170724T120747Z
LAST-MODIFIED:20180129T214737Z
UID:727-1518912000-1518998399@www.manegezwolle.nl
SUMMARY:Manege F proeven wedstrijd inschrijven kan als je het F2 diploma heb behaald
DESCRIPTION:
URL:https://www.manegezwolle.nl/event/f-proeven-dag-7/
END:VEVENT
BEGIN:VEVENT
DTSTART;VALUE=DATE:20180121
DTEND;VALUE=DATE:20180122
DTSTAMP:20260423T130135
CREATED:20170724T120713Z
LAST-MODIFIED:20170724T120713Z
UID:725-1516492800-1516579199@www.manegezwolle.nl
SUMMARY:F proeven dag
DESCRIPTION:
URL:https://www.manegezwolle.nl/event/f-proeven-dag-6/
END:VEVENT
BEGIN:VEVENT
DTSTART;VALUE=DATE:20171217
DTEND;VALUE=DATE:20171218
DTSTAMP:20260423T130135
CREATED:20170724T120624Z
LAST-MODIFIED:20170724T120624Z
UID:723-1513468800-1513555199@www.manegezwolle.nl
SUMMARY:Kerst Pas de Deux
DESCRIPTION:
URL:https://www.manegezwolle.nl/event/kerst-pas-de-deux/
END:VEVENT
BEGIN:VEVENT
DTSTART;VALUE=DATE:20171126
DTEND;VALUE=DATE:20171127
DTSTAMP:20260423T130135
CREATED:20170724T120531Z
LAST-MODIFIED:20170724T120531Z
UID:721-1511654400-1511740799@www.manegezwolle.nl
SUMMARY:F proeven dag
DESCRIPTION:
URL:https://www.manegezwolle.nl/event/f-proeven-dag-5/
END:VEVENT
BEGIN:VEVENT
DTSTART;VALUE=DATE:20171126
DTEND;VALUE=DATE:20171127
DTSTAMP:20260423T130135
CREATED:20170724T120332Z
LAST-MODIFIED:20170724T120332Z
UID:717-1511654400-1511740799@www.manegezwolle.nl
SUMMARY:F proeven dag vanaf F3
DESCRIPTION:
URL:https://www.manegezwolle.nl/event/f-proeven-dag-vanaf-f3/
END:VEVENT
BEGIN:VEVENT
DTSTART;VALUE=DATE:20171119
DTEND;VALUE=DATE:20171120
DTSTAMP:20260423T130135
CREATED:20170724T120251Z
LAST-MODIFIED:20170724T120251Z
UID:715-1511049600-1511135999@www.manegezwolle.nl
SUMMARY:F proeven dag F0-F2
DESCRIPTION:
URL:https://www.manegezwolle.nl/event/f-proeven-dag-f0-f2/
END:VEVENT
BEGIN:VEVENT
DTSTART;TZID=UTC:20171111T180000
DTEND;TZID=UTC:20171111T230000
DTSTAMP:20260423T130135
CREATED:20170724T120456Z
LAST-MODIFIED:20170724T120456Z
UID:719-1510423200-1510441200@www.manegezwolle.nl
SUMMARY:Western avond
DESCRIPTION:
URL:https://www.manegezwolle.nl/event/western-avond/
END:VEVENT
BEGIN:VEVENT
DTSTART;TZID=UTC:20171109T190000
DTEND;TZID=UTC:20171109T190000
DTSTAMP:20260423T130135
CREATED:20170724T115847Z
LAST-MODIFIED:20170724T115847Z
UID:710-1510254000-1510254000@www.manegezwolle.nl
SUMMARY:Theorie Avond  F 2
DESCRIPTION:
URL:https://www.manegezwolle.nl/event/theorie-avond-f-2/
END:VEVENT
BEGIN:VEVENT
DTSTART;VALUE=DATE:20171015
DTEND;VALUE=DATE:20171016
DTSTAMP:20260423T130135
CREATED:20170724T120120Z
LAST-MODIFIED:20170724T120120Z
UID:713-1508025600-1508111999@www.manegezwolle.nl
SUMMARY:F proeven dag
DESCRIPTION:
URL:https://www.manegezwolle.nl/event/f-proeven-dag-4/
END:VEVENT
BEGIN:VEVENT
DTSTART;VALUE=DATE:20170924
DTEND;VALUE=DATE:20170925
DTSTAMP:20260423T130135
CREATED:20170724T114524Z
LAST-MODIFIED:20170724T114524Z
UID:706-1506211200-1506297599@www.manegezwolle.nl
SUMMARY:F Proeven dag
DESCRIPTION:
URL:https://www.manegezwolle.nl/event/f-proeven-dag-3/
LOCATION:Indoor\, Haersterveerweg 1A\, Zwolle\, 8034PJ\, Nederland
END:VEVENT
BEGIN:VEVENT
DTSTART;TZID=UTC:20170922T193000
DTEND;TZID=UTC:20170922T203000
DTSTAMP:20260423T130135
CREATED:20170724T115711Z
LAST-MODIFIED:20170724T115711Z
UID:708-1506108600-1506112200@www.manegezwolle.nl
SUMMARY:Voorlees Avond\,
DESCRIPTION:Hoe lees ik een proef voor
URL:https://www.manegezwolle.nl/event/voorlees-avond/
LOCATION:Indoor\, Haersterveerweg 1A\, Zwolle\, 8034PJ\, Nederland
END:VEVENT
BEGIN:VEVENT
DTSTART;TZID=UTC:20170408T180000
DTEND;TZID=UTC:20170408T210000
DTSTAMP:20260423T130135
CREATED:20170403T071424Z
LAST-MODIFIED:20170403T071424Z
UID:666-1491674400-1491685200@www.manegezwolle.nl
SUMMARY:F2 proeven dag
DESCRIPTION:
URL:https://www.manegezwolle.nl/event/f2-proeven-dag/
LOCATION:Indoor\, Haersterveerweg 1A\, Zwolle\, 8034PJ\, Nederland
END:VEVENT
BEGIN:VEVENT
DTSTART;TZID=UTC:20170310T180000
DTEND;TZID=UTC:20170310T230000
DTSTAMP:20260423T130135
CREATED:20170724T120904Z
LAST-MODIFIED:20170724T120904Z
UID:729-1489168800-1489186800@www.manegezwolle.nl
SUMMARY:Voltige Avond
DESCRIPTION:
URL:https://www.manegezwolle.nl/event/voltige-avond/
END:VEVENT
BEGIN:VEVENT
DTSTART;VALUE=DATE:20161218
DTEND;VALUE=DATE:20161219
DTSTAMP:20260423T130135
CREATED:20161008T085837Z
LAST-MODIFIED:20161011T185613Z
UID:517-1482019200-1482105599@www.manegezwolle.nl
SUMMARY:Individuele F proeven Wedstrijddag
DESCRIPTION:
URL:https://www.manegezwolle.nl/event/f-proeven-dag-2/
CATEGORIES:FNRS
END:VEVENT
BEGIN:VEVENT
DTSTART;VALUE=DATE:20161211
DTEND;VALUE=DATE:20161212
DTSTAMP:20260423T130135
CREATED:20161008T085321Z
LAST-MODIFIED:20161011T185745Z
UID:513-1481414400-1481500799@www.manegezwolle.nl
SUMMARY:Vaardigheid 1( ma 1600\, ma 1800\, vr 1800\, za 1300
DESCRIPTION:
URL:https://www.manegezwolle.nl/event/vaardigheid-1/
CATEGORIES:FNRS
END:VEVENT
BEGIN:VEVENT
DTSTART;TZID=UTC:20161210T170000
DTEND;TZID=UTC:20161210T210000
DTSTAMP:20260423T130135
CREATED:20161008T085231Z
LAST-MODIFIED:20161011T185820Z
UID:512-1481389200-1481403600@www.manegezwolle.nl
SUMMARY:F3 t/m F8 proevendag ( vr 1600\, vr 1700 )
DESCRIPTION:
URL:https://www.manegezwolle.nl/event/f3-tm-f8-proevendag/
CATEGORIES:FNRS
END:VEVENT
BEGIN:VEVENT
DTSTART;VALUE=DATE:20161127
DTEND;VALUE=DATE:20161128
DTSTAMP:20260423T130135
CREATED:20161008T085745Z
LAST-MODIFIED:20161011T185846Z
UID:516-1480204800-1480291199@www.manegezwolle.nl
SUMMARY:Individuele F proeven Wedstrijddag
DESCRIPTION:
URL:https://www.manegezwolle.nl/event/f-proeven-dag/
CATEGORIES:FNRS
END:VEVENT
BEGIN:VEVENT
DTSTART;TZID=UTC:20161126T170000
DTEND;TZID=UTC:20161126T210000
DTSTAMP:20260423T130135
CREATED:20161008T085636Z
LAST-MODIFIED:20161011T185932Z
UID:515-1480179600-1480194000@www.manegezwolle.nl
SUMMARY:Pas de Deux ( ma 1700\, za 1100\, wo 1700\, di 1600\, di 1900 )
DESCRIPTION:
URL:https://www.manegezwolle.nl/event/pas-de-deux/
CATEGORIES:FNRS
END:VEVENT
BEGIN:VEVENT
DTSTART;TZID=UTC:20161126T130000
DTEND;TZID=UTC:20161126T160000
DTSTAMP:20260423T130135
CREATED:20161114T202320Z
LAST-MODIFIED:20161114T202320Z
UID:559-1480165200-1480176000@www.manegezwolle.nl
SUMMARY:Bestuursvergadering IHW stamboek
DESCRIPTION:
URL:https://www.manegezwolle.nl/event/bestuursvergadering-ihw-stamboek/
END:VEVENT
BEGIN:VEVENT
DTSTART;TZID=UTC:20161120T080000
DTEND;TZID=UTC:20161120T170000
DTSTAMP:20260423T130135
CREATED:20161114T201753Z
LAST-MODIFIED:20161114T201753Z
UID:556-1479628800-1479661200@www.manegezwolle.nl
SUMMARY:KNHS dressuurwedstrijd georganiseerd door vereniging "De Haerst"
DESCRIPTION:
URL:https://www.manegezwolle.nl/event/knhs-dressuurwedstrijd-georganiseerd-door-vereniging-de-haerst/
CATEGORIES:KNHS
END:VEVENT
BEGIN:VEVENT
DTSTART;TZID=UTC:20161119T180000
DTEND;TZID=UTC:20161119T220000
DTSTAMP:20260423T130135
CREATED:20161114T201929Z
LAST-MODIFIED:20161114T201929Z
UID:557-1479578400-1479592800@www.manegezwolle.nl
SUMMARY:Oefen Dressuuravond georganiseerd door "Manege Zwolle"
DESCRIPTION:
URL:https://www.manegezwolle.nl/event/oefen-dressuuravond-georganiseerd-door-manege-zwolle/
END:VEVENT
BEGIN:VEVENT
DTSTART;TZID=UTC:20161119T090000
DTEND;TZID=UTC:20161119T170000
DTSTAMP:20260423T130135
CREATED:20161114T202220Z
LAST-MODIFIED:20161114T202220Z
UID:558-1479546000-1479574800@www.manegezwolle.nl
SUMMARY:Sportdag KNHS opleidingen voor Basis Instructeur Opleidingen
DESCRIPTION:
URL:https://www.manegezwolle.nl/event/sportdag-knhs-opleidingen-voor-basis-instructeur-opleidingen/
END:VEVENT
BEGIN:VEVENT
DTSTART;VALUE=DATE:20161113
DTEND;VALUE=DATE:20161114
DTSTAMP:20260423T130135
CREATED:20161008T084951Z
LAST-MODIFIED:20161011T190105Z
UID:510-1478995200-1479081599@www.manegezwolle.nl
SUMMARY:F0\, en F1 Proevendag ( wo 1530\, ma 1600\, za 930\, vr 1630 )
DESCRIPTION:Opgaven kan via onze website.
URL:https://www.manegezwolle.nl/event/f0-en-f1-proevendag/
CATEGORIES:FNRS
END:VEVENT
END:VCALENDAR