BEGIN:VCALENDAR
VERSION:2.0
PRODID:-//Manege Zwolle - ECPv6.15.20//NONSGML v1.0//EN
CALSCALE:GREGORIAN
METHOD:PUBLISH
X-WR-CALNAME:Manege Zwolle
X-ORIGINAL-URL:https://www.manegezwolle.nl
X-WR-CALDESC:Evenementen voor Manege Zwolle
REFRESH-INTERVAL;VALUE=DURATION:PT1H
X-Robots-Tag:noindex
X-PUBLISHED-TTL:PT1H
BEGIN:VTIMEZONE
TZID:UTC
BEGIN:STANDARD
TZOFFSETFROM:+0000
TZOFFSETTO:+0000
TZNAME:UTC
DTSTART:20160101T000000
END:STANDARD
END:VTIMEZONE
BEGIN:VEVENT
DTSTART;VALUE=DATE:20180829
DTEND;VALUE=DATE:20180830
DTSTAMP:20260423T093744
CREATED:20180319T141300Z
LAST-MODIFIED:20180420T080623Z
UID:836-1535500800-1535587199@www.manegezwolle.nl
SUMMARY:KNHS Spring Concours
DESCRIPTION:Overdag BB t/m ZZ voor paarden\nVanaf 18.00 uur BB t/m ZZ voor pony’s \nPrijzen zullen worden uitgereikt in producten. \nOpgeven kan door een mail te sturen naar: manegezwolle@hotmail.com
URL:https://www.manegezwolle.nl/event/spring-concours-3/
LOCATION:Outdoor\, Haersterveerweg 1A\, Zwolle\, 8034PJ\, Nederland
END:VEVENT
BEGIN:VEVENT
DTSTART;TZID=UTC:20180827T100000
DTEND;TZID=UTC:20180831T163000
DTSTAMP:20260423T093744
CREATED:20180420T092543Z
LAST-MODIFIED:20180420T092632Z
UID:894-1535364000-1535733000@www.manegezwolle.nl
SUMMARY:Ponykamp week 3 (27 -31 aug dagkamp)
DESCRIPTION:Maandag 27 t/m vrijdag 31 aug is er ponykamp bij Manege Zwolle! \nWat houdt het ponykamp in? \nTijdens het ponykamp ga je veel meer dan alleen ponyrijden. Je krijgt les in de verzorging van de paarden en pony’s. Ook krijg je theorieles en gaan we leuke dingen doen met en zonder pony’s. Ook kan een buitenrit natuurlijk niet ontbreken! \nWe gaan iedere dag rijden onder begeleiding van een enthousiaste instructeur. De hele week rijd je op dezelfde pony. \nOp de vrijdag wordt er een wedstrijd georganiseerd waarin jij kan laten zien wat je deze week allemaal geleerd hebt! \nEr zijn twee soorten kampen:\n– Er is een slaapkamp waarbij de deelnemers ook slapen op de manege. \n– Er zijn 2 weken dagkamp waarbij je dagelijks naar de manege komt en overdag het programma volgt. \nVoor wie is het ponykamp? \nHet ponykamp is voor iedereen die graag mee wilt doen.  \nDe leeftijd is vanaf 6 jaar. \nRijervaring is wel gewenst maar wanneer je nog niet kan paardrijden is dat geen enkel probleem! \n \nJe hoeft niet te rijden bij Manege Zwolle.\nOok vriendjes en vriendinnetjes mogen meedoen. \n  \nWanneer is het ponykamp? \nIn de zomervakantie zijn er 3 weken ponykamp. \n23 t/m 27 juli: Dagkamp\n20 t/m 24 augustus: Slaapkamp\n27 t/m 31 augustus: Dagkamp \nHet dagkamp is iedere dag van 10.00-16.30 uur \n \nWat kost het ponykamp ? \nDe kosten voor het ponykamp zijn: \n \nSlaapkamp:  € 350\,-\nDit is incl. overnachten\, ontbijt\, lunch en diner \nDagkamp: € 250\,-\nDit is incl. lunch \n  \n  \nHoe geef ik mij op? \nJe kan je opgeven door het inschrijfformulier in te vullen en deze in te leveren bij de bar of op te sturen naar Manege Zwolle. \nHet inschrijfformulier kan je ophalen bij de bar.\nGeef duidelijk aan welke week je mee wilt doen! \nGeef je snel op want VOL=VOL! \nKlik hier voor het inschrijfformulier ponykamp2018
URL:https://www.manegezwolle.nl/event/ponykamp-week-3-27-31-aug-dagkamp/
LOCATION:Indoor\, Haersterveerweg 1A\, Zwolle\, 8034PJ\, Nederland
END:VEVENT
BEGIN:VEVENT
DTSTART;TZID=UTC:20180820T110000
DTEND;TZID=UTC:20180824T170000
DTSTAMP:20260423T093744
CREATED:20180420T092436Z
LAST-MODIFIED:20180420T092436Z
UID:891-1534762800-1535130000@www.manegezwolle.nl
SUMMARY:Ponykamp week 2 (20 -24 aug slaapkamp)
DESCRIPTION:Maandag 20 t/m vrijdag 24 augustus is er ponykamp bij Manege Zwolle! \nWat houdt het ponykamp in? \nTijdens het ponykamp ga je veel meer dan alleen ponyrijden. Je krijgt les in de verzorging van de paarden en pony’s. Ook krijg je theorieles en gaan we leuke dingen doen met en zonder pony’s. Ook kan een buitenrit natuurlijk niet ontbreken! \nWe gaan iedere dag rijden onder begeleiding van een enthousiaste instructeur. De hele week rijd je op dezelfde pony. \nOp de vrijdag wordt er een wedstrijd georganiseerd waarin jij kan laten zien wat je deze week allemaal geleerd hebt! \nEr zijn twee soorten kampen:\n– Er is een slaapkamp waarbij de deelnemers ook slapen op de manege. \n– Er zijn 2 weken dagkamp waarbij je dagelijks naar de manege komt en overdag het programma volgt. \nVoor wie is het ponykamp? \nHet ponykamp is voor iedereen die graag mee wilt doen.  \nDe leeftijd is vanaf 6 jaar. \nRijervaring is wel gewenst maar wanneer je nog niet kan paardrijden is dat geen enkel probleem! \n \nJe hoeft niet te rijden bij Manege Zwolle.\nOok vriendjes en vriendinnetjes mogen meedoen. \n  \nWanneer is het ponykamp? \nIn de zomervakantie zijn er 3 weken ponykamp. \n23 t/m 27 juli: Dagkamp\n20 t/m 24 augustus: Slaapkamp\n27 t/m 31 augustus: Dagkamp \nHet dagkamp is iedere dag van 10.00-16.30 uur \n \nWat kost het ponykamp ? \nDe kosten voor het ponykamp zijn: \n \nSlaapkamp:  € 350\,-\nDit is incl. overnachten\, ontbijt\, lunch en diner \nDagkamp: € 250\,-\nDit is incl. lunch \n  \n  \nHoe geef ik mij op? \nJe kan je opgeven door het inschrijfformulier in te vullen en deze in te leveren bij de bar of op te sturen naar Manege Zwolle. \nHet inschrijfformulier kan je ophalen bij de bar.\nGeef duidelijk aan welke week je mee wilt doen! \nGeef je snel op want VOL=VOL! \nKlik hier voor het inschrijfformulier ponykamp2018
URL:https://www.manegezwolle.nl/event/ponykamp-week-2-20-24-aug-slaapkamp/
LOCATION:Indoor\, Haersterveerweg 1A\, Zwolle\, 8034PJ\, Nederland
END:VEVENT
BEGIN:VEVENT
DTSTART;VALUE=DATE:20180730
DTEND;VALUE=DATE:20180820
DTSTAMP:20260423T093744
CREATED:20180420T092829Z
LAST-MODIFIED:20180420T092829Z
UID:897-1532908800-1534723199@www.manegezwolle.nl
SUMMARY:Manege Gesloten
DESCRIPTION:De manege is gesloten i.v.m. vakantie
URL:https://www.manegezwolle.nl/event/manege-gesloten/
END:VEVENT
BEGIN:VEVENT
DTSTART;TZID=UTC:20180723T100000
DTEND;TZID=UTC:20180727T163000
DTSTAMP:20260423T093744
CREATED:20180420T092222Z
LAST-MODIFIED:20180420T092222Z
UID:884-1532340000-1532709000@www.manegezwolle.nl
SUMMARY:Ponykamp week 1- (23-27 juli dagkamp)
DESCRIPTION:Maandag 23 t/m vrijdag 27 juli is er ponykamp bij Manege Zwolle! \nWat houdt het ponykamp in? \nTijdens het ponykamp ga je veel meer dan alleen ponyrijden. Je krijgt les in de verzorging van de paarden en pony’s. Ook krijg je theorieles en gaan we leuke dingen doen met en zonder pony’s. Ook kan een buitenrit natuurlijk niet ontbreken! \nWe gaan iedere dag rijden onder begeleiding van een enthousiaste instructeur. De hele week rijd je op dezelfde pony. \nOp de vrijdag wordt er een wedstrijd georganiseerd waarin jij kan laten zien wat je deze week allemaal geleerd hebt! \nEr zijn twee soorten kampen:\n– Er is een slaapkamp waarbij de deelnemers ook slapen op de manege. \n– Er zijn 2 weken dagkamp waarbij je dagelijks naar de manege komt en overdag het programma volgt. \nVoor wie is het ponykamp? \nHet ponykamp is voor iedereen die graag mee wilt doen.  \nDe leeftijd is vanaf 6 jaar. \nRijervaring is wel gewenst maar wanneer je nog niet kan paardrijden is dat geen enkel probleem! \n \nJe hoeft niet te rijden bij Manege Zwolle.\nOok vriendjes en vriendinnetjes mogen meedoen. \n  \nWanneer is het ponykamp? \nIn de zomervakantie zijn er 3 weken ponykamp. \n23 t/m 27 juli: Dagkamp\n20 t/m 24 augustus: Slaapkamp\n27 t/m 31 augustus: Dagkamp \nHet dagkamp is iedere dag van 10.00-16.30 uur \n \nWat kost het ponykamp ? \nDe kosten voor het ponykamp zijn: \n \nSlaapkamp:  € 350\,-\nDit is incl. overnachten\, ontbijt\, lunch en diner \nDagkamp: € 250\,-\nDit is incl. lunch \n  \n  \nHoe geef ik mij op? \nJe kan je opgeven door het inschrijfformulier in te vullen en deze in te leveren bij de bar of op te sturen naar Manege Zwolle. \nHet inschrijfformulier kan je ophalen bij de bar.\nGeef duidelijk aan welke week je mee wilt doen! \nGeef je snel op want VOL=VOL! \nKlik hier voor het inschrijfformulier ponykamp2018
URL:https://www.manegezwolle.nl/event/ponykamp-week-1-23-27-juli-dagkamp/
LOCATION:Indoor\, Haersterveerweg 1A\, Zwolle\, 8034PJ\, Nederland
END:VEVENT
BEGIN:VEVENT
DTSTART;VALUE=DATE:20180718
DTEND;VALUE=DATE:20180719
DTSTAMP:20260423T093744
CREATED:20180319T141150Z
LAST-MODIFIED:20180420T080657Z
UID:834-1531872000-1531958399@www.manegezwolle.nl
SUMMARY:KNHS Spring concours
DESCRIPTION:Overdag BB t/m ZZ voor paarden\nVanaf 18.00 uur BB t/m ZZ voor pony’s \nPrijzen zullen worden uitgereikt in producten. \nOpgeven kan door een mail te sturen naar: manegezwolle@hotmail.com
URL:https://www.manegezwolle.nl/event/spring-concours-2/
LOCATION:Outdoor\, Haersterveerweg 1A\, Zwolle\, 8034PJ\, Nederland
END:VEVENT
BEGIN:VEVENT
DTSTART;VALUE=DATE:20180715
DTEND;VALUE=DATE:20180716
DTSTAMP:20260423T093744
CREATED:20180319T141057Z
LAST-MODIFIED:20180319T141057Z
UID:832-1531612800-1531699199@www.manegezwolle.nl
SUMMARY:F proeven F1 en F2
DESCRIPTION:
URL:https://www.manegezwolle.nl/event/f-proeven-f1-en-f2-2/
END:VEVENT
BEGIN:VEVENT
DTSTART;TZID=UTC:20180714T190000
DTEND;TZID=UTC:20180714T210000
DTSTAMP:20260423T093744
CREATED:20180621T102334Z
LAST-MODIFIED:20180621T102535Z
UID:934-1531594800-1531602000@www.manegezwolle.nl
SUMMARY:Vaardigheidsproeven
DESCRIPTION:Op zaterdag 14 juli organiseren we voor alle ruiters en amazones die in het bezit zijn van een promotiepunt in de F3 bij Manege Zwolle een Vaardigheid-proevenavond. \nDe vaardigheidsproeven zijn een voorbereiding op het springen. Tijdens deze proeven ga je naast dressuurfiguren rijden ook een slalom rijden in draf\, verlichte zit\, balken draven en je maakt een sprongetje. \nIn de lessen worden deze proeven geoefend. Wanneer je graag mee wilt doen hieraan\, geef dit dan aan bij je instructrice\, zodat ze in je les je er goed op voor kan bereiden. \nWanneer je de vaardigheidsproeven behaald hebt\, dan kan je hierna doorstromen naar de springproeven. \nWanneer je mee wilt doen met deze proeven dan kun je opgeven via het formulier op de website\nHelaas is het niet mogelijk om de Va1/Va2/Va3 aan te klikken.\nAls je je wilt opgeven voor de Va1\, dan vul je F1 in\, Va2 F2\, Va3F3\, dan komt de inschrijving bij ons juist binnen. Zorg wel dat je de juiste datum hebt ingevuld!
URL:https://www.manegezwolle.nl/event/vaardigheidsproeven/
LOCATION:Indoor\, Haersterveerweg 1A\, Zwolle\, 8034PJ\, Nederland
END:VEVENT
BEGIN:VEVENT
DTSTART;VALUE=DATE:20180708
DTEND;VALUE=DATE:20180709
DTSTAMP:20260423T093744
CREATED:20180319T141016Z
LAST-MODIFIED:20180319T141016Z
UID:830-1531008000-1531094399@www.manegezwolle.nl
SUMMARY:F proeven F3 en hoger
DESCRIPTION:
URL:https://www.manegezwolle.nl/event/f-proeven-f3-en-hoger/
END:VEVENT
BEGIN:VEVENT
DTSTART;TZID=UTC:20180707T190000
DTEND;TZID=UTC:20180707T210000
DTSTAMP:20260423T093744
CREATED:20180621T102500Z
LAST-MODIFIED:20180621T102500Z
UID:936-1530990000-1530997200@www.manegezwolle.nl
SUMMARY:F proevendag 16+
DESCRIPTION:Op zaterdag 7 juli organiseren we speciaal voor alle 16+ ruiters en amazones bij Manege Zwolle een F-proevenavond voor alle niveaus. \nProefjes rijden gaat natuurlijk vooral om plezier en gezelligheid. Hiervoor hebben wij dan ook een leuke actie ontwikkeld. Bij het rijden van een proef krijg je een protocol met hierop de cijfers die je hebt gehaald voor de oefeningen van de proef. Bij gemiddeld een 6 voor alle onderdelen heb je 210 punten en krijg je een promotiepunt. Iedere 5 punten die je hierboven scoort ontvang je na het rijden in de kantine een bitterbal om de avond gezellig af te sluiten! \nDe proeven zijn niet alleen leuk om te rijden\, maar ook heel leerzaam. Een jury beoordeeld jouw rijden en hierop krijg je feedback waar je in de lessen weer mee aan de slag kunt.\nEen wedstrijdtenue is niet verplicht. Je mag gewoon de normale rijkleding aan. \nAls je nog nooit hebt meegedaan met de proeven dan kan je met je instructrice overleggen in welke klasse je kan instromen. \nWanneer je mee wilt doen met deze proeven dan kun je opgeven via het formulier op de website
URL:https://www.manegezwolle.nl/event/f-proevendag-16/
LOCATION:Indoor\, Haersterveerweg 1A\, Zwolle\, 8034PJ\, Nederland
END:VEVENT
BEGIN:VEVENT
DTSTART;VALUE=DATE:20180704
DTEND;VALUE=DATE:20180705
DTSTAMP:20260423T093744
CREATED:20180420T080849Z
LAST-MODIFIED:20180420T080849Z
UID:862-1530662400-1530748799@www.manegezwolle.nl
SUMMARY:KNHS Sprinconcours
DESCRIPTION:Overdag BB t/m ZZ voor paarden\nVanaf 18.00 uur BB t/m ZZ voor pony’s \nPrijzen zullen worden uitgereikt in producten. \nOpgeven kan door een mail te sturen naar: manegezwolle@hotmail.com
URL:https://www.manegezwolle.nl/event/knhs-sprinconcours/
LOCATION:Outdoor\, Haersterveerweg 1A\, Zwolle\, 8034PJ\, Nederland
END:VEVENT
BEGIN:VEVENT
DTSTART;VALUE=DATE:20180620
DTEND;VALUE=DATE:20180621
DTSTAMP:20260423T093744
CREATED:20180319T140900Z
LAST-MODIFIED:20180420T080728Z
UID:828-1529452800-1529539199@www.manegezwolle.nl
SUMMARY:KNHS Springconcours
DESCRIPTION:Overdag BB t/m ZZ voor paarden\nVanaf 18.00 uur BB t/m ZZ voor pony’s \nPrijzen zullen worden uitgereikt in producten. \nOpgeven kan door een mail te sturen naar: manegezwolle@hotmail.com
URL:https://www.manegezwolle.nl/event/springconcours/
LOCATION:Outdoor\, Haersterveerweg 1A\, Zwolle\, 8034PJ\, Nederland
END:VEVENT
BEGIN:VEVENT
DTSTART;VALUE=DATE:20180617
DTEND;VALUE=DATE:20180618
DTSTAMP:20260423T093744
CREATED:20180319T140730Z
LAST-MODIFIED:20180420T081503Z
UID:826-1529193600-1529279999@www.manegezwolle.nl
SUMMARY:Zitcompetitie Manege Zwolle
DESCRIPTION:Deze dag is er Regiofinale van de zit competitie bij Manege Zwolle voor mede FNRS bedrijven
URL:https://www.manegezwolle.nl/event/zitcompetitie-manege-zwolle/
LOCATION:Indoor\, Haersterveerweg 1A\, Zwolle\, 8034PJ\, Nederland
END:VEVENT
BEGIN:VEVENT
DTSTART;VALUE=DATE:20180608
DTEND;VALUE=DATE:20180611
DTSTAMP:20260423T093744
CREATED:20180319T140629Z
LAST-MODIFIED:20180420T081253Z
UID:824-1528416000-1528675199@www.manegezwolle.nl
SUMMARY:Jumping de Peperbus
DESCRIPTION:Jumping de Peperbus 2018 \nVrijdag 8 juni: BB t/m L voor paarden ( vanaf +/- 15.00 uur)\nZaterdag 9 juni: BB t/m ZZ voor paarden\nZondag 10 juni: BB t/m ZZ voor paarden en pony’s \nJe mag meerdere dagen starten \nOpgeven kan via manegezwolle@hotmail.com
URL:https://www.manegezwolle.nl/event/jumping-de-peperbus/
LOCATION:Outdoor\, Haersterveerweg 1A\, Zwolle\, 8034PJ\, Nederland
END:VEVENT
BEGIN:VEVENT
DTSTART;VALUE=DATE:20180603
DTEND;VALUE=DATE:20180604
DTSTAMP:20260423T093744
CREATED:20180319T140515Z
LAST-MODIFIED:20180420T081401Z
UID:822-1527984000-1528070399@www.manegezwolle.nl
SUMMARY:Zit competitie Regiofinale
DESCRIPTION:Team Manege Zwolle rijdt deze dag de Regiofinale in Groesbeek
URL:https://www.manegezwolle.nl/event/zit-competitie/
END:VEVENT
BEGIN:VEVENT
DTSTART;VALUE=DATE:20180526
DTEND;VALUE=DATE:20180527
DTSTAMP:20260423T093744
CREATED:20180319T140402Z
LAST-MODIFIED:20180420T082527Z
UID:820-1527292800-1527379199@www.manegezwolle.nl
SUMMARY:Bonfix KNHS Spring concours
DESCRIPTION:Zaterdag 26 mei. \nBB t/m ZZ voor paarden en pony’s \nDe paardenrubrieken tellen mee voor de Bonfix competitie. \nOpgeven kan via manegezwolle@hotmail.com
URL:https://www.manegezwolle.nl/event/bonfix-concours/
LOCATION:Outdoor\, Haersterveerweg 1A\, Zwolle\, 8034PJ\, Nederland
END:VEVENT
BEGIN:VEVENT
DTSTART;VALUE=DATE:20180516
DTEND;VALUE=DATE:20180517
DTSTAMP:20260423T093744
CREATED:20180319T140259Z
LAST-MODIFIED:20180420T081541Z
UID:818-1526428800-1526515199@www.manegezwolle.nl
SUMMARY:KNHS Spring Concours
DESCRIPTION:Overdag BB t/m ZZ voor paarden\nVanaf 18.00 uur BB t/m ZZ voor pony’s \nPrijzen zullen worden uitgereikt in producten. \nOpgeven kan door een mail te sturen naar: manegezwolle@hotmail.com
URL:https://www.manegezwolle.nl/event/spring-concours/
LOCATION:Outdoor\, Haersterveerweg 1A\, Zwolle\, 8034PJ\, Nederland
END:VEVENT
BEGIN:VEVENT
DTSTART;VALUE=DATE:20180513
DTEND;VALUE=DATE:20180514
DTSTAMP:20260423T093744
CREATED:20180319T140111Z
LAST-MODIFIED:20180319T140111Z
UID:816-1526169600-1526255999@www.manegezwolle.nl
SUMMARY:F proeven dag F3 en hoger
DESCRIPTION:
URL:https://www.manegezwolle.nl/event/f-proeven-dag-f3-en-hoger/
END:VEVENT
BEGIN:VEVENT
DTSTART;TZID=UTC:20180508T080000
DTEND;TZID=UTC:20180509T170000
DTSTAMP:20260423T093744
CREATED:20180504T113141Z
LAST-MODIFIED:20180504T113141Z
UID:913-1525766400-1525885200@www.manegezwolle.nl
SUMMARY:Buitenritten
DESCRIPTION:Meivakantie – Buitenrit \nIn de meivakantie organiseren we bij Manege Zwolle enkele buitenritten voor onze ruiters en amazones.\nDinsdag 8 mei : 12:30 uur Buitenrit duur: ½ uur\n (stappen met vasthouden)\nDinsdag 8 mei : 13:00 uur Buitenrit duur: 1 uur\n (stappen met vasthouden)\nWoensdag 9 mei : 11:00 uur Buitenrit duur: ½ uur\n (stappen met vasthouden)\n11:30 uur Buitenrit duur: 1 uur\n (stappen met vasthouden)\nDe buitenrit zal worden begeleid door een ervaren instructeur\, wel dienen ouders/verzorgers mee te lopen!\nIedereen van Manege Zwolle mag mee\, ook broertjes en zusjes! Je hoeft geen rijervaring te hebben om mee te gaan.\nMinimum leeftijd is 4 jaar.\nKosten: ½ uur : € 10\,- per persoon\n            1 uur : € 17\,50 per persoon\nGeef je op bij het inschrijfformulier bij de bar.\n\n 
URL:https://www.manegezwolle.nl/event/buitenritten/
LOCATION:Outdoor\, Haersterveerweg 1A\, Zwolle\, 8034PJ\, Nederland
END:VEVENT
BEGIN:VEVENT
DTSTART;VALUE=DATE:20180506
DTEND;VALUE=DATE:20180507
DTSTAMP:20260423T093744
CREATED:20180319T135455Z
LAST-MODIFIED:20180319T135809Z
UID:810-1525564800-1525651199@www.manegezwolle.nl
SUMMARY:F proeven F1 en F2
DESCRIPTION:
URL:https://www.manegezwolle.nl/event/f-proeven-f1-en-f2/
CATEGORIES:FNRS
END:VEVENT
BEGIN:VEVENT
DTSTART;VALUE=DATE:20180502
DTEND;VALUE=DATE:20180503
DTSTAMP:20260423T093744
CREATED:20180420T081704Z
LAST-MODIFIED:20180420T081719Z
UID:872-1525219200-1525305599@www.manegezwolle.nl
SUMMARY:KNHS Spring Concours
DESCRIPTION:Overdag BB t/m ZZ voor paarden\nVanaf 18.00 uur BB t/m ZZ voor pony’s \nPrijzen zullen worden uitgereikt in producten. \nOpgeven kan door een mail te sturen naar: manegezwolle@hotmail.com
URL:https://www.manegezwolle.nl/event/knhs-spring-concours/
LOCATION:Outdoor\, Haersterveerweg 1A\, Zwolle\, 8034PJ\, Nederland
END:VEVENT
BEGIN:VEVENT
DTSTART;TZID=UTC:20180428T170000
DTEND;TZID=UTC:20180428T200000
DTSTAMP:20260423T093744
CREATED:20180420T082758Z
LAST-MODIFIED:20180426T103434Z
UID:881-1524934800-1524945600@www.manegezwolle.nl
SUMMARY:Voltige Wedstrijd
DESCRIPTION:Zaterdagavond 28 april zal de Voltige wedstrijd plaatsvinden voor de ruiters van Manege Zwolle. \nKlik hier voor de startlijst
URL:https://www.manegezwolle.nl/event/voltige-wedstrijd/
LOCATION:Indoor\, Haersterveerweg 1A\, Zwolle\, 8034PJ\, Nederland
END:VEVENT
BEGIN:VEVENT
DTSTART;VALUE=DATE:20180422
DTEND;VALUE=DATE:20180423
DTSTAMP:20260423T093744
CREATED:20180319T140010Z
LAST-MODIFIED:20180319T140010Z
UID:814-1524355200-1524441599@www.manegezwolle.nl
SUMMARY:Horse Boarding
DESCRIPTION:
URL:https://www.manegezwolle.nl/event/horse-boarding/
END:VEVENT
BEGIN:VEVENT
DTSTART;VALUE=DATE:20180415
DTEND;VALUE=DATE:20180416
DTSTAMP:20260423T093744
CREATED:20180319T135934Z
LAST-MODIFIED:20180319T135934Z
UID:812-1523750400-1523836799@www.manegezwolle.nl
SUMMARY:Beach Soccer Toernooi
DESCRIPTION:
URL:https://www.manegezwolle.nl/event/beach-soccer-toernooi/
END:VEVENT
BEGIN:VEVENT
DTSTART;VALUE=DATE:20180318
DTEND;VALUE=DATE:20180319
DTSTAMP:20260423T093744
CREATED:20170724T121030Z
LAST-MODIFIED:20180129T214707Z
UID:733-1521331200-1521417599@www.manegezwolle.nl
SUMMARY:Manege F proeven wedstrijd inschrijven kan als je het F2 diploma heb behaald
DESCRIPTION:
URL:https://www.manegezwolle.nl/event/f-proeven-dag-8/
END:VEVENT
BEGIN:VEVENT
DTSTART;VALUE=DATE:20180311
DTEND;VALUE=DATE:20180312
DTSTAMP:20260423T093744
CREATED:20170724T120943Z
LAST-MODIFIED:20180129T215018Z
UID:731-1520726400-1520812799@www.manegezwolle.nl
SUMMARY:F0-F1-F2 proeven dag voor alle F0-F1-F2 lessen. Inschrijven kan via de web site na overleg met instructrice
DESCRIPTION:
URL:https://www.manegezwolle.nl/event/f-proeven-dag-f0-f2-2/
END:VEVENT
BEGIN:VEVENT
DTSTART;TZID=UTC:20180224T100000
DTEND;TZID=UTC:20180224T170000
DTSTAMP:20260423T093744
CREATED:20180220T193021Z
LAST-MODIFIED:20180220T193021Z
UID:796-1519466400-1519491600@www.manegezwolle.nl
SUMMARY:Hengstenkeuring I.H.W.
DESCRIPTION:
URL:https://www.manegezwolle.nl/event/hengstenkeuring-i-h-w/
LOCATION:Indoor\, Haersterveerweg 1A\, Zwolle\, 8034PJ\, Nederland
END:VEVENT
BEGIN:VEVENT
DTSTART;VALUE=DATE:20180218
DTEND;VALUE=DATE:20180219
DTSTAMP:20260423T093744
CREATED:20170724T120747Z
LAST-MODIFIED:20180129T214737Z
UID:727-1518912000-1518998399@www.manegezwolle.nl
SUMMARY:Manege F proeven wedstrijd inschrijven kan als je het F2 diploma heb behaald
DESCRIPTION:
URL:https://www.manegezwolle.nl/event/f-proeven-dag-7/
END:VEVENT
BEGIN:VEVENT
DTSTART;VALUE=DATE:20180121
DTEND;VALUE=DATE:20180122
DTSTAMP:20260423T093744
CREATED:20170724T120713Z
LAST-MODIFIED:20170724T120713Z
UID:725-1516492800-1516579199@www.manegezwolle.nl
SUMMARY:F proeven dag
DESCRIPTION:
URL:https://www.manegezwolle.nl/event/f-proeven-dag-6/
END:VEVENT
BEGIN:VEVENT
DTSTART;VALUE=DATE:20171217
DTEND;VALUE=DATE:20171218
DTSTAMP:20260423T093744
CREATED:20170724T120624Z
LAST-MODIFIED:20170724T120624Z
UID:723-1513468800-1513555199@www.manegezwolle.nl
SUMMARY:Kerst Pas de Deux
DESCRIPTION:
URL:https://www.manegezwolle.nl/event/kerst-pas-de-deux/
END:VEVENT
END:VCALENDAR