BEGIN:VCALENDAR
VERSION:2.0
PRODID:-//Manege Zwolle - ECPv6.15.20//NONSGML v1.0//EN
CALSCALE:GREGORIAN
METHOD:PUBLISH
X-WR-CALNAME:Manege Zwolle
X-ORIGINAL-URL:https://www.manegezwolle.nl
X-WR-CALDESC:Evenementen voor Manege Zwolle
REFRESH-INTERVAL;VALUE=DURATION:PT1H
X-Robots-Tag:noindex
X-PUBLISHED-TTL:PT1H
BEGIN:VTIMEZONE
TZID:UTC
BEGIN:STANDARD
TZOFFSETFROM:+0000
TZOFFSETTO:+0000
TZNAME:UTC
DTSTART:20170101T000000
END:STANDARD
END:VTIMEZONE
BEGIN:VEVENT
DTSTART;TZID=UTC:20190512T100000
DTEND;TZID=UTC:20190512T170000
DTSTAMP:20260422T215802
CREATED:20190512T115255Z
LAST-MODIFIED:20190512T115255Z
UID:1156-1557655200-1557680400@www.manegezwolle.nl
SUMMARY:F3 en hoger proevendag
DESCRIPTION:F proeven voor ruiters van de F3 en hoger\nGeef je op via het inschrijfformulier op de website
URL:https://www.manegezwolle.nl/event/f3-en-hoger-proevendag/
LOCATION:Indoor\, Haersterveerweg 1A\, Zwolle\, 8034PJ\, Nederland
END:VEVENT
BEGIN:VEVENT
DTSTART;TZID=UTC:20190317T080000
DTEND;TZID=UTC:20190317T170000
DTSTAMP:20260422T215802
CREATED:20180911T095715Z
LAST-MODIFIED:20180911T095715Z
UID:998-1552809600-1552842000@www.manegezwolle.nl
SUMMARY:F3+ proeven
DESCRIPTION:F proeven voor ruiters van de F3 en hoger
URL:https://www.manegezwolle.nl/event/f3-proeven-4/
LOCATION:Indoor\, Haersterveerweg 1A\, Zwolle\, 8034PJ\, Nederland
END:VEVENT
BEGIN:VEVENT
DTSTART;TZID=UTC:20190310T080000
DTEND;TZID=UTC:20190310T170000
DTSTAMP:20260422T215802
CREATED:20180911T095009Z
LAST-MODIFIED:20180911T095749Z
UID:988-1552204800-1552237200@www.manegezwolle.nl
SUMMARY:F1/F2 proeven
DESCRIPTION:F proeven voor F1 en F2 ruiters
URL:https://www.manegezwolle.nl/event/f1-f2-proeven-3/
LOCATION:Indoor\, Haersterveerweg 1A\, Zwolle\, 8034PJ\, Nederland
END:VEVENT
BEGIN:VEVENT
DTSTART;TZID=UTC:20190303T080000
DTEND;TZID=UTC:20190303T190000
DTSTAMP:20260422T215802
CREATED:20180911T093639Z
LAST-MODIFIED:20180911T093639Z
UID:978-1551600000-1551639600@www.manegezwolle.nl
SUMMARY:KNHS Dressuur
DESCRIPTION:Paarden B t/m M2 \nOpgeven via manegezwolle@hotmail.com
URL:https://www.manegezwolle.nl/event/knhs-dressuur-6/
LOCATION:Indoor\, Haersterveerweg 1A\, Zwolle\, 8034PJ\, Nederland
END:VEVENT
BEGIN:VEVENT
DTSTART;TZID=UTC:20190217T080000
DTEND;TZID=UTC:20190217T170000
DTSTAMP:20260422T215802
CREATED:20180911T095551Z
LAST-MODIFIED:20180911T095551Z
UID:996-1550390400-1550422800@www.manegezwolle.nl
SUMMARY:F3+ proeven
DESCRIPTION:F proeven voor ruiters van de F3 en hoger
URL:https://www.manegezwolle.nl/event/f3-proeven-3/
LOCATION:Indoor\, Haersterveerweg 1A\, Zwolle\, 8034PJ\, Nederland
END:VEVENT
BEGIN:VEVENT
DTSTART;TZID=UTC:20190203T080000
DTEND;TZID=UTC:20190203T190000
DTSTAMP:20260422T215802
CREATED:20180911T093530Z
LAST-MODIFIED:20180911T093530Z
UID:976-1549180800-1549220400@www.manegezwolle.nl
SUMMARY:KNHS Dressuur
DESCRIPTION:Paarden B t/m M2 \nOpgeven via manegezwolle@hotmail.com
URL:https://www.manegezwolle.nl/event/knhs-dressuur-5/
LOCATION:Indoor\, Haersterveerweg 1A\, Zwolle\, 8034PJ\, Nederland
END:VEVENT
BEGIN:VEVENT
DTSTART;TZID=UTC:20190127T080000
DTEND;TZID=UTC:20190127T170000
DTSTAMP:20260422T215802
CREATED:20180911T094930Z
LAST-MODIFIED:20190102T163000Z
UID:986-1548576000-1548608400@www.manegezwolle.nl
SUMMARY:F1/F2 proeven
DESCRIPTION:F proeven voor F1 en F2 ruiters
URL:https://www.manegezwolle.nl/event/f1-f2-proeven-2/
LOCATION:Indoor\, Haersterveerweg 1A\, Zwolle\, 8034PJ\, Nederland
END:VEVENT
BEGIN:VEVENT
DTSTART;TZID=UTC:20190120T080000
DTEND;TZID=UTC:20190120T170000
DTSTAMP:20260422T215802
CREATED:20180911T095507Z
LAST-MODIFIED:20180911T095507Z
UID:994-1547971200-1548003600@www.manegezwolle.nl
SUMMARY:F3+ proeven
DESCRIPTION:F proeven voor ruiters van de F3 en hoger
URL:https://www.manegezwolle.nl/event/f3-proeven-2/
LOCATION:Indoor\, Haersterveerweg 1A\, Zwolle\, 8034PJ\, Nederland
END:VEVENT
BEGIN:VEVENT
DTSTART;TZID=UTC:20190106T080000
DTEND;TZID=UTC:20190106T170000
DTSTAMP:20260422T215802
CREATED:20180911T093353Z
LAST-MODIFIED:20180911T093353Z
UID:974-1546761600-1546794000@www.manegezwolle.nl
SUMMARY:KNHS Dressuur
DESCRIPTION:Paarden B t/m M2 \nOpgeven via manegezwolle@hotmail.com
URL:https://www.manegezwolle.nl/event/knhs-dressuur-4/
LOCATION:Indoor\, Haersterveerweg 1A\, Zwolle\, 8034PJ\, Nederland
END:VEVENT
BEGIN:VEVENT
DTSTART;VALUE=DATE:20181215
DTEND;VALUE=DATE:20181216
DTSTAMP:20260422T215802
CREATED:20180911T095409Z
LAST-MODIFIED:20180911T095409Z
UID:992-1544832000-1544918399@www.manegezwolle.nl
SUMMARY:Concert Trinity
DESCRIPTION:
URL:https://www.manegezwolle.nl/event/concert-trinity/
END:VEVENT
BEGIN:VEVENT
DTSTART;VALUE=DATE:20181209
DTEND;VALUE=DATE:20181210
DTSTAMP:20260422T215802
CREATED:20180319T161309Z
LAST-MODIFIED:20180911T095328Z
UID:846-1544313600-1544399999@www.manegezwolle.nl
SUMMARY:Pas de Deux
DESCRIPTION:
URL:https://www.manegezwolle.nl/event/pas-de-deux-2/
END:VEVENT
BEGIN:VEVENT
DTSTART;TZID=UTC:20181202T080000
DTEND;TZID=UTC:20181202T190000
DTSTAMP:20260422T215802
CREATED:20180911T093313Z
LAST-MODIFIED:20180911T093313Z
UID:972-1543737600-1543777200@www.manegezwolle.nl
SUMMARY:KNHS Dressuur
DESCRIPTION:Paarden B t/m M2 \nOpgeven via manegezwolle@hotmail.com
URL:https://www.manegezwolle.nl/event/knhs-dressuur-3/
LOCATION:Indoor\, Haersterveerweg 1A\, Zwolle\, 8034PJ\, Nederland
END:VEVENT
BEGIN:VEVENT
DTSTART;TZID=UTC:20181130T190000
DTEND;TZID=UTC:20181130T200000
DTSTAMP:20260422T215802
CREATED:20181004T074704Z
LAST-MODIFIED:20181004T074704Z
UID:1038-1543604400-1543608000@www.manegezwolle.nl
SUMMARY:Ouder actie 23 & 30 nov.
DESCRIPTION:Rijdt uw zoon/dochter bij Manege Zwolle?\nDan kan je mee doen met de ouderactie!\n2 lessen van 30 minuten paardrijden onder begeleiding van een instructeur.\nZo kan je kennis maken met de paardensport en zelf ervaren hoe het is. \nGroep 1) 19.00-19.30 uur\nGroep 2) 19.30-20.00 uur\nDatum: 23 & 30 november
URL:https://www.manegezwolle.nl/event/ouder-actie-23-30-nov-2/
LOCATION:Indoor\, Haersterveerweg 1A\, Zwolle\, 8034PJ\, Nederland
END:VEVENT
BEGIN:VEVENT
DTSTART;TZID=UTC:20181123T190000
DTEND;TZID=UTC:20181123T200000
DTSTAMP:20260422T215802
CREATED:20181004T074625Z
LAST-MODIFIED:20181004T074625Z
UID:1036-1542999600-1543003200@www.manegezwolle.nl
SUMMARY:Ouder actie 23 & 30 nov
DESCRIPTION:Rijdt uw zoon/dochter bij Manege Zwolle?\nDan kan je mee doen met de ouderactie!\n2 lessen van 30 minuten paardrijden onder begeleiding van een instructeur.\nZo kan je kennis maken met de paardensport en zelf ervaren hoe het is. \nGroep 1) 19.00-19.30 uur\nGroep 2) 19.30-20.00 uur\nDatum: 23 & 30 november
URL:https://www.manegezwolle.nl/event/ouder-actie-23-30-nov/
LOCATION:Indoor\, Haersterveerweg 1A\, Zwolle\, 8034PJ\, Nederland
END:VEVENT
BEGIN:VEVENT
DTSTART;TZID=UTC:20181118T080000
DTEND;TZID=UTC:20181118T170000
DTSTAMP:20260422T215802
CREATED:20180911T095249Z
LAST-MODIFIED:20180911T095249Z
UID:990-1542528000-1542560400@www.manegezwolle.nl
SUMMARY:F3 + proeven
DESCRIPTION:F proeven voor ruiters van de F3 en hoger
URL:https://www.manegezwolle.nl/event/f3-proeven/
LOCATION:Indoor\, Haersterveerweg 1A\, Zwolle\, 8034PJ\, Nederland
END:VEVENT
BEGIN:VEVENT
DTSTART;TZID=UTC:20181116T190000
DTEND;TZID=UTC:20181116T200000
DTSTAMP:20260422T215802
CREATED:20181004T074532Z
LAST-MODIFIED:20181004T074532Z
UID:1033-1542394800-1542398400@www.manegezwolle.nl
SUMMARY:Ouderactie 9 & 16 nov.
DESCRIPTION:Rijdt uw zoon/dochter bij Manege Zwolle?\nDan kan je mee doen met de ouderactie!\n2 lessen van 30 minuten paardrijden onder begeleiding van een instructeur.\nZo kan je kennis maken met de paardensport en zelf ervaren hoe het is. \nGroep 1) 19.00-19.30 uur\nGroep 2) 19.30-20.00 uur\nDatum: 9 & 16 november
URL:https://www.manegezwolle.nl/event/ouderactie-9-16-nov-2/
LOCATION:Indoor\, Haersterveerweg 1A\, Zwolle\, 8034PJ\, Nederland
END:VEVENT
BEGIN:VEVENT
DTSTART;TZID=UTC:20181111T080000
DTEND;TZID=UTC:20181111T170000
DTSTAMP:20260422T215802
CREATED:20180911T094843Z
LAST-MODIFIED:20180911T094843Z
UID:984-1541923200-1541955600@www.manegezwolle.nl
SUMMARY:F1/F2 Proeven
DESCRIPTION:F proeven voor F1 en F2 ruiters
URL:https://www.manegezwolle.nl/event/f1-f2-proeven/
LOCATION:Indoor\, Haersterveerweg 1A\, Zwolle\, 8034PJ\, Nederland
END:VEVENT
BEGIN:VEVENT
DTSTART;TZID=UTC:20181109T190000
DTEND;TZID=UTC:20181109T200000
DTSTAMP:20260422T215802
CREATED:20181004T074457Z
LAST-MODIFIED:20181004T074457Z
UID:1031-1541790000-1541793600@www.manegezwolle.nl
SUMMARY:Ouderactie 9 & 16 nov.
DESCRIPTION:Rijdt uw zoon/dochter bij Manege Zwolle?\nDan kan je mee doen met de ouderactie!\n2 lessen van 30 minuten paardrijden onder begeleiding van een instructeur.\nZo kan je kennis maken met de paardensport en zelf ervaren hoe het is. \nGroep 1) 19.00-19.30 uur\nGroep 2) 19.30-20.00 uur\nDatum: 9 & 16 november
URL:https://www.manegezwolle.nl/event/ouderactie-9-16-nov/
LOCATION:Indoor\, Haersterveerweg 1A\, Zwolle\, 8034PJ\, Nederland
END:VEVENT
BEGIN:VEVENT
DTSTART;TZID=UTC:20181104T080000
DTEND;TZID=UTC:20181104T190000
DTSTAMP:20260422T215802
CREATED:20180911T093202Z
LAST-MODIFIED:20180911T093202Z
UID:970-1541318400-1541358000@www.manegezwolle.nl
SUMMARY:KNHS Dressuur
DESCRIPTION:Paarden B t/m M2 \nOpgeven via manegezwolle@hotmail.com
URL:https://www.manegezwolle.nl/event/knhs-dressuur-2/
END:VEVENT
BEGIN:VEVENT
DTSTART;TZID=UTC:20181101T173000
DTEND;TZID=UTC:20181101T183000
DTSTAMP:20260422T215802
CREATED:20180911T094637Z
LAST-MODIFIED:20180911T094637Z
UID:982-1541093400-1541097000@www.manegezwolle.nl
SUMMARY:Voorleescursus
DESCRIPTION:Voor de ouders/verzorgers die willen leren hoe zij een proef correct moeten voorlezen is er op 1 november een voorleescursus. Tijdens deze avond wordt er theorie en praktijk behandeld en bent u goed voorbereid om zelf tijdens de F3+ proeven de proef voor te lezen voor uw zoon/dochter
URL:https://www.manegezwolle.nl/event/voorleescursus/
LOCATION:Indoor\, Haersterveerweg 1A\, Zwolle\, 8034PJ\, Nederland
END:VEVENT
BEGIN:VEVENT
DTSTART;TZID=UTC:20181101T170000
DTEND;TZID=UTC:20181101T180000
DTSTAMP:20260422T215802
CREATED:20180911T094333Z
LAST-MODIFIED:20180911T094333Z
UID:980-1541091600-1541095200@www.manegezwolle.nl
SUMMARY:Theorieavond F2
DESCRIPTION:Voor de ruiters die op 11 november F2 diploma gaan rijden is er op 1 november een theorieavond waar de theorie van de F2 behandeld wordt.\nGeef je op via de mail of bij de balie.
URL:https://www.manegezwolle.nl/event/theorieavond-f2/
LOCATION:Indoor\, Haersterveerweg 1A\, Zwolle\, 8034PJ\, Nederland
END:VEVENT
BEGIN:VEVENT
DTSTART;TZID=UTC:20181023T093000
DTEND;TZID=UTC:20181026T123000
DTSTAMP:20260422T215802
CREATED:20181004T073634Z
LAST-MODIFIED:20181004T074134Z
UID:1026-1540287000-1540557000@www.manegezwolle.nl
SUMMARY:Ponyhuur- Herfstvakantie
DESCRIPTION:Vier dagen ben je van 9.30 tot 12.30 uur op de manege en heb je je ‘eigen’ pony.\nJe gaat eerst beginnen met het poetsen en zadelen en daarna ga je rijden. We sluiten iedere dag af met een andere activiteit.\nVan dinsdag t/m vrijdag van 9.30-12.30 uur\nKosten: € 100\,-\nGeef je op via de mail of bij de bar van Manege Zwolle
URL:https://www.manegezwolle.nl/event/ponyhuur-herfstvakantie-2/
LOCATION:Indoor\, Haersterveerweg 1A\, Zwolle\, 8034PJ\, Nederland
END:VEVENT
BEGIN:VEVENT
DTSTART;VALUE=DATE:20181021
DTEND;VALUE=DATE:20181022
DTSTAMP:20260422T215802
CREATED:20180319T145132Z
LAST-MODIFIED:20180319T145132Z
UID:844-1540080000-1540166399@www.manegezwolle.nl
SUMMARY:F proeven F3 en hoger
DESCRIPTION:
URL:https://www.manegezwolle.nl/event/f-proeven-f3-en-hoger-3/
END:VEVENT
BEGIN:VEVENT
DTSTART;TZID=UTC:20181012T180000
DTEND;TZID=UTC:20181012T210000
DTSTAMP:20260422T215802
CREATED:20180911T093038Z
LAST-MODIFIED:20180911T093038Z
UID:968-1539367200-1539378000@www.manegezwolle.nl
SUMMARY:Vaardigheidsproeven
DESCRIPTION:Vaardigheidsproeven voor alle ruiter die een promotiepunt in de F3 hebben.\nDe wedstrijden zullen in de avond verreden worden \nGeef je op via de website
URL:https://www.manegezwolle.nl/event/vaardigheidsproeven-2/
LOCATION:Indoor\, Haersterveerweg 1A\, Zwolle\, 8034PJ\, Nederland
END:VEVENT
BEGIN:VEVENT
DTSTART;TZID=UTC:20181007T080000
DTEND;TZID=UTC:20181007T190000
DTSTAMP:20260422T215802
CREATED:20180911T092821Z
LAST-MODIFIED:20180911T092821Z
UID:966-1538899200-1538938800@www.manegezwolle.nl
SUMMARY:KNHS Dressuur
DESCRIPTION:Zondag 7 oktober\nPaarden B t/m M2\nPony’s cat. CDE klasse B \nOpgeven via manegezwolle@hotmail.com
URL:https://www.manegezwolle.nl/event/knhs-dressuur/
LOCATION:Indoor\, Haersterveerweg 1A\, Zwolle\, 8034PJ\, Nederland
END:VEVENT
BEGIN:VEVENT
DTSTART;VALUE=DATE:20180930
DTEND;VALUE=DATE:20181001
DTSTAMP:20260422T215802
CREATED:20180319T141614Z
LAST-MODIFIED:20180319T141614Z
UID:842-1538265600-1538351999@www.manegezwolle.nl
SUMMARY:F proeven F3 en hoger
DESCRIPTION:
URL:https://www.manegezwolle.nl/event/f-proeven-f3-en-hoger-2/
END:VEVENT
BEGIN:VEVENT
DTSTART;VALUE=DATE:20180926
DTEND;VALUE=DATE:20180927
DTSTAMP:20260422T215802
CREATED:20180420T080529Z
LAST-MODIFIED:20180420T080529Z
UID:856-1537920000-1538006399@www.manegezwolle.nl
SUMMARY:KNHS Springconcours
DESCRIPTION:Overdag BB t/m ZZ voor paarden\nVanaf 18.00 uur BB t/m ZZ voor pony’s \nPrijzen zullen worden uitgereikt in producten. \nOpgeven kan door een mail te sturen naar: manegezwolle@hotmail.com
URL:https://www.manegezwolle.nl/event/knhs-springconcours/
LOCATION:Outdoor\, Haersterveerweg 1A\, Zwolle\, 8034PJ\, Nederland
END:VEVENT
BEGIN:VEVENT
DTSTART;VALUE=DATE:20180923
DTEND;VALUE=DATE:20180924
DTSTAMP:20260422T215802
CREATED:20180319T141515Z
LAST-MODIFIED:20180319T141515Z
UID:840-1537660800-1537747199@www.manegezwolle.nl
SUMMARY:F proeven F1 en F2
DESCRIPTION:
URL:https://www.manegezwolle.nl/event/f-proeven-f1-en-f2-3/
END:VEVENT
BEGIN:VEVENT
DTSTART;TZID=UTC:20180916T100000
DTEND;TZID=UTC:20180916T150000
DTSTAMP:20260422T215802
CREATED:20180911T092448Z
LAST-MODIFIED:20180911T092621Z
UID:964-1537092000-1537110000@www.manegezwolle.nl
SUMMARY:Spelletjesdag 16 september
DESCRIPTION:Manege Zwolle aan het Haersterveerweg in Zwolle houdt zondag 16 september een spelletjes als start van het nieuwe seizoen. Tijdens deze dag worden de spelletjes ingedeeld op niveau van de ruiters. Ook wie geen ervaring heeft met de paardensport is welkom om mee te doen en kennis te maken met de paardensport.\nDe spelletjesdag duurt van 10.00 tot 15.00 uur\, meedoen kost 15 euro\, incl. lunch.\nOpgeven via linda@manegezwolle.nl
URL:https://www.manegezwolle.nl/event/spelletjesdag-16-september/
LOCATION:Indoor\, Haersterveerweg 1A\, Zwolle\, 8034PJ\, Nederland
END:VEVENT
BEGIN:VEVENT
DTSTART;VALUE=DATE:20180912
DTEND;VALUE=DATE:20180913
DTSTAMP:20260422T215802
CREATED:20180319T141403Z
LAST-MODIFIED:20180420T080311Z
UID:838-1536710400-1536796799@www.manegezwolle.nl
SUMMARY:KNHS Spring Concours
DESCRIPTION:Overdag BB t/m ZZ voor paarden\nVanaf 18.00 uur BB t/m ZZ voor pony’s \nPrijzen zullen worden uitgereikt in producten. \nOpgeven kan door een mail te sturen naar: manegezwolle@hotmail.com
URL:https://www.manegezwolle.nl/event/spring-concours-4/
LOCATION:Outdoor\, Haersterveerweg 1A\, Zwolle\, 8034PJ\, Nederland
END:VEVENT
END:VCALENDAR