BEGIN:VCALENDAR
VERSION:2.0
PRODID:-//Manege Zwolle - ECPv6.15.20//NONSGML v1.0//EN
CALSCALE:GREGORIAN
METHOD:PUBLISH
X-WR-CALNAME:Manege Zwolle
X-ORIGINAL-URL:https://www.manegezwolle.nl
X-WR-CALDESC:Evenementen voor Manege Zwolle
REFRESH-INTERVAL;VALUE=DURATION:PT1H
X-Robots-Tag:noindex
X-PUBLISHED-TTL:PT1H
BEGIN:VTIMEZONE
TZID:UTC
BEGIN:STANDARD
TZOFFSETFROM:+0000
TZOFFSETTO:+0000
TZNAME:UTC
DTSTART:20190101T000000
END:STANDARD
END:VTIMEZONE
BEGIN:VEVENT
DTSTART;TZID=UTC:20200810T100000
DTEND;TZID=UTC:20200814T163000
DTSTAMP:20260422T225553
CREATED:20200311T120246Z
LAST-MODIFIED:20200311T120310Z
UID:1457-1597053600-1597422600@www.manegezwolle.nl
SUMMARY:Ponykamp 10 t/m 14 aug
DESCRIPTION:Kijk voor meer informatie op\nhttp://www.manegezwolle.nl/ponykamp/
URL:https://www.manegezwolle.nl/event/ponykamp-10-t-m-14-aug/
ATTACH;FMTTYPE=image/jpeg:https://www.manegezwolle.nl/wp-content/uploads/2020/03/poster-ponykamp-2020-versie-3.jpg
END:VEVENT
BEGIN:VEVENT
DTSTART;VALUE=DATE:20200720
DTEND;VALUE=DATE:20200810
DTSTAMP:20260422T225553
CREATED:20200311T120454Z
LAST-MODIFIED:20200311T120454Z
UID:1459-1595203200-1597017599@www.manegezwolle.nl
SUMMARY:Manege Gesloten
DESCRIPTION:De manege is gesloten van 20 juli t/m 9 augustus\nVanaf 10 augustus zullen de lessen weer plaatsvinden
URL:https://www.manegezwolle.nl/event/manege-gesloten-3/
ATTACH;FMTTYPE=image/png:https://www.manegezwolle.nl/wp-content/uploads/2019/07/zomer.png
END:VEVENT
BEGIN:VEVENT
DTSTART;TZID=UTC:20200713T100000
DTEND;TZID=UTC:20200717T163000
DTSTAMP:20260422T225553
CREATED:20200311T120133Z
LAST-MODIFIED:20200311T120133Z
UID:1455-1594634400-1595003400@www.manegezwolle.nl
SUMMARY:Ponykamp 13 t/m 17 juli
DESCRIPTION:Kijk voor meer informatie op\nhttp://www.manegezwolle.nl/ponykamp/
URL:https://www.manegezwolle.nl/event/ponykamp-13-t-m-17-juli/
ATTACH;FMTTYPE=image/jpeg:https://www.manegezwolle.nl/wp-content/uploads/2020/03/poster-ponykamp-2020-versie-3.jpg
END:VEVENT
BEGIN:VEVENT
DTSTART;TZID=UTC:20200708T080000
DTEND;TZID=UTC:20200708T210000
DTSTAMP:20260422T225553
CREATED:20200311T114650Z
LAST-MODIFIED:20200311T114650Z
UID:1430-1594195200-1594242000@www.manegezwolle.nl
SUMMARY:KNHS Springconcours
DESCRIPTION:KNHS Springen \nKlasse BB t/m ZZ\nOverdag paard\nvanaf ongeveer 17.30 uur pony´s\nopgave via manegezwolle@hotmail.com
URL:https://www.manegezwolle.nl/event/knhs-springconcours-5/
END:VEVENT
BEGIN:VEVENT
DTSTART;TZID=UTC:20200706T100000
DTEND;TZID=UTC:20200710T163000
DTSTAMP:20260422T225553
CREATED:20200311T120007Z
LAST-MODIFIED:20200311T120007Z
UID:1451-1594029600-1594398600@www.manegezwolle.nl
SUMMARY:Ponykamp 6 t/m 10 juli
DESCRIPTION:Kijk voor meer informatie op\nhttp://www.manegezwolle.nl/ponykamp/
URL:https://www.manegezwolle.nl/event/ponykamp-6-t-m-10-juli/
ATTACH;FMTTYPE=image/jpeg:https://www.manegezwolle.nl/wp-content/uploads/2020/03/poster-ponykamp-2020-versie-3.jpg
END:VEVENT
BEGIN:VEVENT
DTSTART;TZID=UTC:20200704T080000
DTEND;TZID=UTC:20200705T170000
DTSTAMP:20260422T225553
CREATED:20200311T114428Z
LAST-MODIFIED:20200618T125010Z
UID:1422-1593849600-1593968400@www.manegezwolle.nl
SUMMARY:KNHS Dressuurconcours
DESCRIPTION:KNHS Dressuur \nKlasse B t/m ZZL \nZaterdag: paard \nZondag: paard en pony\nopgave via manegezwolle@hotmail.com
URL:https://www.manegezwolle.nl/event/knhs-dressuurconcours-4/
END:VEVENT
BEGIN:VEVENT
DTSTART;TZID=UTC:20200628T080000
DTEND;TZID=UTC:20200628T170000
DTSTAMP:20260422T225553
CREATED:20200602T123158Z
LAST-MODIFIED:20200602T123158Z
UID:1486-1593331200-1593363600@www.manegezwolle.nl
SUMMARY:F proeven F 1 t/m F12
DESCRIPTION:F-proeven Juni 2020 \nHelaas kunnen de vaantjesdagen niet door gaan in de weekenden van 20/21 en 27/28 juni a.s. \nOp zondag 21 en zondag 28 juni gaan we F proeven dagen organiseren voor de F1 t/m F12.\nOp zaterdag 27 juni organiseren wij een speciale F proeven avond voor de volwassenruiters (16+) voor de F1 t/m F12. \nDeze dagen zullen er door alle coronamaatregelen iets anders uitzien dan jullie gewend zijn.\nDe ruiters krijgen na de proef het protocol en paspoort terug. Er zullen geen prijsuitreikingen plaatsvinden. \nOm iedereen de kans te geven om mee te doen kan je of 21 of 28 juni meedoen. Indien er ruimte over is dan kan je beide dagen meedoen.
URL:https://www.manegezwolle.nl/event/f-proeven-f-1-t-m-f12-2/
END:VEVENT
BEGIN:VEVENT
DTSTART;TZID=UTC:20200627T170000
DTEND;TZID=UTC:20200627T210000
DTSTAMP:20260422T225553
CREATED:20200602T123103Z
LAST-MODIFIED:20200602T123432Z
UID:1482-1593277200-1593291600@www.manegezwolle.nl
SUMMARY:F proeven Volwassenen
DESCRIPTION:F-proeven Juni 2020 \nHelaas kunnen de vaantjesdagen niet door gaan in de weekenden van 20/21 en 27/28 juni a.s. \nOp zondag 21 en zondag 28 juni gaan we F proeven dagen organiseren voor de F1 t/m F12.\nOp zaterdag 27 juni organiseren wij een speciale F proeven avond voor de volwassenruiters (16+) voor de F1 t/m F12. \nDeze dagen zullen er door alle coronamaatregelen iets anders uitzien dan jullie gewend zijn.\nDe ruiters krijgen na de proef het protocol en paspoort terug. Er zullen geen prijsuitreikingen plaatsvinden. \nOm iedereen de kans te geven om mee te doen kan je of 21 of 28 juni meedoen. Indien er ruimte over is dan kan je beide dagen meedoen.
URL:https://www.manegezwolle.nl/event/f-proeven-volwassenen/
END:VEVENT
BEGIN:VEVENT
DTSTART;TZID=UTC:20200624T080000
DTEND;TZID=UTC:20200624T210000
DTSTAMP:20260422T225553
CREATED:20200311T114623Z
LAST-MODIFIED:20200311T114623Z
UID:1428-1592985600-1593032400@www.manegezwolle.nl
SUMMARY:KNHS Springconcours
DESCRIPTION:KNHS Springen \nKlasse BB t/m ZZ\nOverdag paard\nvanaf ongeveer 17.30 uur pony´s\nopgave via manegezwolle@hotmail.com
URL:https://www.manegezwolle.nl/event/knhs-springconcours-4/
END:VEVENT
BEGIN:VEVENT
DTSTART;TZID=UTC:20200621T080000
DTEND;TZID=UTC:20200621T170000
DTSTAMP:20260422T225553
CREATED:20200602T123130Z
LAST-MODIFIED:20200602T123130Z
UID:1484-1592726400-1592758800@www.manegezwolle.nl
SUMMARY:F proeven F 1 t/m F12
DESCRIPTION:F-proeven Juni 2020 \nHelaas kunnen de vaantjesdagen niet door gaan in de weekenden van 20/21 en 27/28 juni a.s. \nOp zondag 21 en zondag 28 juni gaan we F proeven dagen organiseren voor de F1 t/m F12.\nOp zaterdag 27 juni organiseren wij een speciale F proeven avond voor de volwassenruiters (16+) voor de F1 t/m F12. \nDeze dagen zullen er door alle coronamaatregelen iets anders uitzien dan jullie gewend zijn.\nDe ruiters krijgen na de proef het protocol en paspoort terug. Er zullen geen prijsuitreikingen plaatsvinden. \nOm iedereen de kans te geven om mee te doen kan je of 21 of 28 juni meedoen. Indien er ruimte over is dan kan je beide dagen meedoen.
URL:https://www.manegezwolle.nl/event/f-proeven-f-1-t-m-f12/
END:VEVENT
BEGIN:VEVENT
DTSTART;TZID=UTC:20200612T080000
DTEND;TZID=UTC:20200614T170000
DTSTAMP:20260422T225553
CREATED:20200311T115358Z
LAST-MODIFIED:20200311T120925Z
UID:1441-1591948800-1592154000@www.manegezwolle.nl
SUMMARY:Wensink's Jumping de Peperbus
DESCRIPTION:Wensink’s Jumping de Peperbus 2020 \nVrijdag paarden BB t/m L\nZaterdag paarden BB t/m ZZ\nZondag paarden en pony’s BB t/m ZZ \nVoor meer informatie + opgeven\nhttps://www.startlijsten.nl/lijsten/175868-wensinks-jumping-de-peperbus-2020
URL:https://www.manegezwolle.nl/event/wensinks-jumping-de-peperbus/
ATTACH;FMTTYPE=image/jpeg:https://www.manegezwolle.nl/wp-content/uploads/2020/03/flyer-JdP2020.jpg
END:VEVENT
BEGIN:VEVENT
DTSTART;TZID=UTC:20200603T140000
DTEND;TZID=UTC:20200607T170000
DTSTAMP:20260422T225553
CREATED:20200311T114932Z
LAST-MODIFIED:20200311T120707Z
UID:1433-1591192800-1591549200@www.manegezwolle.nl
SUMMARY:Zwolse Ruiterdagen dressuur
DESCRIPTION:Van wo t/m Zo dressuur\nWoe t/m Vrij paarden B t/m ZZL\nZat pony’s B t/m Z2\nZon finale voor paarden en pony’s \nVoor meer informatie:\nhttps://www.startlijsten.nl/lijsten/175880-zwolse-ruiterdagen-dressuur-2020
URL:https://www.manegezwolle.nl/event/zwolse-ruiterdagen-dressuur/
ATTACH;FMTTYPE=image/jpeg:https://www.manegezwolle.nl/wp-content/uploads/2020/03/poster-Zwolse-ruiterdagen.jpg
END:VEVENT
BEGIN:VEVENT
DTSTART;TZID=UTC:20200527T080000
DTEND;TZID=UTC:20200527T210000
DTSTAMP:20260422T225553
CREATED:20200311T114555Z
LAST-MODIFIED:20200311T114555Z
UID:1426-1590566400-1590613200@www.manegezwolle.nl
SUMMARY:KNHS Springconcours
DESCRIPTION:KNHS Springen \nKlasse BB t/m ZZ\nOverdag paard\nvanaf ongeveer 17.30 uur pony´s\nopgave via manegezwolle@hotmail.com
URL:https://www.manegezwolle.nl/event/knhs-springconcours-3/
END:VEVENT
BEGIN:VEVENT
DTSTART;TZID=UTC:20200523T080000
DTEND;TZID=UTC:20200524T170000
DTSTAMP:20260422T225553
CREATED:20200311T114347Z
LAST-MODIFIED:20200311T114358Z
UID:1420-1590220800-1590339600@www.manegezwolle.nl
SUMMARY:KNHS dressuurconcours
DESCRIPTION:KNHS Dressuur \nKlasse B t/m ZZL\nZaterdag : paard\nZondag: paard en pony\nopgave via manegezwolle@hotmail.com
URL:https://www.manegezwolle.nl/event/knhs-dressuurconcours-3/
END:VEVENT
BEGIN:VEVENT
DTSTART;TZID=UTC:20200512T080000
DTEND;TZID=UTC:20200517T170000
DTSTAMP:20260422T225553
CREATED:20200311T115100Z
LAST-MODIFIED:20200311T120733Z
UID:1435-1589270400-1589734800@www.manegezwolle.nl
SUMMARY:Zwolse Ruiterdagen springen
DESCRIPTION:Van di t/m Zo springen\nDin t/m Vrij paarden BB t/m ZZ\nZat pony’s B t/m ZZ\nZon finale voor paarden en pony’s \nVoor meer informatie:\nhttps://www.startlijsten.nl/lijsten/175816-zwolse-ruiterdagen-springen-2020
URL:https://www.manegezwolle.nl/event/zwolse-ruiterdagen-springen/
ATTACH;FMTTYPE=image/jpeg:https://www.manegezwolle.nl/wp-content/uploads/2020/03/poster-Zwolse-ruiterdagen.jpg
END:VEVENT
BEGIN:VEVENT
DTSTART;TZID=UTC:20200503T080000
DTEND;TZID=UTC:20200503T170000
DTSTAMP:20260422T225553
CREATED:20200311T115143Z
LAST-MODIFIED:20200311T115143Z
UID:1437-1588492800-1588525200@www.manegezwolle.nl
SUMMARY:F proeven F3 en hoger
DESCRIPTION:Voor alle ruiters die F3 en hoger starten
URL:https://www.manegezwolle.nl/event/f-proeven-f3-en-hoger-4/
END:VEVENT
BEGIN:VEVENT
DTSTART;TZID=UTC:20200502T080000
DTEND;TZID=UTC:20200503T170000
DTSTAMP:20260422T225553
CREATED:20200311T114322Z
LAST-MODIFIED:20200311T114322Z
UID:1418-1588406400-1588525200@www.manegezwolle.nl
SUMMARY:KNHS Dressuur concours
DESCRIPTION:KNHS Dressuur \nKlasse B t/m ZZL\nZaterdag : paard\nZondag: paard en pony\nopgave via manegezwolle@hotmail.com
URL:https://www.manegezwolle.nl/event/knhs-dressuur-concours/
END:VEVENT
BEGIN:VEVENT
DTSTART;TZID=UTC:20200418T080000
DTEND;TZID=UTC:20200419T170000
DTSTAMP:20260422T225553
CREATED:20200311T114254Z
LAST-MODIFIED:20200311T114254Z
UID:1416-1587196800-1587315600@www.manegezwolle.nl
SUMMARY:KNHS dressuurconcours
DESCRIPTION:KNHS Dressuur \nKlasse B t/m ZZL\nZaterdag : paard\nZondag: paard en pony\nopgave via manegezwolle@hotmail.com
URL:https://www.manegezwolle.nl/event/knhs-dressuurconcours-2/
END:VEVENT
BEGIN:VEVENT
DTSTART;TZID=UTC:20200415T080000
DTEND;TZID=UTC:20200415T210000
DTSTAMP:20260422T225553
CREATED:20200311T114524Z
LAST-MODIFIED:20200311T114524Z
UID:1424-1586937600-1586984400@www.manegezwolle.nl
SUMMARY:KNHS Springconcours
DESCRIPTION:KNHS Springen \nKlasse BB t/m ZZ\nOverdag paard\nvanaf ongeveer 17.30 uur pony´s\nopgave via manegezwolle@hotmail.com
URL:https://www.manegezwolle.nl/event/knhs-springconcours-2/
END:VEVENT
BEGIN:VEVENT
DTSTART;TZID=UTC:20200404T080000
DTEND;TZID=UTC:20200405T170000
DTSTAMP:20260422T225553
CREATED:20200311T114227Z
LAST-MODIFIED:20200311T114227Z
UID:1414-1585987200-1586106000@www.manegezwolle.nl
SUMMARY:KNHS dressuurconcours
DESCRIPTION:KNHS Dressuur \nKlasse B t/m ZZL\nZaterdag : paard\nZondag: paard en pony\nopgave via manegezwolle@hotmail.com
URL:https://www.manegezwolle.nl/event/knhs-dressuurconcours/
END:VEVENT
BEGIN:VEVENT
DTSTART;TZID=UTC:20200402T180000
DTEND;TZID=UTC:20200402T190000
DTSTAMP:20260422T225553
CREATED:20200311T114123Z
LAST-MODIFIED:20200311T114123Z
UID:1412-1585850400-1585854000@www.manegezwolle.nl
SUMMARY:Voorleescursus
DESCRIPTION:Voor de ouders/verzorgers van de F3 en hogere ruiters is er op 2 april een voorleescursus.\nVanaf de F3 worden de proeven niet meer door iemand van Manege Zwolle voorgelezen
URL:https://www.manegezwolle.nl/event/voorleescursus-3/
END:VEVENT
BEGIN:VEVENT
DTSTART;TZID=UTC:20200329T100000
DTEND;TZID=UTC:20200329T170000
DTSTAMP:20260422T225553
CREATED:20200108T135854Z
LAST-MODIFIED:20200108T135854Z
UID:1351-1585476000-1585501200@www.manegezwolle.nl
SUMMARY:Proevendag F1/F2
DESCRIPTION:Proevendag voor de ruiters die F1/F2 rijden
URL:https://www.manegezwolle.nl/event/proevendag-f1-f2-2/
END:VEVENT
BEGIN:VEVENT
DTSTART;TZID=UTC:20200327T193000
DTEND;TZID=UTC:20200327T210000
DTSTAMP:20260422T225553
CREATED:20200311T121142Z
LAST-MODIFIED:20200311T130426Z
UID:1463-1585337400-1585342800@www.manegezwolle.nl
SUMMARY:Bingo bij Manege Zwolle
DESCRIPTION:Bingo bij Manege Zwolle \nvanaf 19.30 uur
URL:https://www.manegezwolle.nl/event/bingo-bij-manege-zwolle/
ATTACH;FMTTYPE=image/jpeg:https://www.manegezwolle.nl/wp-content/uploads/2020/03/poster-27-maart-vierkant.jpg
END:VEVENT
BEGIN:VEVENT
DTSTART;TZID=UTC:20200326T170000
DTEND;TZID=UTC:20200326T180000
DTSTAMP:20260422T225553
CREATED:20200311T114015Z
LAST-MODIFIED:20200311T114015Z
UID:1410-1585242000-1585245600@www.manegezwolle.nl
SUMMARY:Theorieavond F2
DESCRIPTION:Theorieavond voor alle F2 ruiters die op 29 maart voor hun F2 diploma gaan.
URL:https://www.manegezwolle.nl/event/theorieavond-f2-2/
END:VEVENT
BEGIN:VEVENT
DTSTART;TZID=UTC:20200320T190000
DTEND;TZID=UTC:20200320T203000
DTSTAMP:20260422T225553
CREATED:20200204T133020Z
LAST-MODIFIED:20200204T133020Z
UID:1391-1584730800-1584736200@www.manegezwolle.nl
SUMMARY:Ouderactie maart 2020 2/2
DESCRIPTION:Ouder-actie Maart 2020 \n  \nRijdt uw zoon/dochter paard bij Manege Zwolle? Dan hebben we een leuke actie voor u! \nAls ouder/verzorger van één van onze ruiters kunt u meedoen met de ouderactie. \n  \n  \nWat houdt dit in? \nOm kennis te maken met de paardensport bieden wij voor ouders/verzorgers van onze ruiters enkele lessen aan. In groepjes van 4 personen maakt u kennis met de beginselen van het paardrijden. Deze lessen duren 30 minuten. En dit is een set van 2 lessen. \nBinnen deze lessen krijgt u de technische informatie over het paardrijden. Wanneer u het paardrijden zelf ervaart dan kunt u zich beter inleven in de rijlessen van uw zoon/dochter. \n  \n  \nVoor wie is dit? \nVoor alle ouders/verzorgers van ruiter bij Manege Zwolle die graag zelf een keer willen ervaren hoe het is om op een paard te rijden. \n  \nWat kosten de lessen? \nVoor 2 lessen van 30 minuten betaald u € 20\,- als kennismakingsactie. \n  \nWanneer zijn de lessen? \nDeze lessen zullen plaatsvinden op vrijdag 13 en 20 maart 2020! \nU kunt bij opgave uw voorkeur aangeven voor de tijd. \n  \nHoe geef ik mij op voor deze lessen? \nU kunt zich inschrijven via de mail of bij de bar van Manege Zwolle. \nHier kunt u aangeven welke tijden en dagen voor u het beste uitkomen om deze lessen te volgen.
URL:https://www.manegezwolle.nl/event/ouderactie-maart-2020-2-2/
END:VEVENT
BEGIN:VEVENT
DTSTART;TZID=UTC:20200315T080000
DTEND;TZID=UTC:20200315T170000
DTSTAMP:20260422T225553
CREATED:20190903T103651Z
LAST-MODIFIED:20190903T103651Z
UID:1252-1584259200-1584291600@www.manegezwolle.nl
SUMMARY:KNHS Dressuur
DESCRIPTION:KNHS Dressuurwedstrijd\nKlasse B t/m M2\nOpgeven via manegezwolle@hotmail.com
URL:https://www.manegezwolle.nl/event/knhs-dressuur-21/
END:VEVENT
BEGIN:VEVENT
DTSTART;TZID=UTC:20200313T190000
DTEND;TZID=UTC:20200313T203000
DTSTAMP:20260422T225553
CREATED:20200204T132935Z
LAST-MODIFIED:20200204T133046Z
UID:1389-1584126000-1584131400@www.manegezwolle.nl
SUMMARY:Ouderactie maart 2020 1/2
DESCRIPTION:Ouder-actie Maart 2020 \n  \nRijdt uw zoon/dochter paard bij Manege Zwolle? Dan hebben we een leuke actie voor u! \nAls ouder/verzorger van één van onze ruiters kunt u meedoen met de ouderactie. \n  \n  \nWat houdt dit in? \nOm kennis te maken met de paardensport bieden wij voor ouders/verzorgers van onze ruiters enkele lessen aan. In groepjes van 4 personen maakt u kennis met de beginselen van het paardrijden. Deze lessen duren 30 minuten. En dit is een set van 2 lessen. \nBinnen deze lessen krijgt u de technische informatie over het paardrijden. Wanneer u het paardrijden zelf ervaart dan kunt u zich beter inleven in de rijlessen van uw zoon/dochter. \n  \n  \nVoor wie is dit? \nVoor alle ouders/verzorgers van ruiter bij Manege Zwolle die graag zelf een keer willen ervaren hoe het is om op een paard te rijden. \n  \nWat kosten de lessen? \nVoor 2 lessen van 30 minuten betaald u € 20\,- als kennismakingsactie. \n  \nWanneer zijn de lessen? \nDeze lessen zullen plaatsvinden op vrijdag 13 en 20 maart 2020! \nU kunt bij opgave uw voorkeur aangeven voor de tijd. \n  \nHoe geef ik mij op voor deze lessen? \nU kunt zich inschrijven via de mail of bij de bar van Manege Zwolle. \nHier kunt u aangeven welke tijden en dagen voor u het beste uitkomen om deze lessen te volgen.
URL:https://www.manegezwolle.nl/event/ouderactie-maart-2020/
END:VEVENT
BEGIN:VEVENT
DTSTART;TZID=UTC:20200308T100000
DTEND;TZID=UTC:20200308T170000
DTSTAMP:20260422T225553
CREATED:20200108T140026Z
LAST-MODIFIED:20200108T140026Z
UID:1357-1583661600-1583686800@www.manegezwolle.nl
SUMMARY:Proevendag F3+
DESCRIPTION:Proevendag voor de ruiters die F3 en hoger rijden
URL:https://www.manegezwolle.nl/event/proevendag-f3-3/
END:VEVENT
BEGIN:VEVENT
DTSTART;TZID=UTC:20200301T080000
DTEND;TZID=UTC:20200301T170000
DTSTAMP:20260422T225553
CREATED:20190903T103315Z
LAST-MODIFIED:20190903T103315Z
UID:1250-1583049600-1583082000@www.manegezwolle.nl
SUMMARY:KNHS Dressuur
DESCRIPTION:KNHS Dressuurwedstrijd\nKlasse B t/m M2\nOpgeven via manegezwolle@hotmail.com
URL:https://www.manegezwolle.nl/event/knhs-dressuur-20/
END:VEVENT
BEGIN:VEVENT
DTSTART;TZID=UTC:20200223T080000
DTEND;TZID=UTC:20200223T170000
DTSTAMP:20260422T225553
CREATED:20190903T103200Z
LAST-MODIFIED:20190903T103200Z
UID:1246-1582444800-1582477200@www.manegezwolle.nl
SUMMARY:KNHS Dressuur
DESCRIPTION:KNHS Dressuurwedstrijd\nKlasse B t/m M2\nOpgeven via manegezwolle@hotmail.com
URL:https://www.manegezwolle.nl/event/knhs-dressuur-18/
END:VEVENT
END:VCALENDAR