BEGIN:VCALENDAR
VERSION:2.0
PRODID:-//Manege Zwolle - ECPv6.15.20//NONSGML v1.0//EN
CALSCALE:GREGORIAN
METHOD:PUBLISH
X-WR-CALNAME:Manege Zwolle
X-ORIGINAL-URL:https://www.manegezwolle.nl
X-WR-CALDESC:Evenementen voor Manege Zwolle
REFRESH-INTERVAL;VALUE=DURATION:PT1H
X-Robots-Tag:noindex
X-PUBLISHED-TTL:PT1H
BEGIN:VTIMEZONE
TZID:UTC
BEGIN:STANDARD
TZOFFSETFROM:+0000
TZOFFSETTO:+0000
TZNAME:UTC
DTSTART:20190101T000000
END:STANDARD
END:VTIMEZONE
BEGIN:VEVENT
DTSTART;TZID=UTC:20210710T080000
DTEND;TZID=UTC:20210711T170000
DTSTAMP:20260422T022333
CREATED:20210602T163630Z
LAST-MODIFIED:20210602T163630Z
UID:1732-1625904000-1626022800@www.manegezwolle.nl
SUMMARY:KNHS Dressuur
DESCRIPTION:KNHS dressuur outdoor \nkijk op www.startlijsten.nl voor meer informatie
URL:https://www.manegezwolle.nl/event/knhs-dressuur-23/
END:VEVENT
BEGIN:VEVENT
DTSTART;TZID=UTC:20210707T090000
DTEND;TZID=UTC:20210707T210000
DTSTAMP:20260422T022333
CREATED:20210602T163550Z
LAST-MODIFIED:20210602T163550Z
UID:1730-1625648400-1625691600@www.manegezwolle.nl
SUMMARY:KNHS Springen
DESCRIPTION:KNHS springen outdoor \nkijk op www.startlijsten.nl voor meer informatie
URL:https://www.manegezwolle.nl/event/knhs-springen-8/
END:VEVENT
BEGIN:VEVENT
DTSTART;TZID=UTC:20210627T100000
DTEND;TZID=UTC:20210627T170000
DTSTAMP:20260422T022333
CREATED:20210602T163250Z
LAST-MODIFIED:20210602T163250Z
UID:1722-1624788000-1624813200@www.manegezwolle.nl
SUMMARY:F3+ proevendag
DESCRIPTION:F- proevendag voor F3 en hoger
URL:https://www.manegezwolle.nl/event/f3-proevendag/
END:VEVENT
BEGIN:VEVENT
DTSTART;TZID=UTC:20210626T170000
DTEND;TZID=UTC:20210626T210000
DTSTAMP:20260422T022333
CREATED:20210602T163147Z
LAST-MODIFIED:20210602T163201Z
UID:1720-1624726800-1624741200@www.manegezwolle.nl
SUMMARY:14+ F proevenavond
DESCRIPTION:F proevendag voor 14+ ruiters
URL:https://www.manegezwolle.nl/event/14-f-proevenavond/
END:VEVENT
BEGIN:VEVENT
DTSTART;TZID=UTC:20210626T080000
DTEND;TZID=UTC:20210627T170000
DTSTAMP:20260422T022333
CREATED:20210602T163425Z
LAST-MODIFIED:20210602T163425Z
UID:1726-1624694400-1624813200@www.manegezwolle.nl
SUMMARY:KNHS Dressuur
DESCRIPTION:KNHS dressuur outdoor \nkijk op www.startlijsten.nl voor meer informatie
URL:https://www.manegezwolle.nl/event/knhs-dressuur-22/
END:VEVENT
BEGIN:VEVENT
DTSTART;TZID=UTC:20210623T090000
DTEND;TZID=UTC:20210623T210000
DTSTAMP:20260422T022333
CREATED:20210602T163503Z
LAST-MODIFIED:20210602T163503Z
UID:1728-1624438800-1624482000@www.manegezwolle.nl
SUMMARY:KNHS Springen
DESCRIPTION:KNHS springen outdoor \nkijk op www.startlijsten.nl voor meer informatie
URL:https://www.manegezwolle.nl/event/knhs-springen-7/
END:VEVENT
BEGIN:VEVENT
DTSTART;TZID=UTC:20210619T080000
DTEND;TZID=UTC:20210619T170000
DTSTAMP:20260422T022333
CREATED:20210602T163337Z
LAST-MODIFIED:20210602T163337Z
UID:1724-1624089600-1624122000@www.manegezwolle.nl
SUMMARY:Kringkampioenschap Kring NWO-NOP springen
DESCRIPTION:Kringkampioenschap springen van kring NWO-NOP
URL:https://www.manegezwolle.nl/event/kringkampioenschap-kring-nwo-nop-springen/
END:VEVENT
BEGIN:VEVENT
DTSTART;TZID=UTC:20210613T100000
DTEND;TZID=UTC:20210613T170000
DTSTAMP:20260422T022333
CREATED:20210602T163102Z
LAST-MODIFIED:20210602T163102Z
UID:1718-1623578400-1623603600@www.manegezwolle.nl
SUMMARY:Vaardigheid en S proevendag
DESCRIPTION:Vaardigheidsproeven en Spring proeven dag
URL:https://www.manegezwolle.nl/event/vaardigheid-en-s-proevendag/
END:VEVENT
BEGIN:VEVENT
DTSTART;TZID=UTC:20210606T100000
DTEND;TZID=UTC:20210606T170000
DTSTAMP:20260422T022333
CREATED:20210602T163004Z
LAST-MODIFIED:20210602T163004Z
UID:1716-1622973600-1622998800@www.manegezwolle.nl
SUMMARY:F1/F2 proevendag
DESCRIPTION:Proevendag voor de F1/F2 ruiters
URL:https://www.manegezwolle.nl/event/f1-f2-proevendag/
END:VEVENT
BEGIN:VEVENT
DTSTART;TZID=UTC:20210321T090000
DTEND;TZID=UTC:20210321T210000
DTSTAMP:20260422T022333
CREATED:20200827T072918Z
LAST-MODIFIED:20200827T072918Z
UID:1532-1616317200-1616360400@www.manegezwolle.nl
SUMMARY:KNHS indoor Dressuur
DESCRIPTION:Klasse B t/m M2 paarden \nOpgeven via mijnKNHS
URL:https://www.manegezwolle.nl/event/knhs-indoor-dressuur-9/
END:VEVENT
BEGIN:VEVENT
DTSTART;TZID=UTC:20210314T100000
DTEND;TZID=UTC:20210314T170000
DTSTAMP:20260422T022333
CREATED:20210303T092940Z
LAST-MODIFIED:20210303T092940Z
UID:1665-1615716000-1615741200@www.manegezwolle.nl
SUMMARY:F proevendag tot 27 jaar
DESCRIPTION:F proevendag voor ruiters van Manege Zwolle tot 27 jaar \nAlle F niveau’s \nGeef je op via het formulier op de website. \nKijk voor meer informatie onder het kopje manegewedstrijden
URL:https://www.manegezwolle.nl/event/f-proevendag-tot-27-jaar/
END:VEVENT
BEGIN:VEVENT
DTSTART;TZID=UTC:20210307T090000
DTEND;TZID=UTC:20210307T210000
DTSTAMP:20260422T022333
CREATED:20200827T072847Z
LAST-MODIFIED:20200827T072847Z
UID:1530-1615107600-1615150800@www.manegezwolle.nl
SUMMARY:KNHS indoor Dressuur
DESCRIPTION:Klasse B t/m M2 paarden \nOpgeven via mijnKNHS
URL:https://www.manegezwolle.nl/event/knhs-indoor-dressuur-8/
END:VEVENT
BEGIN:VEVENT
DTSTART;TZID=UTC:20210221T090000
DTEND;TZID=UTC:20210221T210000
DTSTAMP:20260422T022333
CREATED:20200827T072556Z
LAST-MODIFIED:20200827T072556Z
UID:1528-1613898000-1613941200@www.manegezwolle.nl
SUMMARY:KNHS Indoor Dressuur
DESCRIPTION:Klasse B t/m M2 paarden \nOpgeven via mijnKNHS
URL:https://www.manegezwolle.nl/event/knhs-indoor-dressuur-7/
END:VEVENT
BEGIN:VEVENT
DTSTART;TZID=UTC:20210207T090000
DTEND;TZID=UTC:20210207T210000
DTSTAMP:20260422T022333
CREATED:20200827T072452Z
LAST-MODIFIED:20200827T072452Z
UID:1526-1612688400-1612731600@www.manegezwolle.nl
SUMMARY:KNHS indoor dressuur
DESCRIPTION:Klasse B t/m M2 paarden \nOpgeven via mijnKNHS
URL:https://www.manegezwolle.nl/event/knhs-indoor-dressuur-6/
END:VEVENT
BEGIN:VEVENT
DTSTART;TZID=UTC:20210117T090000
DTEND;TZID=UTC:20210117T210000
DTSTAMP:20260422T022333
CREATED:20200827T072404Z
LAST-MODIFIED:20200827T072404Z
UID:1524-1610874000-1610917200@www.manegezwolle.nl
SUMMARY:KNHS indoor dressuur
DESCRIPTION:Klasse B t/m M2 paarden \nOpgeven via mijnKNHS
URL:https://www.manegezwolle.nl/event/knhs-indoor-dressuur-5/
END:VEVENT
BEGIN:VEVENT
DTSTART;TZID=UTC:20201213T100000
DTEND;TZID=UTC:20201213T170000
DTSTAMP:20260422T022333
CREATED:20200826T153214Z
LAST-MODIFIED:20201117T183354Z
UID:1513-1607853600-1607878800@www.manegezwolle.nl
SUMMARY:F proevendag alle niveau's
DESCRIPTION:De jaarlijkse pas de deux gaat helaas niet door ivm de corona maatregelen. \nDeze dag vindt er een F proevendag plaats voor alle niveau’s.\nOpgeven kan via de website!
URL:https://www.manegezwolle.nl/event/pas-de-deux-4/
END:VEVENT
BEGIN:VEVENT
DTSTART;TZID=UTC:20201206T090000
DTEND;TZID=UTC:20201206T210000
DTSTAMP:20260422T022333
CREATED:20200827T072239Z
LAST-MODIFIED:20200827T072239Z
UID:1522-1607245200-1607288400@www.manegezwolle.nl
SUMMARY:KNHS indoor Dressuur
DESCRIPTION:Klasse B t/m M2 paarden \nOpgeven via mijnKNHS
URL:https://www.manegezwolle.nl/event/knhs-indoor-dressuur-4/
END:VEVENT
BEGIN:VEVENT
DTSTART;TZID=UTC:20201122T090000
DTEND;TZID=UTC:20201122T210000
DTSTAMP:20260422T022333
CREATED:20200827T072208Z
LAST-MODIFIED:20200827T072208Z
UID:1520-1606035600-1606078800@www.manegezwolle.nl
SUMMARY:KNHS indoor Dressuur
DESCRIPTION:Klasse B t/m M2 paarden \nOpgeven via mijnKNHS
URL:https://www.manegezwolle.nl/event/knhs-indoor-dressuur-3/
END:VEVENT
BEGIN:VEVENT
DTSTART;TZID=UTC:20201115T100000
DTEND;TZID=UTC:20201115T170000
DTSTAMP:20260422T022333
CREATED:20200826T152818Z
LAST-MODIFIED:20200826T152818Z
UID:1507-1605434400-1605459600@www.manegezwolle.nl
SUMMARY:Proevendag F3 en hoger
DESCRIPTION:Proevendag F3 en hoger
URL:https://www.manegezwolle.nl/event/proevendag-f3-en-hoger-5/
END:VEVENT
BEGIN:VEVENT
DTSTART;TZID=UTC:20201108T100000
DTEND;TZID=UTC:20201108T170000
DTSTAMP:20260422T022333
CREATED:20200826T152929Z
LAST-MODIFIED:20200826T152929Z
UID:1511-1604829600-1604854800@www.manegezwolle.nl
SUMMARY:Proevendag F1 en F2
DESCRIPTION:Proevendag F1 en F2
URL:https://www.manegezwolle.nl/event/proevendag-f1-en-f2-3/
END:VEVENT
BEGIN:VEVENT
DTSTART;TZID=UTC:20201101T090000
DTEND;TZID=UTC:20201101T220000
DTSTAMP:20260422T022333
CREATED:20200827T072127Z
LAST-MODIFIED:20200827T072127Z
UID:1518-1604221200-1604268000@www.manegezwolle.nl
SUMMARY:KNHS indoor Dressuur
DESCRIPTION:Klasse B t/m M2 paarden \nOpgeven via mijnKNHS
URL:https://www.manegezwolle.nl/event/knhs-indoor-dressuur-2/
END:VEVENT
BEGIN:VEVENT
DTSTART;TZID=UTC:20201025T080000
DTEND;TZID=UTC:20201025T170000
DTSTAMP:20260422T022333
CREATED:20200826T152746Z
LAST-MODIFIED:20200826T152746Z
UID:1505-1603612800-1603645200@www.manegezwolle.nl
SUMMARY:Proevendag F3 en hoger
DESCRIPTION:Proevendag F3 en hoger
URL:https://www.manegezwolle.nl/event/proevendag-f3-en-hoger-4/
END:VEVENT
BEGIN:VEVENT
DTSTART;TZID=UTC:20201018T080000
DTEND;TZID=UTC:20201018T210000
DTSTAMP:20260422T022333
CREATED:20200826T153701Z
LAST-MODIFIED:20200826T153701Z
UID:1515-1603008000-1603054800@www.manegezwolle.nl
SUMMARY:KNHS indoor dressuur
DESCRIPTION:Klasse B t/m M2 paarden \nOpgeven via mijnKNHS
URL:https://www.manegezwolle.nl/event/knhs-indoor-dressuur/
END:VEVENT
BEGIN:VEVENT
DTSTART;TZID=UTC:20201013T100000
DTEND;TZID=UTC:20201016T163000
DTSTAMP:20260422T022333
CREATED:20200827T082748Z
LAST-MODIFIED:20200827T101341Z
UID:1547-1602583200-1602865800@www.manegezwolle.nl
SUMMARY:Mini Ponykamp Herfstvakantie
DESCRIPTION:4 dagen ponyplezier van 10.00-16.30 uur!\nDeze week heb je een ‘eigen’ pony en ga je allerlei leuke dingen doen.  Je gaat iedere dag ponyrijden en er staan allerlei leuke       activiteiten op het programma.\nSchriktraining\, Theorieles\, Voltige en nog veel meer!\nLeeftijd: 6 tot 12 jaar \nKosten: € 200\,- p.p. incl Lunch
URL:https://www.manegezwolle.nl/event/mini-ponykamp-herfstvakantie/
END:VEVENT
BEGIN:VEVENT
DTSTART;TZID=UTC:20200927T100000
DTEND;TZID=UTC:20200927T170000
DTSTAMP:20260422T022333
CREATED:20200826T152853Z
LAST-MODIFIED:20200826T152853Z
UID:1509-1601200800-1601226000@www.manegezwolle.nl
SUMMARY:Proevendag F1 en F2
DESCRIPTION:Proevendag F1 en F2
URL:https://www.manegezwolle.nl/event/proevendag-f1-en-f2-2/
END:VEVENT
BEGIN:VEVENT
DTSTART;TZID=UTC:20200920T080000
DTEND;TZID=UTC:20200920T170000
DTSTAMP:20260422T022333
CREATED:20200826T152724Z
LAST-MODIFIED:20200826T152724Z
UID:1503-1600588800-1600621200@www.manegezwolle.nl
SUMMARY:Proevendag F3 en hoger
DESCRIPTION:Proevendag F3 en hoger
URL:https://www.manegezwolle.nl/event/proevendag-f3-en-hoger-3/
END:VEVENT
BEGIN:VEVENT
DTSTART;TZID=UTC:20200919T100000
DTEND;TZID=UTC:20200919T150000
DTSTAMP:20260422T022333
CREATED:20200827T081003Z
LAST-MODIFIED:20200827T105101Z
UID:1538-1600509600-1600527600@www.manegezwolle.nl
SUMMARY:OPEN DAG
DESCRIPTION:  \nOpen dag bij Manege Zwolle van 10.00/15.00 uur \nEr zijn allerlei leuke activiteiten te doen zoals spelletjes\, schminken\, rondleiding\, een quiz en natuurlijk kan het ponyrijden niet ontbreken! \nKom deze dag gezellig langs!
URL:https://www.manegezwolle.nl/event/open-dag/
ATTACH;FMTTYPE=image/jpeg:https://www.manegezwolle.nl/wp-content/uploads/2020/08/poster-open-dag.jpg
END:VEVENT
BEGIN:VEVENT
DTSTART;TZID=UTC:20200919T080000
DTEND;TZID=UTC:20200920T170000
DTSTAMP:20260422T022333
CREATED:20200827T081236Z
LAST-MODIFIED:20200827T081236Z
UID:1543-1600502400-1600621200@www.manegezwolle.nl
SUMMARY:KNHS Outdoor dressuur
DESCRIPTION:KNHS Dressuur \nZaterdag paarden B t/m ZZL\nZondag paarden en pony´s B t/m ZZL \nOpgeven kan via mijnKNHS
URL:https://www.manegezwolle.nl/event/knhs-outdoor-dressuur/
END:VEVENT
BEGIN:VEVENT
DTSTART;TZID=UTC:20200910T180000
DTEND;TZID=UTC:20200910T190000
DTSTAMP:20260422T022333
CREATED:20200827T073132Z
LAST-MODIFIED:20200827T073132Z
UID:1534-1599760800-1599764400@www.manegezwolle.nl
SUMMARY:Voorlees cursus voor ouders/verzorgers
DESCRIPTION:Voorleescursus F- proeven \n  \nRijdt uw zoon/dochter mee met de F-proeven uit de ruiteropleiding van de KNHS? \nTijdens de proeven F1 en F2 worden de proeven voorgelezen door iemand van Manege Zwolle. Vanaf de F3 zorgen de deelnemers zelf voor een voorlezer. \nVoor iedereen die wil oefenen of wil leren hoe je een proef moet voorlezen organiseren wij de voorleesavond. \nTijdens deze avond wordt er behandeld: \n\nOpzet van de ruiteropleidingen van de KNHS\nUitleg ruiterpaspoort KNHS\nWaar let de jury op?\nHoe lees je correct een dressuurproef voor?\nPraktijk: Voorlezen van de proeven\n\n  \nVoor wie?  \nVoor iedereen die het leuk vindt om te leren hoe je een dressuurproef het beste kan voorlezen. \n  \nWanneer? \nDonderdag 10 september 2020 \nInloop met koffie vanaf 17.45 uur. Start van de cursus 18.00 uur. \n  \nWaar? \nIn de kantine bij Manege Zwolle \n  \nKosten: \n€ 5\,- per persoon (incl. consumptie) \n  \nOpgeven: \nOpgeven kan bij de bar op de opgavelijst of via de mail (info@manegezwolle.nl)\nVóór 7 september opgeven!
URL:https://www.manegezwolle.nl/event/voorlees-cursus-voor-ouders-verzorgers/
END:VEVENT
BEGIN:VEVENT
DTSTART;TZID=UTC:20200910T170000
DTEND;TZID=UTC:20200910T180000
DTSTAMP:20260422T022333
CREATED:20200827T073722Z
LAST-MODIFIED:20200827T073722Z
UID:1536-1599757200-1599760800@www.manegezwolle.nl
SUMMARY:Theorieavond F2
DESCRIPTION:  \nTheorie avond F2 \nTijdens de F-proeven wordt niet alleen gekeken naar de praktijk in de rijbaan\, maar ook de theorie is belangrijk. Bij alle even proefnummers wordt er ook een theorietoets afgenomen. \nDeze theorie kan je vinden in het boek “Leer paardrijden met plezier” van de KNHS. \n  \nTijdens de F-proevendag van 27 september wordt er voor de ruiter van de F2 ook een theorie toets afgenomen. Deze theorie kan je thuis zelf leren\, maar ook kan je naar de theorieavond die wordt georganiseerd bij Manege Zwolle. \nTijdens deze avond wordt alle theorie uitgelegd die je moet kennen voor de toets van de proevendag zodat je goed bent voorbereid. \n  \nVoor wie?  \nAlle ruiters die de proef F2 rijden op 27 september 2020 \n  \nWanneer? \nDonderdag 10 september om 17.00 uur \n  \nKosten: \nHeb je al een boek? Dan is het € 5\,- per persoon \n  \nHeb je nog geen boek? Dan is het € 15\,- per persoon en krijg je deze avond het theorieboek \n  \nOpgeven: \nOpgeven kan bij de bar op de opgavelijst of via de mail (info@manegezwolle.nl) \n 
URL:https://www.manegezwolle.nl/event/theorieavond-f2-3/
END:VEVENT
END:VCALENDAR