BEGIN:VCALENDAR
VERSION:2.0
PRODID:-//Manege Zwolle - ECPv6.15.20//NONSGML v1.0//EN
CALSCALE:GREGORIAN
METHOD:PUBLISH
X-WR-CALNAME:Manege Zwolle
X-ORIGINAL-URL:https://www.manegezwolle.nl
X-WR-CALDESC:Evenementen voor Manege Zwolle
REFRESH-INTERVAL;VALUE=DURATION:PT1H
X-Robots-Tag:noindex
X-PUBLISHED-TTL:PT1H
BEGIN:VTIMEZONE
TZID:UTC
BEGIN:STANDARD
TZOFFSETFROM:+0000
TZOFFSETTO:+0000
TZNAME:UTC
DTSTART:20200101T000000
END:STANDARD
END:VTIMEZONE
BEGIN:VEVENT
DTSTART;TZID=UTC:20220212T170000
DTEND;TZID=UTC:20220212T200000
DTSTAMP:20260422T220033
CREATED:20220123T171141Z
LAST-MODIFIED:20220123T171141Z
UID:2068-1644685200-1644696000@www.manegezwolle.nl
SUMMARY:Vaardigheid en S proeven
DESCRIPTION:Vaardigheid en S proeven avond vanaf 17.00 uur
URL:https://www.manegezwolle.nl/event/vaardigheid-en-s-proeven/
END:VEVENT
BEGIN:VEVENT
DTSTART;TZID=UTC:20220206T080000
DTEND;TZID=UTC:20220206T170000
DTSTAMP:20260422T220033
CREATED:20211007T160146Z
LAST-MODIFIED:20211007T160146Z
UID:1942-1644134400-1644166800@www.manegezwolle.nl
SUMMARY:F proevendag F1 en F2
DESCRIPTION:F proevendag F1 en F2\nGeef je op via het inschrijfformulier op de website!
URL:https://www.manegezwolle.nl/event/f-proevendag-f1-en-f2-3/
END:VEVENT
BEGIN:VEVENT
DTSTART;TZID=UTC:20220202T180000
DTEND;TZID=UTC:20220202T200000
DTSTAMP:20260422T220033
CREATED:20220123T172136Z
LAST-MODIFIED:20220123T175039Z
UID:2070-1643824800-1643832000@www.manegezwolle.nl
SUMMARY:Theorieavond F2
DESCRIPTION:Tijdens de F-proeven wordt niet alleen gekeken naar de praktijk in de rijbaan\, maar ook de theorie is belangrijk. Bij alle even proefnummers wordt er ook een theorietoets afgenomen. \nDeze theorie kan je vinden in het boek “Leer paardrijden met plezier” van de KNHS. \n  \nTijdens de F-proevendag van 6 februari 2022 wordt er voor de ruiter van de F2 ook een theorie toets afgenomen. Deze theorie kan je thuis zelf leren\, maar ook kan je naar de theorieavond die wordt georganiseerd bij Manege Zwolle. \nTijdens deze avond wordt alle theorie uitgelegd die je moet kennen voor de toets zodat je goed bent voorbereid. \n  \nVoor wie?  \nAlle ruiters die de proef F2 rijden op 6 februari 2022 \n  \nWanneer? \nWoensdag 2 februari van 18.00-19.00 uur \n  \nKosten: \nHeb je al een boek? Dan is het € 5\,- per persoon \n  \nHeb je nog geen boek? Dan is het € 15\,- per persoon en krijg je deze avond het theorieboek
URL:https://www.manegezwolle.nl/event/theorieavond-f2-4/
END:VEVENT
BEGIN:VEVENT
DTSTART;TZID=UTC:20220123T080000
DTEND;TZID=UTC:20220123T170000
DTSTAMP:20260422T220033
CREATED:20211007T161018Z
LAST-MODIFIED:20211007T161018Z
UID:1952-1642924800-1642957200@www.manegezwolle.nl
SUMMARY:KNHS Dressuur
DESCRIPTION:Kijk in mijnKNHS voor meer informatie en opgave
URL:https://www.manegezwolle.nl/event/knhs-dressuur-32/
END:VEVENT
BEGIN:VEVENT
DTSTART;TZID=UTC:20220116T080000
DTEND;TZID=UTC:20220116T170000
DTSTAMP:20260422T220033
CREATED:20211007T160826Z
LAST-MODIFIED:20211007T160826Z
UID:1950-1642320000-1642352400@www.manegezwolle.nl
SUMMARY:KNHS Dressuur
DESCRIPTION:Kijk in mijnKNHS voor meer informatie en opgave
URL:https://www.manegezwolle.nl/event/knhs-dressuur-31/
END:VEVENT
BEGIN:VEVENT
DTSTART;TZID=UTC:20220115T180000
DTEND;TZID=UTC:20220115T220000
DTSTAMP:20260422T220033
CREATED:20211007T160541Z
LAST-MODIFIED:20211007T160742Z
UID:1944-1642269600-1642284000@www.manegezwolle.nl
SUMMARY:KNHS Dressuur avond
DESCRIPTION:Kijk in mijnKNHS voor meer informatie en opgave
URL:https://www.manegezwolle.nl/event/knhs-dressuur-avond-2/
END:VEVENT
BEGIN:VEVENT
DTSTART;TZID=UTC:20220109T080000
DTEND;TZID=UTC:20220109T170000
DTSTAMP:20260422T220033
CREATED:20211007T155850Z
LAST-MODIFIED:20211007T155850Z
UID:1936-1641715200-1641747600@www.manegezwolle.nl
SUMMARY:F proevendag F3 en hoger
DESCRIPTION:F proevendag F3 en hoger\nGeef je op via het inschrijfformulier op de website!
URL:https://www.manegezwolle.nl/event/f-proevendag-f3-en-hoger-3/
END:VEVENT
BEGIN:VEVENT
DTSTART;TZID=UTC:20220104T100000
DTEND;TZID=UTC:20220107T130000
DTSTAMP:20260422T220033
CREATED:20211104T192917Z
LAST-MODIFIED:20211104T192917Z
UID:2006-1641290400-1641560400@www.manegezwolle.nl
SUMMARY:Mini ponykamp
DESCRIPTION:Dinsdag 4 t/m 7 januari:  Miniponykamp 4 dagen van 10.00-13.00 uur \nVoor wie? \nIedereen vanaf 6 jaar met rijervaring \nKosten: \n€ 120\,- per persoon \nOpgeven: \nJe kan je opgeven op het inschrijfformulier\, deze is verkrijgbaar op de manege
URL:https://www.manegezwolle.nl/event/mini-ponykamp/
END:VEVENT
BEGIN:VEVENT
DTSTART;TZID=UTC:20220101T080000
DTEND;TZID=UTC:20220101T170000
DTSTAMP:20260422T220033
CREATED:20211206T123333Z
LAST-MODIFIED:20211206T123333Z
UID:2039-1641024000-1641056400@www.manegezwolle.nl
SUMMARY:Nieuwjaarsdag\, GEEN les!
DESCRIPTION:Nieuwjaarsdag\, GEEN les!
URL:https://www.manegezwolle.nl/event/nieuwjaarsdag-geen-les/
END:VEVENT
BEGIN:VEVENT
DTSTART;VALUE=DATE:20211231
DTEND;VALUE=DATE:20220101
DTSTAMP:20260422T220033
CREATED:20211206T123307Z
LAST-MODIFIED:20211206T123307Z
UID:2037-1640908800-1640995199@www.manegezwolle.nl
SUMMARY:Oudjaarsdag\, GEEN les!
DESCRIPTION:Oudjaarsdag\, GEEN les!
URL:https://www.manegezwolle.nl/event/oudjaarsdag-geen-les/
END:VEVENT
BEGIN:VEVENT
DTSTART;TZID=UTC:20211230T110000
DTEND;TZID=UTC:20211230T120000
DTSTAMP:20260422T220033
CREATED:20211104T192553Z
LAST-MODIFIED:20211104T192553Z
UID:2002-1640862000-1640865600@www.manegezwolle.nl
SUMMARY:Vrijrijden
DESCRIPTION:Donderdag 30 december:  Vrijrijden van 11.00-12.00 uur \nVoor wie? \nIedereen die bij Manege Zwolle in de uurslessen rijdt mag meedoen! \nKosten: \n€ 17\,50 per persoon \nOpgeven: \nJe kan je opgeven op het formulier bij de bar of via de mail!
URL:https://www.manegezwolle.nl/event/vrijrijden-2/
END:VEVENT
BEGIN:VEVENT
DTSTART;TZID=UTC:20211229T100000
DTEND;TZID=UTC:20211229T130000
DTSTAMP:20260422T220033
CREATED:20211104T192745Z
LAST-MODIFIED:20211104T192745Z
UID:2004-1640772000-1640782800@www.manegezwolle.nl
SUMMARY:Spelletjesochtend
DESCRIPTION:Woensdag 29 december:   Spelletjesochtend van 10.00-13.00 uur \nVoor wie? \nIedereen mag meedoen van 5 tot 12 jaar\, je hoeft niet bij de manege te rijden of rijervaring te hebben \nKosten: \n€ 12\,50 per persoon \nOpgeven: \nJe kan je opgeven op het formulier bij de bar of via de mail!
URL:https://www.manegezwolle.nl/event/spelletjesochtend/
END:VEVENT
BEGIN:VEVENT
DTSTART;TZID=UTC:20211228T110000
DTEND;TZID=UTC:20211228T110000
DTSTAMP:20260422T220033
CREATED:20211104T192512Z
LAST-MODIFIED:20211104T192512Z
UID:2000-1640689200-1640689200@www.manegezwolle.nl
SUMMARY:Vrijrijden
DESCRIPTION:Dinsdag 28 december:      Vrijrijden van 11.00-12.00 uur \nVoor wie? \nIedereen die bij Manege Zwolle in d e uurslessen rijdt mag meedoen! \nKosten: \n€ 17\,50 per persoon \nOpgeven: \nJe kan je opgeven op het formulier bij de bar of via de mail!
URL:https://www.manegezwolle.nl/event/vrijrijden/
END:VEVENT
BEGIN:VEVENT
DTSTART;VALUE=DATE:20211225
DTEND;VALUE=DATE:20211226
DTSTAMP:20260422T220033
CREATED:20211206T123233Z
LAST-MODIFIED:20211206T123233Z
UID:2035-1640390400-1640476799@www.manegezwolle.nl
SUMMARY:Kerst\, GEEN les!
DESCRIPTION:Kerst\, GEEN les!
URL:https://www.manegezwolle.nl/event/kerst-geen-les/
END:VEVENT
BEGIN:VEVENT
DTSTART;TZID=UTC:20211224T150000
DTEND;TZID=UTC:20211224T210000
DTSTAMP:20260422T220033
CREATED:20211206T123419Z
LAST-MODIFIED:20211206T123431Z
UID:2041-1640358000-1640379600@www.manegezwolle.nl
SUMMARY:Kerstavond\, GEEN les vanaf 15.00 uur!
DESCRIPTION:Kerstavond\, GEEN les vanaf 15.00 uur!
URL:https://www.manegezwolle.nl/event/kerstavond-geen-les-vanaf-15-00-uur/
END:VEVENT
BEGIN:VEVENT
DTSTART;TZID=UTC:20211205T080000
DTEND;TZID=UTC:20211205T170000
DTSTAMP:20260422T220033
CREATED:20211006T200458Z
LAST-MODIFIED:20211006T200458Z
UID:1928-1638691200-1638723600@www.manegezwolle.nl
SUMMARY:KNHS Dressuur
DESCRIPTION:KNHS Dressuur \nKijk in mijnKNHS voor meer informatie en opgave
URL:https://www.manegezwolle.nl/event/knhs-dressuur-30/
END:VEVENT
BEGIN:VEVENT
DTSTART;TZID=UTC:20211128T080000
DTEND;TZID=UTC:20211128T170000
DTSTAMP:20260422T220033
CREATED:20211006T200230Z
LAST-MODIFIED:20211006T200230Z
UID:1920-1638086400-1638118800@www.manegezwolle.nl
SUMMARY:F proevendag F3 en hoger
DESCRIPTION:F proevendag F3 en hoger\nGeef je op via het inschrijfformulier op de website!
URL:https://www.manegezwolle.nl/event/f-proevendag-f3-en-hoger-2/
END:VEVENT
BEGIN:VEVENT
DTSTART;TZID=UTC:20211121T080000
DTEND;TZID=UTC:20211121T170000
DTSTAMP:20260422T220033
CREATED:20211006T200714Z
LAST-MODIFIED:20211006T200714Z
UID:1934-1637481600-1637514000@www.manegezwolle.nl
SUMMARY:Kwartfinale Zitcompetitie
DESCRIPTION:Kwartfinale Zitcompetitie KNHS
URL:https://www.manegezwolle.nl/event/kwartfinale-zitcompetitie/
END:VEVENT
BEGIN:VEVENT
DTSTART;TZID=UTC:20211117T183000
DTEND;TZID=UTC:20211117T193000
DTSTAMP:20260422T220033
CREATED:20211104T192010Z
LAST-MODIFIED:20211104T192010Z
UID:1994-1637173800-1637177400@www.manegezwolle.nl
SUMMARY:Voorleescursus
DESCRIPTION:Voorleescursus voor ouders/verzorgers vanaf de F3
URL:https://www.manegezwolle.nl/event/voorleescursus-4/
END:VEVENT
BEGIN:VEVENT
DTSTART;TZID=UTC:20211107T080000
DTEND;TZID=UTC:20211107T170000
DTSTAMP:20260422T220033
CREATED:20211006T200433Z
LAST-MODIFIED:20211006T200433Z
UID:1926-1636272000-1636304400@www.manegezwolle.nl
SUMMARY:KNHS Dressuur
DESCRIPTION:KNHS Dressuur \nKijk in mijnKNHS voor meer informatie en opgave
URL:https://www.manegezwolle.nl/event/knhs-dressuur-29/
END:VEVENT
BEGIN:VEVENT
DTSTART;TZID=UTC:20211024T080000
DTEND;TZID=UTC:20211024T170000
DTSTAMP:20260422T220033
CREATED:20211006T200400Z
LAST-MODIFIED:20211006T200400Z
UID:1924-1635062400-1635094800@www.manegezwolle.nl
SUMMARY:KNHS Dressuur
DESCRIPTION:KNHS Dressuur \nKijk in mijnKNHS voor meer informatie en opgave
URL:https://www.manegezwolle.nl/event/knhs-dressuur-28/
END:VEVENT
BEGIN:VEVENT
DTSTART;TZID=UTC:20211017T080000
DTEND;TZID=UTC:20211017T170000
DTSTAMP:20260422T220033
CREATED:20211006T200130Z
LAST-MODIFIED:20211006T200130Z
UID:1918-1634457600-1634490000@www.manegezwolle.nl
SUMMARY:F proevendag F3 en hoger
DESCRIPTION:F proevendag F3 en hoger\nGeef je op via het inschrijfformulier op de website! \n 
URL:https://www.manegezwolle.nl/event/f-proevendag-f3-en-hoger/
END:VEVENT
BEGIN:VEVENT
DTSTART;TZID=UTC:20211010T080000
DTEND;TZID=UTC:20211010T170000
DTSTAMP:20260422T220033
CREATED:20211006T200315Z
LAST-MODIFIED:20211006T200315Z
UID:1922-1633852800-1633885200@www.manegezwolle.nl
SUMMARY:F proevendag F1 en F2
DESCRIPTION:F proevendag F1 en F2\nGeef je op via het inschrijfformulier op de website!
URL:https://www.manegezwolle.nl/event/f-proevendag-f1-en-f2-2/
END:VEVENT
BEGIN:VEVENT
DTSTART;TZID=UTC:20210925T080000
DTEND;TZID=UTC:20210926T170000
DTSTAMP:20260422T220033
CREATED:20210602T165339Z
LAST-MODIFIED:20210602T165339Z
UID:1748-1632556800-1632675600@www.manegezwolle.nl
SUMMARY:KNHS dressuur
DESCRIPTION:KNHS dressuur outdoor \nkijk voor meer informatie op www.startlijsten.nl
URL:https://www.manegezwolle.nl/event/knhs-dressuur-27/
END:VEVENT
BEGIN:VEVENT
DTSTART;TZID=UTC:20210915T100000
DTEND;TZID=UTC:20210915T210000
DTSTAMP:20260422T220033
CREATED:20210602T165511Z
LAST-MODIFIED:20210602T165511Z
UID:1752-1631700000-1631739600@www.manegezwolle.nl
SUMMARY:KNHS springen
DESCRIPTION:KNHS springen outdoor \nkijk voor meer informatie op www.startlijsten.nl
URL:https://www.manegezwolle.nl/event/knhs-springen-10/
END:VEVENT
BEGIN:VEVENT
DTSTART;TZID=UTC:20210911T080000
DTEND;TZID=UTC:20210912T170000
DTSTAMP:20260422T220033
CREATED:20210602T165303Z
LAST-MODIFIED:20210602T165303Z
UID:1746-1631347200-1631466000@www.manegezwolle.nl
SUMMARY:KNHS dressuur
DESCRIPTION:KNHS dressuur outdoor \nkijk voor meer informatie op www.startlijsten.nl
URL:https://www.manegezwolle.nl/event/knhs-dressuur-26/
END:VEVENT
BEGIN:VEVENT
DTSTART;TZID=UTC:20210901T090000
DTEND;TZID=UTC:20210901T210000
DTSTAMP:20260422T220033
CREATED:20210602T165435Z
LAST-MODIFIED:20210602T165435Z
UID:1750-1630486800-1630530000@www.manegezwolle.nl
SUMMARY:KNHS springen
DESCRIPTION:KNHS springen outdoor \nkijk voor meer informatie op www.startlijsten.nl
URL:https://www.manegezwolle.nl/event/knhs-springen-9/
END:VEVENT
BEGIN:VEVENT
DTSTART;TZID=UTC:20210828T080000
DTEND;TZID=UTC:20210829T170000
DTSTAMP:20260422T220033
CREATED:20210602T164938Z
LAST-MODIFIED:20210602T164938Z
UID:1744-1630137600-1630256400@www.manegezwolle.nl
SUMMARY:KNHS dressuur
DESCRIPTION:KNHS dressuur outdoor \nkijk voor meer informatie op www.startlijsten.nl
URL:https://www.manegezwolle.nl/event/knhs-dressuur-25/
END:VEVENT
BEGIN:VEVENT
DTSTART;TZID=UTC:20210816T100000
DTEND;TZID=UTC:20210820T163000
DTSTAMP:20260422T220033
CREATED:20210602T163921Z
LAST-MODIFIED:20210602T163921Z
UID:1740-1629108000-1629477000@www.manegezwolle.nl
SUMMARY:Ponykamp
DESCRIPTION:Dag ponykamp\, dagelijks van 10.00-16.30 uur
URL:https://www.manegezwolle.nl/event/ponykamp-3/
END:VEVENT
BEGIN:VEVENT
DTSTART;TZID=UTC:20210726T080000
DTEND;TZID=UTC:20210815T170000
DTSTAMP:20260422T220033
CREATED:20210602T164028Z
LAST-MODIFIED:20210602T164028Z
UID:1742-1627286400-1629046800@www.manegezwolle.nl
SUMMARY:Manege gesloten
DESCRIPTION:Manege gesloten ivm zomervakantie
URL:https://www.manegezwolle.nl/event/manege-gesloten-4/
END:VEVENT
END:VCALENDAR