BEGIN:VCALENDAR
VERSION:2.0
PRODID:-//Manege Zwolle - ECPv6.15.20//NONSGML v1.0//EN
CALSCALE:GREGORIAN
METHOD:PUBLISH
X-WR-CALNAME:Manege Zwolle
X-ORIGINAL-URL:https://www.manegezwolle.nl
X-WR-CALDESC:Evenementen voor Manege Zwolle
REFRESH-INTERVAL;VALUE=DURATION:PT1H
X-Robots-Tag:noindex
X-PUBLISHED-TTL:PT1H
BEGIN:VTIMEZONE
TZID:UTC
BEGIN:STANDARD
TZOFFSETFROM:+0000
TZOFFSETTO:+0000
TZNAME:UTC
DTSTART:20210101T000000
END:STANDARD
END:VTIMEZONE
BEGIN:VEVENT
DTSTART;TZID=UTC:20220625T080000
DTEND;TZID=UTC:20220625T170000
DTSTAMP:20260421T182708
CREATED:20220224T165149Z
LAST-MODIFIED:20220224T165149Z
UID:2158-1656144000-1656176400@www.manegezwolle.nl
SUMMARY:KNHS Oefen Dressuur
DESCRIPTION:KNHS Oefen Dressuur\nmeer informatie vind je op www.startlijsten.nl
URL:https://www.manegezwolle.nl/event/knhs-oefen-dressuur/
END:VEVENT
BEGIN:VEVENT
DTSTART;TZID=UTC:20220622T080000
DTEND;TZID=UTC:20220622T200000
DTSTAMP:20260421T182708
CREATED:20220224T170049Z
LAST-MODIFIED:20220224T170049Z
UID:2180-1655884800-1655928000@www.manegezwolle.nl
SUMMARY:KNHS Springen
DESCRIPTION:KNHS Springen \nmeer informatie vind je op www.startlijsten.nl
URL:https://www.manegezwolle.nl/event/knhs-springen-15/
END:VEVENT
BEGIN:VEVENT
DTSTART;TZID=UTC:20220612T100000
DTEND;TZID=UTC:20220612T170000
DTSTAMP:20260421T182708
CREATED:20220224T170754Z
LAST-MODIFIED:20220224T170754Z
UID:2194-1655028000-1655053200@www.manegezwolle.nl
SUMMARY:Vaardigheid en Springproeven
DESCRIPTION:Vaardigheid 1 en 2\nSpringproeven \nOpgeven kan via de website
URL:https://www.manegezwolle.nl/event/vaardigheid-en-springproeven/
END:VEVENT
BEGIN:VEVENT
DTSTART;TZID=UTC:20220609T080000
DTEND;TZID=UTC:20220612T170000
DTSTAMP:20260421T182708
CREATED:20220224T170303Z
LAST-MODIFIED:20220224T170303Z
UID:2188-1654761600-1655053200@www.manegezwolle.nl
SUMMARY:Jumping de Peperbus
DESCRIPTION:Jumping de Peperbus \nKNHS Springen \nmeer informatie vind je op www.startlijsten.nl
URL:https://www.manegezwolle.nl/event/jumping-de-peperbus-2/
END:VEVENT
BEGIN:VEVENT
DTSTART;TZID=UTC:20220605T100000
DTEND;TZID=UTC:20220605T170000
DTSTAMP:20260421T182708
CREATED:20220224T164643Z
LAST-MODIFIED:20220224T164643Z
UID:2142-1654423200-1654448400@www.manegezwolle.nl
SUMMARY:F1/F2 proevendag
DESCRIPTION:F1/F2 proevendag
URL:https://www.manegezwolle.nl/event/f1-f2-proevendag-3/
END:VEVENT
BEGIN:VEVENT
DTSTART;TZID=UTC:20220531T080000
DTEND;TZID=UTC:20220605T190000
DTSTAMP:20260421T182708
CREATED:20220224T170540Z
LAST-MODIFIED:20220224T170540Z
UID:2192-1653984000-1654455600@www.manegezwolle.nl
SUMMARY:Zwolse Ruiterdagen Dressuur
DESCRIPTION:Zwolse Ruiterdagen \nKNHS Dressuur \nmeer informatie vind je op www.startlijsten.nl
URL:https://www.manegezwolle.nl/event/zwolse-ruiterdagen-dressuur-2/
END:VEVENT
BEGIN:VEVENT
DTSTART;TZID=UTC:20220525T080000
DTEND;TZID=UTC:20220525T200000
DTSTAMP:20260421T182708
CREATED:20220224T170023Z
LAST-MODIFIED:20220224T170023Z
UID:2178-1653465600-1653508800@www.manegezwolle.nl
SUMMARY:KNHS Springen
DESCRIPTION:KNHS Springen \nmeer informatie vind je op www.startlijsten.nl
URL:https://www.manegezwolle.nl/event/knhs-springen-14/
END:VEVENT
BEGIN:VEVENT
DTSTART;TZID=UTC:20220515T100000
DTEND;TZID=UTC:20220515T170000
DTSTAMP:20260421T182708
CREATED:20220224T164749Z
LAST-MODIFIED:20220224T164749Z
UID:2146-1652608800-1652634000@www.manegezwolle.nl
SUMMARY:F3+ proevendag
DESCRIPTION:F3+ proevendag
URL:https://www.manegezwolle.nl/event/f3-proevendag-3/
END:VEVENT
BEGIN:VEVENT
DTSTART;TZID=UTC:20220514T080000
DTEND;TZID=UTC:20220515T170000
DTSTAMP:20260421T182708
CREATED:20220224T165057Z
LAST-MODIFIED:20220224T165057Z
UID:2154-1652515200-1652634000@www.manegezwolle.nl
SUMMARY:KNHS Dressuur
DESCRIPTION:KNHS Dressuur\nmeer informatie vind je op www.startlijsten.nl
URL:https://www.manegezwolle.nl/event/knhs-dressuur-39/
END:VEVENT
BEGIN:VEVENT
DTSTART;TZID=UTC:20220511T080000
DTEND;TZID=UTC:20220511T210000
DTSTAMP:20260421T182708
CREATED:20220224T165946Z
LAST-MODIFIED:20220224T165946Z
UID:2176-1652256000-1652302800@www.manegezwolle.nl
SUMMARY:KNHS Springen
DESCRIPTION:KNHS Springen \nmeer informatie vind je op www.startlijsten.nl
URL:https://www.manegezwolle.nl/event/knhs-springen-13/
END:VEVENT
BEGIN:VEVENT
DTSTART;TZID=UTC:20220503T100000
DTEND;TZID=UTC:20220506T130000
DTSTAMP:20260421T182708
CREATED:20220430T085048Z
LAST-MODIFIED:20220430T085048Z
UID:2294-1651572000-1651842000@www.manegezwolle.nl
SUMMARY:Mini Ponykamp
DESCRIPTION:In de mei vakantie hebben we een miniponykamp van dinsdag t/m vrijdag
URL:https://www.manegezwolle.nl/event/mini-ponykamp-3/
END:VEVENT
BEGIN:VEVENT
DTSTART;TZID=UTC:20220503T080000
DTEND;TZID=UTC:20220508T200000
DTSTAMP:20260421T182708
CREATED:20220224T170404Z
LAST-MODIFIED:20220224T170404Z
UID:2190-1651564800-1652040000@www.manegezwolle.nl
SUMMARY:Zwolse Ruiterdagen Springen
DESCRIPTION:Zwolse Ruiterdagen \nKNHS Springen \nmeer informatie vind je op www.startlijsten.nl
URL:https://www.manegezwolle.nl/event/zwolse-ruiterdagen-springen-2/
END:VEVENT
BEGIN:VEVENT
DTSTART;TZID=UTC:20220427T080000
DTEND;TZID=UTC:20220427T200000
DTSTAMP:20260421T182708
CREATED:20220224T165855Z
LAST-MODIFIED:20220224T165855Z
UID:2174-1651046400-1651089600@www.manegezwolle.nl
SUMMARY:KNHS Springen
DESCRIPTION:KNHS Springen \nmeer informatie vind je op www.startlijsten.nl
URL:https://www.manegezwolle.nl/event/knhs-springen-12/
END:VEVENT
BEGIN:VEVENT
DTSTART;TZID=UTC:20220424T100000
DTEND;TZID=UTC:20220424T170000
DTSTAMP:20260421T182708
CREATED:20220224T164717Z
LAST-MODIFIED:20220224T164717Z
UID:2144-1650794400-1650819600@www.manegezwolle.nl
SUMMARY:F3+ proevendag
DESCRIPTION:F3+ proevendag
URL:https://www.manegezwolle.nl/event/f3-proevendag-2/
END:VEVENT
BEGIN:VEVENT
DTSTART;TZID=UTC:20220423T090000
DTEND;TZID=UTC:20220424T170000
DTSTAMP:20260421T182708
CREATED:20220224T165019Z
LAST-MODIFIED:20220224T165019Z
UID:2152-1650704400-1650819600@www.manegezwolle.nl
SUMMARY:KNHS Dressuur
DESCRIPTION:KNHS Dressuur\nmeer informatie vind je op www.startlijsten.nl
URL:https://www.manegezwolle.nl/event/knhs-dressuur-38/
END:VEVENT
BEGIN:VEVENT
DTSTART;TZID=UTC:20220413T080000
DTEND;TZID=UTC:20220413T200000
DTSTAMP:20260421T182708
CREATED:20220224T165829Z
LAST-MODIFIED:20220224T165829Z
UID:2172-1649836800-1649880000@www.manegezwolle.nl
SUMMARY:KNHS Springen
DESCRIPTION:KNHS Springen \nmeer informatie vind je op www.startlijsten.nl
URL:https://www.manegezwolle.nl/event/knhs-springen-11/
END:VEVENT
BEGIN:VEVENT
DTSTART;TZID=UTC:20220403T100000
DTEND;TZID=UTC:20220403T170000
DTSTAMP:20260421T182708
CREATED:20220224T164556Z
LAST-MODIFIED:20220224T164556Z
UID:2140-1648980000-1649005200@www.manegezwolle.nl
SUMMARY:F1/F2 proevendag
DESCRIPTION:F1/F2 proevendag
URL:https://www.manegezwolle.nl/event/f1-f2-proevendag-2/
END:VEVENT
BEGIN:VEVENT
DTSTART;TZID=UTC:20220402T100000
DTEND;TZID=UTC:20220403T170000
DTSTAMP:20260421T182708
CREATED:20220224T164946Z
LAST-MODIFIED:20220224T164946Z
UID:2150-1648893600-1649005200@www.manegezwolle.nl
SUMMARY:KNHS Dressuur
DESCRIPTION:KNHS Dressuur\nmeer informatie vind je op www.startlijsten.nl
URL:https://www.manegezwolle.nl/event/knhs-dressuur-37/
END:VEVENT
BEGIN:VEVENT
DTSTART;TZID=UTC:20220330T190000
DTEND;TZID=UTC:20220330T210000
DTSTAMP:20260421T182708
CREATED:20220217T124747Z
LAST-MODIFIED:20220217T124747Z
UID:2128-1648666800-1648674000@www.manegezwolle.nl
SUMMARY:Ouderactie
DESCRIPTION:Speciale kennismakingslessen voor ouders van ruiters bij Manege Zwolle
URL:https://www.manegezwolle.nl/event/ouderactie/
END:VEVENT
BEGIN:VEVENT
DTSTART;TZID=UTC:20220327T080000
DTEND;TZID=UTC:20220327T170000
DTSTAMP:20260421T182708
CREATED:20211007T161435Z
LAST-MODIFIED:20211007T161435Z
UID:1960-1648368000-1648400400@www.manegezwolle.nl
SUMMARY:KNHS Dressuur
DESCRIPTION:Kijk in mijnKNHS voor meer informatie en opgave
URL:https://www.manegezwolle.nl/event/knhs-dressuur-36/
END:VEVENT
BEGIN:VEVENT
DTSTART;TZID=UTC:20220326T180000
DTEND;TZID=UTC:20220326T220000
DTSTAMP:20260421T182708
CREATED:20211007T160648Z
LAST-MODIFIED:20211007T160648Z
UID:1948-1648317600-1648332000@www.manegezwolle.nl
SUMMARY:KNHS Dressuur avond
DESCRIPTION:Kijk in mijnKNHS voor meer informatie en opgave
URL:https://www.manegezwolle.nl/event/knhs-dressuur-avond-4/
END:VEVENT
BEGIN:VEVENT
DTSTART;TZID=UTC:20220323T190000
DTEND;TZID=UTC:20220323T210000
DTSTAMP:20260421T182708
CREATED:20211104T192118Z
LAST-MODIFIED:20220217T124716Z
UID:1996-1648062000-1648069200@www.manegezwolle.nl
SUMMARY:Ouderactie
DESCRIPTION:Speciale kennismakingslessen voor ouders van ruiters bij Manege Zwolle
URL:https://www.manegezwolle.nl/event/ouderactie-1-2/
END:VEVENT
BEGIN:VEVENT
DTSTART;TZID=UTC:20220320T080000
DTEND;TZID=UTC:20220320T170000
DTSTAMP:20260421T182708
CREATED:20211007T155941Z
LAST-MODIFIED:20211007T155941Z
UID:1940-1647763200-1647795600@www.manegezwolle.nl
SUMMARY:F proevendag F3 en hoger
DESCRIPTION:F proevendag F3 en hoger\nGeef je op via het inschrijfformulier op de website!
URL:https://www.manegezwolle.nl/event/f-proevendag-f3-en-hoger-5/
END:VEVENT
BEGIN:VEVENT
DTSTART;TZID=UTC:20220316T183000
DTEND;TZID=UTC:20220316T193000
DTSTAMP:20260421T182708
CREATED:20220127T120339Z
LAST-MODIFIED:20220127T120339Z
UID:2087-1647455400-1647459000@www.manegezwolle.nl
SUMMARY:Voorleescursus
DESCRIPTION:Voorleescursus voor de ouders/verzorgers. \nVanaf de F3 dient iedereen zelf een voorlezer te regelen.
URL:https://www.manegezwolle.nl/event/voorleescursus-5/
END:VEVENT
BEGIN:VEVENT
DTSTART;TZID=UTC:20220313T080000
DTEND;TZID=UTC:20220313T170000
DTSTAMP:20260421T182708
CREATED:20211006T200607Z
LAST-MODIFIED:20211202T124817Z
UID:1932-1647158400-1647190800@www.manegezwolle.nl
SUMMARY:Pas de Deux
DESCRIPTION:Jaarlijkse Pas de Deux \nGeef je op via het formulier op de manege \n  \nDeze was oorspronkelijk op 12 dec\, maar door de corona maatregelen verzet naar 13 maart
URL:https://www.manegezwolle.nl/event/pas-de-deux-5/
END:VEVENT
BEGIN:VEVENT
DTSTART;TZID=UTC:20220306T080000
DTEND;TZID=UTC:20220306T170000
DTSTAMP:20260421T182708
CREATED:20211007T161417Z
LAST-MODIFIED:20211007T161417Z
UID:1958-1646553600-1646586000@www.manegezwolle.nl
SUMMARY:KNHS Dressuur
DESCRIPTION:Kijk in mijnKNHS voor meer informatie en opgave
URL:https://www.manegezwolle.nl/event/knhs-dressuur-35/
END:VEVENT
BEGIN:VEVENT
DTSTART;TZID=UTC:20220227T080000
DTEND;TZID=UTC:20220227T170000
DTSTAMP:20260421T182708
CREATED:20211007T161301Z
LAST-MODIFIED:20211007T161301Z
UID:1956-1645948800-1645981200@www.manegezwolle.nl
SUMMARY:KNHS Dressuur
DESCRIPTION:Kijk in mijnKNHS voor meer informatie en opgave
URL:https://www.manegezwolle.nl/event/knhs-dressuur-34/
END:VEVENT
BEGIN:VEVENT
DTSTART;TZID=UTC:20220226T180000
DTEND;TZID=UTC:20220226T220000
DTSTAMP:20260421T182708
CREATED:20211007T160619Z
LAST-MODIFIED:20211007T160619Z
UID:1946-1645898400-1645912800@www.manegezwolle.nl
SUMMARY:KNHS Dressuur avond
DESCRIPTION:Kijk in mijnKNHS voor meer informatie en opgave
URL:https://www.manegezwolle.nl/event/knhs-dressuur-avond-3/
END:VEVENT
BEGIN:VEVENT
DTSTART;TZID=UTC:20220222T100000
DTEND;TZID=UTC:20220225T130000
DTSTAMP:20260421T182708
CREATED:20220123T175200Z
LAST-MODIFIED:20220123T175442Z
UID:2072-1645524000-1645794000@www.manegezwolle.nl
SUMMARY:Mini Ponykamp
DESCRIPTION:Voorjaarsvakantie\n22 t/m 25 februari 2022\n10.00– 13.00 uur \nDeze week heb je je ‘eigen’ pony of paard en ga je allerlei leuke dingen doen samen.  Iedere dag ga je uiteraard rijden en er staan allerlei leuke dingen op het programma!\nRijervaring is verplicht!\nLeeftijd vanaf 6 jaar \nKosten: € 120\,- \n  \n 
URL:https://www.manegezwolle.nl/event/mini-ponykamp-2/
END:VEVENT
BEGIN:VEVENT
DTSTART;TZID=UTC:20220220T080000
DTEND;TZID=UTC:20220220T170000
DTSTAMP:20260421T182708
CREATED:20211007T155910Z
LAST-MODIFIED:20211007T155910Z
UID:1938-1645344000-1645376400@www.manegezwolle.nl
SUMMARY:F proevendag F3 en hoger
DESCRIPTION:F proevendag F3 en hoger\nGeef je op via het inschrijfformulier op de website!
URL:https://www.manegezwolle.nl/event/f-proevendag-f3-en-hoger-4/
END:VEVENT
END:VCALENDAR