BEGIN:VCALENDAR
VERSION:2.0
PRODID:-//Manege Zwolle - ECPv6.15.20//NONSGML v1.0//EN
CALSCALE:GREGORIAN
METHOD:PUBLISH
X-ORIGINAL-URL:https://www.manegezwolle.nl
X-WR-CALDESC:Evenementen voor Manege Zwolle
REFRESH-INTERVAL;VALUE=DURATION:PT1H
X-Robots-Tag:noindex
X-PUBLISHED-TTL:PT1H
BEGIN:VTIMEZONE
TZID:UTC
BEGIN:STANDARD
TZOFFSETFROM:+0000
TZOFFSETTO:+0000
TZNAME:UTC
DTSTART:20240101T000000
END:STANDARD
END:VTIMEZONE
BEGIN:VEVENT
DTSTART;TZID=UTC:20251021T100000
DTEND;TZID=UTC:20251024T163000
DTSTAMP:20260422T215317
CREATED:20250928T081440Z
LAST-MODIFIED:20250928T081440Z
UID:3518-1761040800-1761323400@www.manegezwolle.nl
SUMMARY:Ponykamp herfstvakantie
DESCRIPTION:Ponykamp voor dagen ponyplezier.\n21 t/m 24 oktober 2025 \n 
URL:https://www.manegezwolle.nl/event/ponykamp-herfstvakantie/
END:VEVENT
BEGIN:VEVENT
DTSTART;TZID=UTC:20251026T100000
DTEND;TZID=UTC:20251026T170000
DTSTAMP:20260422T215317
CREATED:20251026T115216Z
LAST-MODIFIED:20251026T115216Z
UID:3574-1761472800-1761498000@www.manegezwolle.nl
SUMMARY:F proevendag
DESCRIPTION:F proeven dag voor alle niveau.\nOpgeven kan via het inschrijfformulier op de website.
URL:https://www.manegezwolle.nl/event/f-proevendag-4/
END:VEVENT
BEGIN:VEVENT
DTSTART;TZID=UTC:20251101T170000
DTEND;TZID=UTC:20251102T200000
DTSTAMP:20260422T215317
CREATED:20251026T111334Z
LAST-MODIFIED:20251026T111334Z
UID:3545-1762016400-1762113600@www.manegezwolle.nl
SUMMARY:KNHS Dressuurwedstrijd
DESCRIPTION:KNHS Dressuurwedstrijd\nZaterdagavond paarden\nZondag paarden en pony’s\nKijk op www.startlijsten.nl en mijnKNHS voor meer informatie en opgeven
URL:https://www.manegezwolle.nl/event/knhs-dressuurwedstrijd/
END:VEVENT
BEGIN:VEVENT
DTSTART;TZID=UTC:20251109T100000
DTEND;TZID=UTC:20251109T170000
DTSTAMP:20260422T215317
CREATED:20251026T114849Z
LAST-MODIFIED:20251026T114855Z
UID:3563-1762682400-1762707600@www.manegezwolle.nl
SUMMARY:F proeven dag
DESCRIPTION:F proeven dag voor alle niveau.\nOpgeven kan via het inschrijfformulier op de website.
URL:https://www.manegezwolle.nl/event/f-proeven-dag-9/
END:VEVENT
BEGIN:VEVENT
DTSTART;TZID=UTC:20251115T170000
DTEND;TZID=UTC:20251116T210000
DTSTAMP:20260422T215317
CREATED:20251026T111552Z
LAST-MODIFIED:20251026T111603Z
UID:3547-1763226000-1763326800@www.manegezwolle.nl
SUMMARY:KNHS Dressuurwedstrijd
DESCRIPTION:KNHS Dressuurwedstrijd\nZaterdagavond paarden\nZondag paarden en pony’s\nKijk op www.startlijsten.nl en mijnKNHS voor meer informatie en opgeven
URL:https://www.manegezwolle.nl/event/knhs-dressuurwedstrijd-2/
END:VEVENT
BEGIN:VEVENT
DTSTART;VALUE=DATE:20251123
DTEND;VALUE=DATE:20251124
DTSTAMP:20260422T215317
CREATED:20251026T163726Z
LAST-MODIFIED:20251026T164056Z
UID:3598-1763856000-1763942399@www.manegezwolle.nl
SUMMARY:Regiofinale NK Manegeruiters
DESCRIPTION:Regiofinale van het NK Manegeruiters \nKlik hier voor meer info: KNHS NK Manegeruiters
URL:https://www.manegezwolle.nl/event/regiofinale-nk-manegeruiters/
END:VEVENT
BEGIN:VEVENT
DTSTART;TZID=UTC:20251130T100000
DTEND;TZID=UTC:20251130T170000
DTSTAMP:20260422T215317
CREATED:20251026T140725Z
LAST-MODIFIED:20251026T141410Z
UID:3585-1764496800-1764522000@www.manegezwolle.nl
SUMMARY:Fotoshoot
DESCRIPTION:Fotoshoot voor jou en je manegetopper!\nFlash fotografie komt langs om jou vast te leggen samen met jouw kanjer.\nopgeven via: info@flash-fotografie.nl \nLet op! VOL=VOL
URL:https://www.manegezwolle.nl/event/fotoshoot/
END:VEVENT
BEGIN:VEVENT
DTSTART;TZID=UTC:20251206T170000
DTEND;TZID=UTC:20251207T210000
DTSTAMP:20260422T215317
CREATED:20251026T111641Z
LAST-MODIFIED:20251026T111641Z
UID:3549-1765040400-1765141200@www.manegezwolle.nl
SUMMARY:KNHS Dressuurwedstrijd
DESCRIPTION:KNHS Dressuurwedstrijd\nZaterdagavond paarden\nZondag paarden en pony’s\nKijk op www.startlijsten.nl en mijnKNHS voor meer informatie en opgeven
URL:https://www.manegezwolle.nl/event/knhs-dressuurwedstrijd-3/
END:VEVENT
BEGIN:VEVENT
DTSTART;TZID=UTC:20251221T100000
DTEND;TZID=UTC:20251221T170000
DTSTAMP:20260422T215317
CREATED:20251026T115100Z
LAST-MODIFIED:20251026T115100Z
UID:3572-1766311200-1766336400@www.manegezwolle.nl
SUMMARY:Pas de Deux
DESCRIPTION:De jaarlijkse Pas de Deux.\nDe proeven zijn te vinden op de website\nOpgeven kan via het formulier op de manege.
URL:https://www.manegezwolle.nl/event/pas-de-deux-8/
END:VEVENT
BEGIN:VEVENT
DTSTART;TZID=UTC:20260110T170000
DTEND;TZID=UTC:20260111T210000
DTSTAMP:20260422T215317
CREATED:20251026T111724Z
LAST-MODIFIED:20251026T114137Z
UID:3551-1768064400-1768165200@www.manegezwolle.nl
SUMMARY:KNHS Dressuurwedstrijd
DESCRIPTION:KNHS Dressuurwedstrijd\nZaterdagavond paarden\nZondag paarden en pony’s\nKijk op www.startlijsten.nl en mijnKNHS voor meer informatie en opgeven
URL:https://www.manegezwolle.nl/event/knhs-dressuurwedstrijd-4/
END:VEVENT
BEGIN:VEVENT
DTSTART;TZID=UTC:20260118T100000
DTEND;TZID=UTC:20260118T170000
DTSTAMP:20260422T215317
CREATED:20251026T114919Z
LAST-MODIFIED:20251026T114919Z
UID:3566-1768730400-1768755600@www.manegezwolle.nl
SUMMARY:F proevendag
DESCRIPTION:F proeven dag voor alle niveau.\nOpgeven kan via het inschrijfformulier op de website.
URL:https://www.manegezwolle.nl/event/f-proevendag/
END:VEVENT
BEGIN:VEVENT
DTSTART;TZID=UTC:20260124T170000
DTEND;TZID=UTC:20260125T210000
DTSTAMP:20260422T215317
CREATED:20251026T114231Z
LAST-MODIFIED:20251026T114231Z
UID:3553-1769274000-1769374800@www.manegezwolle.nl
SUMMARY:KNHS Dressuurwedstrijd
DESCRIPTION:KNHS Dressuurwedstrijd\nZaterdagavond paarden\nZondag paarden en pony’s\nKijk op www.startlijsten.nl en mijnKNHS voor meer informatie en opgeven
URL:https://www.manegezwolle.nl/event/knhs-dressuurwedstrijd-5/
END:VEVENT
BEGIN:VEVENT
DTSTART;TZID=UTC:20260207T170000
DTEND;TZID=UTC:20260208T210000
DTSTAMP:20260422T215317
CREATED:20251026T114326Z
LAST-MODIFIED:20251026T114326Z
UID:3555-1770483600-1770584400@www.manegezwolle.nl
SUMMARY:KNHS Dressuurwedstrijd
DESCRIPTION:KNHS Dressuurwedstrijd\nZaterdagavond paarden\nZondag paarden en pony’s\nKijk op www.startlijsten.nl en mijnKNHS voor meer informatie en opgeven
URL:https://www.manegezwolle.nl/event/knhs-dressuurwedstrijd-6/
END:VEVENT
BEGIN:VEVENT
DTSTART;TZID=UTC:20260215T100000
DTEND;TZID=UTC:20260215T170000
DTSTAMP:20260422T215317
CREATED:20251026T114942Z
LAST-MODIFIED:20251026T114942Z
UID:3568-1771149600-1771174800@www.manegezwolle.nl
SUMMARY:F proevendag
DESCRIPTION:F proeven dag voor alle niveau.\nOpgeven kan via het inschrijfformulier op de website.
URL:https://www.manegezwolle.nl/event/f-proevendag-2/
END:VEVENT
BEGIN:VEVENT
DTSTART;TZID=UTC:20260221T170000
DTEND;TZID=UTC:20260222T210000
DTSTAMP:20260422T215317
CREATED:20251026T114400Z
LAST-MODIFIED:20251026T114400Z
UID:3557-1771693200-1771794000@www.manegezwolle.nl
SUMMARY:KNHS Dressuurwedstrijd
DESCRIPTION:KNHS Dressuurwedstrijd\nZaterdagavond paarden\nZondag paarden en pony’s\nKijk op www.startlijsten.nl en mijnKNHS voor meer informatie en opgeven
URL:https://www.manegezwolle.nl/event/knhs-dressuurwedstrijd-7/
END:VEVENT
BEGIN:VEVENT
DTSTART;TZID=UTC:20260307T170000
DTEND;TZID=UTC:20260308T210000
DTSTAMP:20260422T215317
CREATED:20251026T114435Z
LAST-MODIFIED:20251026T114435Z
UID:3559-1772902800-1773003600@www.manegezwolle.nl
SUMMARY:KNHS Dressuurwedstrijd
DESCRIPTION:KNHS Dressuurwedstrijd\nZaterdagavond paarden\nZondag paarden en pony’s\nKijk op www.startlijsten.nl en mijnKNHS voor meer informatie en opgeven
URL:https://www.manegezwolle.nl/event/knhs-dressuurwedstrijd-8/
END:VEVENT
BEGIN:VEVENT
DTSTART;TZID=UTC:20260315T100000
DTEND;TZID=UTC:20260315T170000
DTSTAMP:20260422T215317
CREATED:20251026T115016Z
LAST-MODIFIED:20251026T115016Z
UID:3570-1773568800-1773594000@www.manegezwolle.nl
SUMMARY:F proevendag
DESCRIPTION:F proeven dag voor alle niveau.\nOpgeven kan via het inschrijfformulier op de website.
URL:https://www.manegezwolle.nl/event/f-proevendag-3/
END:VEVENT
BEGIN:VEVENT
DTSTART;TZID=UTC:20260321T170000
DTEND;TZID=UTC:20260322T210000
DTSTAMP:20260422T215317
CREATED:20251026T114507Z
LAST-MODIFIED:20251026T114518Z
UID:3561-1774112400-1774213200@www.manegezwolle.nl
SUMMARY:KNHS Dressuurwedstrijd
DESCRIPTION:KNHS Dressuurwedstrijd\nZaterdagavond paarden\nZondag paarden en pony’s\nKijk op www.startlijsten.nl en mijnKNHS voor meer informatie en opgeven
URL:https://www.manegezwolle.nl/event/knhs-dressuurwedstrijd-9/
END:VEVENT
BEGIN:VEVENT
DTSTART;TZID=UTC:20260706T100000
DTEND;TZID=UTC:20260710T163000
DTSTAMP:20260422T215317
CREATED:20251026T140056Z
LAST-MODIFIED:20251026T140056Z
UID:3577-1783332000-1783701000@www.manegezwolle.nl
SUMMARY:Ponykamp zomervakantie
DESCRIPTION:Ponykamp Zomervakantie\nVoor meer info: Klik hier
URL:https://www.manegezwolle.nl/event/ponykamp-zomervakantie/
END:VEVENT
BEGIN:VEVENT
DTSTART;TZID=UTC:20260713T100000
DTEND;TZID=UTC:20260717T163000
DTSTAMP:20260422T215317
CREATED:20251026T140127Z
LAST-MODIFIED:20251026T140127Z
UID:3579-1783936800-1784305800@www.manegezwolle.nl
SUMMARY:Ponykamp zomervakantie
DESCRIPTION:Ponykamp Zomervakantie\nVoor meer info: Klik hier
URL:https://www.manegezwolle.nl/event/ponykamp-zomervakantie-2/
END:VEVENT
BEGIN:VEVENT
DTSTART;VALUE=DATE:20260720
DTEND;VALUE=DATE:20260810
DTSTAMP:20260422T215317
CREATED:20251026T140250Z
LAST-MODIFIED:20251026T140256Z
UID:3583-1784505600-1786319999@www.manegezwolle.nl
SUMMARY:Manege gesloten
DESCRIPTION:Manege gesloten\nPaarden & pony’s hebben vakantie
URL:https://www.manegezwolle.nl/event/manege-gesloten-6/
END:VEVENT
BEGIN:VEVENT
DTSTART;TZID=UTC:20260810T100000
DTEND;TZID=UTC:20260814T163000
DTSTAMP:20260422T215317
CREATED:20251026T140155Z
LAST-MODIFIED:20251026T140155Z
UID:3581-1786356000-1786725000@www.manegezwolle.nl
SUMMARY:Ponykamp Zomervakantie
DESCRIPTION:Ponykamp Zomervakantie\nVoor meer info: Klik hier
URL:https://www.manegezwolle.nl/event/ponykamp-zomervakantie-3/
END:VEVENT
END:VCALENDAR