BEGIN:VCALENDAR
VERSION:2.0
PRODID:-//Manege Zwolle - ECPv6.15.20//NONSGML v1.0//EN
CALSCALE:GREGORIAN
METHOD:PUBLISH
X-WR-CALNAME:Manege Zwolle
X-ORIGINAL-URL:https://www.manegezwolle.nl
X-WR-CALDESC:Evenementen voor Manege Zwolle
REFRESH-INTERVAL;VALUE=DURATION:PT1H
X-Robots-Tag:noindex
X-PUBLISHED-TTL:PT1H
BEGIN:VTIMEZONE
TZID:UTC
BEGIN:STANDARD
TZOFFSETFROM:+0000
TZOFFSETTO:+0000
TZNAME:UTC
DTSTART:20150101T000000
END:STANDARD
END:VTIMEZONE
BEGIN:VEVENT
DTSTART;TZID=UTC:20161120T080000
DTEND;TZID=UTC:20161120T170000
DTSTAMP:20260422T185703
CREATED:20161114T201753Z
LAST-MODIFIED:20161114T201753Z
UID:556-1479628800-1479661200@www.manegezwolle.nl
SUMMARY:KNHS dressuurwedstrijd georganiseerd door vereniging "De Haerst"
DESCRIPTION:
URL:https://www.manegezwolle.nl/event/knhs-dressuurwedstrijd-georganiseerd-door-vereniging-de-haerst/
CATEGORIES:KNHS
END:VEVENT
BEGIN:VEVENT
DTSTART;TZID=UTC:20161011T080000
DTEND;TZID=UTC:20161011T170000
DTSTAMP:20260422T185703
CREATED:20161023T190547Z
LAST-MODIFIED:20161011T190725Z
UID:525-1476172800-1476205200@www.manegezwolle.nl
SUMMARY:Dressuur wedstrijd RV de Haest Paarden en Pony's
DESCRIPTION:
URL:https://www.manegezwolle.nl/event/dressuur-wedstrijd-rv-de-haest-paarden-en-ponys-2/
CATEGORIES:KNHS
END:VEVENT
END:VCALENDAR